PDS_VERSION_ID = PDS3
/* FILE DATA ELEMENTS */
RECORD_TYPE = STREAM
/* POINTERS TO DATA OBJECTS */
^COMPRESSED_FILE = "HI070_0000_P13.JP2"
/* IDENTIFICATION DATA ELEMENTS */
DATA_SET_ID = "MEX-M-HRSC-5-REFDR-MAPPROJECTED-V3.0"
DATA_SET_NAME = "MARS EXPRESS HRSC MAP PROJECTED REFDR V3.0"
DETECTOR_ID = MEX_HRSC_P1
EVENT_TYPE = "MARS-REGIONAL-MAPPING-Im-Pf-Eo"
INSTRUMENT_HOST_ID = MEX
INSTRUMENT_HOST_NAME = "MARS EXPRESS"
INSTRUMENT_ID = HRSC
INSTRUMENT_NAME = "HIGH RESOLUTION STEREO CAMERA"
MISSION_NAME = "MARS EXPRESS"
MISSION_PHASE_NAME = ME_Phase_38
PROCESSING_LEVEL_ID = 3
PRODUCT_CREATION_TIME = 2018-09-04T13:05:27.000Z
PRODUCT_ID = "HI070_0000_P13.JP2"
RELEASE_ID = 0140
REVISION_ID = 0000
/* QUALITY DATA ELEMENTS */
DATA_QUALITY_ID = 1
DATA_QUALITY_DESC = "Data calculated based on original SPICE kernels"
/* TIME DATA ELEMENTS */
SPACECRAFT_CLOCK_START_COUNT = "1/0471615970.09086"
SPACECRAFT_CLOCK_STOP_COUNT = "1/0471616233.24958"
START_TIME = 2018-04-12T12:26:30.233Z
STOP_TIME = 2018-04-12T12:29:44.337Z
/* ORBITAL DATA ELEMENTS */
ASCENDING_NODE_LONGITUDE = 234.93
MAXIMUM_RESOLUTION = 63.5
FOOTPRINT_POINT_LATITUDE = (75.066,75.008,74.9386,74.77,74.5014, 74.2325,73.9632,73.6935,73.4233,73.1527 ,72.746,72.4746,72.2031,71.9308,71.6582 ,71.3854,71.1123,70.8389,70.4281, 70.0166,69.742,69.467,69.1916,68.9158, 68.6397,68.3633,68.0865,67.8093,67.3932 ,67.1156,66.8375,66.559,66.2801,66.001, 65.7215,65.4417,65.1615,64.881,64.6001, 64.3187,63.8968,63.4736,63.0498,62.625, 62.3415,62.0573,61.7725,61.4876,61.2022 ,60.8062,60.8528,60.8999,60.9301,60.951 ,60.9718,61.258,61.6872,62.1154,62.4008 ,62.6856,62.97,63.2541,63.5376,63.8209, 64.2457,64.6698,65.093,65.3746,65.6561, 65.9372,66.2181,66.4987,66.7789,67.0591 ,67.339,67.619,67.8982,68.3169,68.5951, 68.8735,69.1516,69.5683,69.8458,70.1232 ,70.4002,70.8155,71.2303,71.6443, 72.0577,72.3333,72.6086,72.8836,73.1587 ,73.433,73.7075,73.9815,74.2554,74.5288 ,74.939,75.066)
FOOTPRINT_POINT_LONGITUDE = (186.794,185.622,184.372,182.904, 183.141,183.368,183.588,183.8,184.005, 184.202,184.486,184.667,184.843,185.012 ,185.176,185.335,185.489,185.639, 185.854,186.06,186.192,186.32,186.444, 186.565,186.682,186.795,186.906,187.013 ,187.169,187.269,187.367,187.462, 187.554,187.643,187.731,187.816,187.899 ,187.979,188.058,188.134,188.246, 188.352,188.455,188.554,188.618,188.681 ,188.741,188.801,188.859,188.936, 189.656,190.495,191.105,191.57,192.045, 192.004,191.939,191.873,191.828,191.782 ,191.735,191.687,191.638,191.588, 191.511,191.431,191.349,191.292,191.235 ,191.176,191.115,191.053,190.99,190.925 ,190.859,190.79,190.72,190.612,190.538, 190.462,190.383,190.261,190.178,190.091 ,190.002,189.864,189.719,189.569, 189.411,189.302,189.189,189.072,188.951 ,188.827,188.698,188.565,188.427, 188.285,188.06,186.794)
ORBIT_NUMBER = 18070
ORBITAL_ECCENTRICITY = 0.57
ORBITAL_INCLINATION = 86.98
ORBITAL_SEMIMAJOR_AXIS = 8757.77
PERIAPSIS_ALTITUDE = 384.92
PERIAPSIS_ARGUMENT_ANGLE = 105.8
PERIAPSIS_TIME = 2018-04-12T12:27:05.000Z
SPACECRAFT_ORIENTATION = (0.0,-1.0,0.0)
^MEX_ORIENTATION_DESC = "MEX_ORIENTATION_DESC.TXT"
SPACECRAFT_POINTING_MODE = INERT
^MEX_POINTING_DESC = "MEX_POINTING_DESC.TXT"
RIGHT_ASCENSION = 162.611
DECLINATION = -62.018
OFFSET_ANGLE = -1e+32
SPACECRAFT_SOLAR_DISTANCE = 2.27047e+08
TARGET_NAME = MARS
/* CAMERA DATA ELEMENTS */
DETECTOR_TEMPERATURE = 17.7588
FOCAL_PLANE_TEMPERATURE = 8.5833
INST_CMPRS_NAME = "DISCRETE COSINE TRANSFORMATION (DCT)"
INST_CMPRS_RATIO = 26.8471
INST_CMPRS_QUALITY = 0
INST_CMPRS_QUANTZ_TBL_ID = 0
INSTRUMENT_TEMPERATURE = 11.8457
LENS_TEMPERATURE = 9.195
MACROPIXEL_SIZE = 4
MISSING_FRAMES = 0
PIXEL_SUBSAMPLING_FLAG = N
SIGNAL_CHAIN_ID = 3
/* RADIOMETRIC DATA ELEMENTS */
BANDWIDTH = 174.0
CENTER_FILTER_WAVELENGTH = 675.0
RADIANCE_OFFSET = 3.0802
RADIANCE_SCALING_FACTOR = 0.0130379
REFLECTANCE_SCALING_FACTOR = 0.000361515
MEX:REFLECTANCE_OFFSET = 0.0854078
/* IMAGE OBJECT DEFINITIONS */
OBJECT = IMAGE
  INTERCHANGE_FORMAT = BINARY
  LINES = 16782
  LINE_SAMPLES = 3565
  SAMPLE_TYPE = UNSIGNED_INTEGER
  SAMPLE_BITS = 8
  BANDS = 1
  BAND_STORAGE_TYPE = BAND_SEQUENTIAL
  MAXIMUM = 255
  MEAN = 112.866
  MINIMUM = 1
  STANDARD_DEVIATION = 45.097
END_OBJECT = IMAGE
/* MAP OBJECT DEFINITIONS */
OBJECT = IMAGE_MAP_PROJECTION
  ^DATA_SET_MAP_PROJECTION_CATALOG= "DSMAP.CAT"
  A_AXIS_RADIUS = 3396.0
  B_AXIS_RADIUS = 3396.0
  C_AXIS_RADIUS = 3396.0
  CENTER_LATITUDE = 0.0
  CENTER_LONGITUDE = 189.0
  COORDINATE_SYSTEM_NAME = PLANETOGRAPHIC
  COORDINATE_SYSTEM_TYPE = "BODY-FIXED ROTATING"
  EASTERNMOST_LONGITUDE = 192.045
  FIRST_STANDARD_PARALLEL = "N/A"
  LINE_FIRST_PIXEL = 1
  LINE_LAST_PIXEL = 16782
  LINE_PROJECTION_OFFSET = 88954.625
  MAP_PROJECTION_ROTATION = 0.0
  MAP_PROJECTION_TYPE = SINUSOIDAL
  MAP_RESOLUTION = 1185.42760773333
  MAP_SCALE = 0.05
  MAXIMUM_LATITUDE = 75.066
  MINIMUM_LATITUDE = 60.8062
  POSITIVE_LONGITUDE_DIRECTION = EAST
  REFERENCE_LATITUDE = "N/A"
  REFERENCE_LONGITUDE = "N/A"
  SAMPLE_FIRST_PIXEL = 1
  SAMPLE_LAST_PIXEL = 3565
  SAMPLE_PROJECTION_OFFSET = 1890.125
  SECOND_STANDARD_PARALLEL = "N/A"
  WESTERNMOST_LONGITUDE = 182.904
END_OBJECT = IMAGE_MAP_PROJECTION
/* The JPEG2000 image data file associated with this label. */
OBJECT = COMPRESSED_FILE
  FILE_NAME = "HI070_0000_P13.JP2"
  RECORD_TYPE = UNDEFINED
  FILE_RECORDS = UNK
  ENCODING_TYPE = "JP2"
  INTERCHANGE_FORMAT = BINARY
  UNCOMPRESSED_FILE_NAME = "HI070_0000_P13.IMG"
  REQUIRED_STORAGE_BYTES = "59849220"
  ^DESCRIPTION = "JP2INFO.TXT"
END_OBJECT = COMPRESSED_FILE
END
