PDS_VERSION_ID = PDS3
/* FILE DATA ELEMENTS */
RECORD_TYPE = STREAM
/* POINTERS TO DATA OBJECTS */
^COMPRESSED_FILE = "HI391_0000_RE3.JP2"
/* IDENTIFICATION DATA ELEMENTS */
DATA_SET_ID = "MEX-M-HRSC-5-REFDR-MAPPROJECTED-V3.0"
DATA_SET_NAME = "MARS EXPRESS HRSC MAP PROJECTED REFDR V3.0"
DETECTOR_ID = MEX_HRSC_RED
EVENT_TYPE = "MARS-TERMINATOR-CALIBRATION-Tc"
INSTRUMENT_HOST_ID = MEX
INSTRUMENT_HOST_NAME = "MARS EXPRESS"
INSTRUMENT_ID = HRSC
INSTRUMENT_NAME = "HIGH RESOLUTION STEREO CAMERA"
MISSION_NAME = "MARS EXPRESS"
MISSION_PHASE_NAME = ME_Phase_39
PROCESSING_LEVEL_ID = 3
PRODUCT_CREATION_TIME = 2019-02-21T11:32:51.000Z
PRODUCT_ID = "HI391_0000_RE3.JP2"
RELEASE_ID = 0141
REVISION_ID = 0000
/* QUALITY DATA ELEMENTS */
DATA_QUALITY_ID = 1
DATA_QUALITY_DESC = "Data calculated based on original SPICE kernels"
/* TIME DATA ELEMENTS */
SPACECRAFT_CLOCK_START_COUNT = "1/0479694339.25667"
SPACECRAFT_CLOCK_STOP_COUNT = "1/0479694842.26063"
START_TIME = 2018-07-15T00:30:25.491Z
STOP_TIME = 2018-07-15T00:34:31.486Z
/* ORBITAL DATA ELEMENTS */
ASCENDING_NODE_LONGITUDE = 229.08
MAXIMUM_RESOLUTION = 778.6
FOOTPRINT_POINT_LATITUDE = (-60.3809,-63.4427,-65.2339,-66.8191, -69.5972,-72.7867,-76.6463,-72.7165, -78.1141,-71.7849,-78.4706,-73.1938, -76.9305,-79.3282,-82.6847,-84.4464, -84.671,-81.8853,-79.4148,-76.6406, -73.9833,-69.508,-63.7365,-60.8669, -57.1327,-52.3157,-48.5252,-43.6981, -39.9644,-35.0844,-31.69,-26.3944, -20.4367,-17.8185,-13.8477,-10.1281, -5.21537,-0.421098,3.82972,8.59699, 11.635,14.5522,19.6059,22.0349,23.2946, 25.391,27.6253,29.8541,33.033,34.1816, 35.461,35.6001,37.8692,38.9689,37.5078, 40.0437,37.1283,31.7018,27.579,24.7822, 19.8525,15.494,10.9281,7.67842,3.94094, -0.406782,-4.03773,-7.28247,-9.69349, -14.4831,-17.5253,-19.7386,-22.0227, -24.3767,-27.4458,-29.5533,-31.8923, -34.3764,-37.5888,-40.2496,-42.758, -44.5103,-45.2085,-45.6273,-45.7893, -45.5524,-45.1687,-44.0717,-42.5681, -41.3917,-39.8665,-42.8009,-42.1578, -45.3063,-47.0167,-50.3834,-55.3089, -57.7371,-60.3809)
FOOTPRINT_POINT_LONGITUDE = (24.7434,21.0555,14.4475,8.79114, 5.62651,355.151,0.0333711,350.038, 359.957,347.463,359.997,349.27,354.855, 0.939283,17.2071,39.1007,85.9934, 119.045,129.682,136.649,141.177,146.535 ,151.276,153.188,155.406,157.992, 159.864,162.126,163.824,166.048,167.58, 170.008,172.845,174.146,176.187,178.172 ,180.973,183.945,186.826,190.411, 192.943,195.596,197.319,194.416,190.755 ,187.673,184.956,182.174,178.467, 175.004,171.313,167.966,163.634,160.568 ,156.392,155.334,154.586,153.154, 152.042,151.266,149.813,148.45,146.917, 145.76,144.347,142.567,140.95,139.395, 138.14,135.398,133.424,131.861,130.114, 128.153,125.284,123.053,120.299,116.942 ,111.696,106.148,99.0384,91.4977, 86.8093,82.2106,77.2868,70.6966,66.8159 ,60.2367,54.2891,50.7271,46.8531,47.758 ,44.1058,44.4497,40.7566,37.429,32.9093 ,27.844,24.7434)
ORBIT_NUMBER = 18391
ORBITAL_ECCENTRICITY = 0.572
ORBITAL_INCLINATION = 86.97
ORBITAL_SEMIMAJOR_AXIS = 8791.11
PERIAPSIS_ALTITUDE = 375.55
PERIAPSIS_ARGUMENT_ANGLE = 50.39
PERIAPSIS_TIME = 2018-07-14T22:00:19.000Z
SPACECRAFT_ORIENTATION = (0.0,1.0,0.0)
^MEX_ORIENTATION_DESC = "MEX_ORIENTATION_DESC.TXT"
SPACECRAFT_POINTING_MODE = FIXED
^MEX_POINTING_DESC = "MEX_POINTING_DESC.TXT"
RIGHT_ASCENSION = -1e+32
DECLINATION = -1e+32
OFFSET_ANGLE = -1e+32
SPACECRAFT_SOLAR_DISTANCE = 2.10836e+08
TARGET_NAME = MARS
/* CAMERA DATA ELEMENTS */
DETECTOR_TEMPERATURE = 18.5744
FOCAL_PLANE_TEMPERATURE = 8.5833
INST_CMPRS_NAME = "DISCRETE COSINE TRANSFORMATION (DCT)"
INST_CMPRS_RATIO = 13.4443
INST_CMPRS_QUALITY = 0
INST_CMPRS_QUANTZ_TBL_ID = 0
INSTRUMENT_TEMPERATURE = 11.4379
LENS_TEMPERATURE = 9.195
MACROPIXEL_SIZE = 2
MISSING_FRAMES = 0
PIXEL_SUBSAMPLING_FLAG = N
SIGNAL_CHAIN_ID = 1
/* RADIOMETRIC DATA ELEMENTS */
BANDWIDTH = 48.0
CENTER_FILTER_WAVELENGTH = 748.0
RADIANCE_OFFSET = 0.0
RADIANCE_SCALING_FACTOR = 0.0191433
REFLECTANCE_SCALING_FACTOR = 0.00194169
MEX:REFLECTANCE_OFFSET = 0.0
/* IMAGE OBJECT DEFINITIONS */
OBJECT = IMAGE
  INTERCHANGE_FORMAT = BINARY
  LINES = 9279
  LINE_SAMPLES = 9498
  SAMPLE_TYPE = UNSIGNED_INTEGER
  SAMPLE_BITS = 8
  BANDS = 1
  BAND_STORAGE_TYPE = BAND_SEQUENTIAL
  MAXIMUM = 255
  MEAN = 170.379
  MINIMUM = 1
  STANDARD_DEVIATION = 63.6259
END_OBJECT = IMAGE
/* MAP OBJECT DEFINITIONS */
OBJECT = IMAGE_MAP_PROJECTION
  ^DATA_SET_MAP_PROJECTION_CATALOG= "DSMAP.CAT"
  A_AXIS_RADIUS = 3396.0
  B_AXIS_RADIUS = 3396.0
  C_AXIS_RADIUS = 3396.0
  CENTER_LATITUDE = 0.0
  CENTER_LONGITUDE = 143.0
  COORDINATE_SYSTEM_NAME = PLANETOGRAPHIC
  COORDINATE_SYSTEM_TYPE = "BODY-FIXED ROTATING"
  EASTERNMOST_LONGITUDE = 360.0
  FIRST_STANDARD_PARALLEL = "N/A"
  LINE_FIRST_PIXEL = 1
  LINE_LAST_PIXEL = 9279
  LINE_PROJECTION_OFFSET = 3039.0
  MAP_PROJECTION_ROTATION = 0.0
  MAP_PROJECTION_TYPE = SINUSOIDAL
  MAP_RESOLUTION = 74.08922548333329
  MAP_SCALE = 0.8
  MAXIMUM_LATITUDE = 40.0437
  MINIMUM_LATITUDE = -90.0
  POSITIVE_LONGITUDE_DIRECTION = EAST
  REFERENCE_LATITUDE = "N/A"
  REFERENCE_LONGITUDE = "N/A"
  SAMPLE_FIRST_PIXEL = 1
  SAMPLE_LAST_PIXEL = 9498
  SAMPLE_PROJECTION_OFFSET = 5537.0
  SECOND_STANDARD_PARALLEL = "N/A"
  WESTERNMOST_LONGITUDE = 0.0
END_OBJECT = IMAGE_MAP_PROJECTION
/* The JPEG2000 image data file associated with this label. */
OBJECT = COMPRESSED_FILE
  FILE_NAME = "HI391_0000_RE3.JP2"
  RECORD_TYPE = UNDEFINED
  FILE_RECORDS = UNK
  ENCODING_TYPE = "JP2"
  INTERCHANGE_FORMAT = BINARY
  UNCOMPRESSED_FILE_NAME = "HI391_0000_RE3.IMG"
  REQUIRED_STORAGE_BYTES = "88160436"
  ^DESCRIPTION = "JP2INFO.TXT"
END_OBJECT = COMPRESSED_FILE
END
