PDS_VERSION_ID = PDS3
/* FILE DATA ELEMENTS */
RECORD_TYPE = STREAM
/* POINTERS TO DATA OBJECTS */
^COMPRESSED_FILE = "HI424_0000_BL3.JP2"
/* IDENTIFICATION DATA ELEMENTS */
DATA_SET_ID = "MEX-M-HRSC-5-REFDR-MAPPROJECTED-V3.0"
DATA_SET_NAME = "MARS EXPRESS HRSC MAP PROJECTED REFDR V3.0"
DETECTOR_ID = MEX_HRSC_BLUE
EVENT_TYPE = "MARS-TERMINATOR-CALIBRATION-Tc"
INSTRUMENT_HOST_ID = MEX
INSTRUMENT_HOST_NAME = "MARS EXPRESS"
INSTRUMENT_ID = HRSC
INSTRUMENT_NAME = "HIGH RESOLUTION STEREO CAMERA"
MISSION_NAME = "MARS EXPRESS"
MISSION_PHASE_NAME = ME_Phase_39
PROCESSING_LEVEL_ID = 3
PRODUCT_CREATION_TIME = 2019-02-21T11:32:51.000Z
PRODUCT_ID = "HI424_0000_BL3.JP2"
RELEASE_ID = 0141
REVISION_ID = 0000
/* QUALITY DATA ELEMENTS */
DATA_QUALITY_ID = 1
DATA_QUALITY_DESC = "Data calculated based on original SPICE kernels"
/* TIME DATA ELEMENTS */
SPACECRAFT_CLOCK_START_COUNT = "1/0480524237.24931"
SPACECRAFT_CLOCK_STOP_COUNT = "1/0480524737.25004"
START_TIME = 2018-07-24T15:00:22.494Z
STOP_TIME = 2018-07-24T15:04:27.485Z
/* ORBITAL DATA ELEMENTS */
ASCENDING_NODE_LONGITUDE = 228.47
MAXIMUM_RESOLUTION = 784.1
FOOTPRINT_POINT_LATITUDE = (-58.2002,-61.3287,-63.8973,-67.1693, -69.852,-71.3298,-74.3726,-75.1645, -77.4969,-80.4205,-81.8662,-81.788, -79.8203,-77.6097,-73.971,-71.625, -68.192,-63.5606,-59.6618,-55.9562, -50.8087,-47.5459,-44.4091,-40.6322, -37.3223,-33.7381,-31.2342,-27.74, -23.9831,-20.4142,-17.0215,-14.0675, -10.9974,-6.10978,-3.24261,-0.532848, 1.7278,6.04594,9.1736,11.1188,14.1751, 16.2131,19.3779,18.2203,21.2044,21.2071 ,25.1238,26.2435,28.237,32.0185,33.416, 36.6532,37.9954,40.2075,41.5315,41.1182 ,42.214,43.6769,40.7204,36.642,32.954, 29.5974,25.3726,20.505,15.2553,10.2902, 7.08401,4.36692,-0.0588158,-2.40227, -5.85008,-9.1868,-11.9987,-16.162, -18.2367,-21.2204,-25.3068,-27.7433, -30.8225,-32.9124,-34.2658,-36.0857, -37.9505,-39.3065,-39.9673,-40.3778, -40.4664,-40.1706,-39.7632,-38.9422, -38.1508,-36.4067,-39.2537,-40.6737, -43.2981,-46.1876,-49.0038,-51.9389, -54.5549,-58.2002)
FOOTPRINT_POINT_LONGITUDE = (265.04,262.759,260.884,257.938,251.05, 243.648,241.58,231.37,239.009,256.026, 275.858,312.427,335.048,346.848,357.935 ,362.677,367.887,373.098,376.561, 379.382,382.81,384.79,386.602,388.708, 390.483,392.392,393.729,395.577,397.585 ,399.538,401.442,403.152,404.974, 408.059,409.957,411.856,413.52,416.926, 419.627,421.432,424.496,426.719,430.549 ,428.152,429.22,425.702,425.266,421.625 ,419.019,416.708,413.425,408.599, 403.219,400.541,396.575,391.659,387.43, 384.535,383.645,382.401,381.27,380.195, 378.814,377.144,375.218,373.251,371.89, 370.671,368.528,367.306,365.378,363.331 ,361.449,358.332,356.605,353.864,349.49 ,346.427,341.885,338.183,335.413, 331.013,325.155,319.014,314.45,309.312, 304.813,298.905,295.287,290.442,287.026 ,281.276,282.764,278.583,280.227, 277.394,275.712,270.846,270.449,265.04)
ORBIT_NUMBER = 18424
ORBITAL_ECCENTRICITY = 0.573
ORBITAL_INCLINATION = 86.96
ORBITAL_SEMIMAJOR_AXIS = 8804.9
PERIAPSIS_ALTITUDE = 371.54
PERIAPSIS_ARGUMENT_ANGLE = 44.7
PERIAPSIS_TIME = 2018-07-24T12:26:55.000Z
SPACECRAFT_ORIENTATION = (0.0,1.0,0.0)
^MEX_ORIENTATION_DESC = "MEX_ORIENTATION_DESC.TXT"
SPACECRAFT_POINTING_MODE = FIXED
^MEX_POINTING_DESC = "MEX_POINTING_DESC.TXT"
RIGHT_ASCENSION = -1e+32
DECLINATION = -1e+32
OFFSET_ANGLE = -1e+32
SPACECRAFT_SOLAR_DISTANCE = 2.09711e+08
TARGET_NAME = MARS
/* CAMERA DATA ELEMENTS */
DETECTOR_TEMPERATURE = 18.3705
FOCAL_PLANE_TEMPERATURE = 9.195
INST_CMPRS_NAME = "DISCRETE COSINE TRANSFORMATION (DCT)"
INST_CMPRS_RATIO = 6.50243
INST_CMPRS_QUALITY = 0
INST_CMPRS_QUANTZ_TBL_ID = 0
INSTRUMENT_TEMPERATURE = 12.0496
LENS_TEMPERATURE = 9.3989
MACROPIXEL_SIZE = 2
MISSING_FRAMES = 0
PIXEL_SUBSAMPLING_FLAG = N
SIGNAL_CHAIN_ID = 2
/* RADIOMETRIC DATA ELEMENTS */
BANDWIDTH = 76.0
CENTER_FILTER_WAVELENGTH = 444.0
RADIANCE_OFFSET = 0.0
RADIANCE_SCALING_FACTOR = 0.01101
REFLECTANCE_SCALING_FACTOR = 0.000497439
MEX:REFLECTANCE_OFFSET = 0.0
/* IMAGE OBJECT DEFINITIONS */
OBJECT = IMAGE
  INTERCHANGE_FORMAT = BINARY
  LINES = 9409
  LINE_SAMPLES = 9536
  SAMPLE_TYPE = UNSIGNED_INTEGER
  SAMPLE_BITS = 8
  BANDS = 1
  BAND_STORAGE_TYPE = BAND_SEQUENTIAL
  MAXIMUM = 255
  MEAN = 127.476
  MINIMUM = 1
  STANDARD_DEVIATION = 36.691
END_OBJECT = IMAGE
/* MAP OBJECT DEFINITIONS */
OBJECT = IMAGE_MAP_PROJECTION
  ^DATA_SET_MAP_PROJECTION_CATALOG= "DSMAP.CAT"
  A_AXIS_RADIUS = 3396.0
  B_AXIS_RADIUS = 3396.0
  C_AXIS_RADIUS = 3396.0
  CENTER_LATITUDE = 0.0
  CENTER_LONGITUDE = 12.0
  COORDINATE_SYSTEM_NAME = PLANETOGRAPHIC
  COORDINATE_SYSTEM_TYPE = "BODY-FIXED ROTATING"
  EASTERNMOST_LONGITUDE = 70.54900000000001
  FIRST_STANDARD_PARALLEL = "N/A"
  LINE_FIRST_PIXEL = 1
  LINE_LAST_PIXEL = 9409
  LINE_PROJECTION_OFFSET = 3321.0
  MAP_PROJECTION_ROTATION = 0.0
  MAP_PROJECTION_TYPE = SINUSOIDAL
  MAP_RESOLUTION = 74.08922548333329
  MAP_SCALE = 0.8
  MAXIMUM_LATITUDE = 43.6769
  MINIMUM_LATITUDE = -81.86620000000001
  POSITIVE_LONGITUDE_DIRECTION = EAST
  REFERENCE_LATITUDE = "N/A"
  REFERENCE_LONGITUDE = "N/A"
  SAMPLE_FIRST_PIXEL = 1
  SAMPLE_LAST_PIXEL = 9536
  SAMPLE_PROJECTION_OFFSET = 5437.0
  SECOND_STANDARD_PARALLEL = "N/A"
  WESTERNMOST_LONGITUDE = -128.63
END_OBJECT = IMAGE_MAP_PROJECTION
/* The JPEG2000 image data file associated with this label. */
OBJECT = COMPRESSED_FILE
  FILE_NAME = "HI424_0000_BL3.JP2"
  RECORD_TYPE = UNDEFINED
  FILE_RECORDS = UNK
  ENCODING_TYPE = "JP2"
  INTERCHANGE_FORMAT = BINARY
  UNCOMPRESSED_FILE_NAME = "HI424_0000_BL3.IMG"
  REQUIRED_STORAGE_BYTES = "89752832"
  ^DESCRIPTION = "JP2INFO.TXT"
END_OBJECT = COMPRESSED_FILE
END
