PDS_VERSION_ID = PDS3
/* FILE DATA ELEMENTS */
RECORD_TYPE = STREAM
/* POINTERS TO DATA OBJECTS */
^COMPRESSED_FILE = "HI432_0009_RE3.JP2"
/* IDENTIFICATION DATA ELEMENTS */
DATA_SET_ID = "MEX-M-HRSC-5-REFDR-MAPPROJECTED-V3.0"
DATA_SET_NAME = "MARS EXPRESS HRSC MAP PROJECTED REFDR V3.0"
DETECTOR_ID = MEX_HRSC_RED
EVENT_TYPE = "MARS-TERMINATOR-CALIBRATION-Tc"
INSTRUMENT_HOST_ID = MEX
INSTRUMENT_HOST_NAME = "MARS EXPRESS"
INSTRUMENT_ID = HRSC
INSTRUMENT_NAME = "HIGH RESOLUTION STEREO CAMERA"
MISSION_NAME = "MARS EXPRESS"
MISSION_PHASE_NAME = ME_Phase_39
PROCESSING_LEVEL_ID = 3
PRODUCT_CREATION_TIME = 2019-02-21T11:32:51.000Z
PRODUCT_ID = "HI432_0009_RE3.JP2"
RELEASE_ID = 0141
REVISION_ID = 0000
/* QUALITY DATA ELEMENTS */
DATA_QUALITY_ID = 1
DATA_QUALITY_DESC = "Data calculated based on original SPICE kernels"
/* TIME DATA ELEMENTS */
SPACECRAFT_CLOCK_START_COUNT = "1/0480726865.24903"
SPACECRAFT_CLOCK_STOP_COUNT = "1/0480727354.24467"
START_TIME = 2018-07-26T23:19:09.491Z
STOP_TIME = 2018-07-26T23:23:03.478Z
/* ORBITAL DATA ELEMENTS */
ASCENDING_NODE_LONGITUDE = 228.32
MAXIMUM_RESOLUTION = 825.8
FOOTPRINT_POINT_LATITUDE = (-56.3943,-59.6125,-62.2401,-64.9027, -67.1663,-66.4713,-69.8069,-68.7217, -74.3157,-78.7756,-82.9446,-84.8682, -84.3486,-82.3375,-80.2273,-77.4092, -72.9688,-68.3357,-65.4809,-62.8901, -59.7222,-54.8927,-49.6916,-45.4096, -42.274,-39.0639,-36.1938,-32.2712, -29.7445,-26.632,-21.8712,-18.0694, -15.6885,-10.9366,-7.66123,-3.21456, -0.303784,2.41418,5.96972,9.0145, 12.1065,14.6215,15.6141,17.9165,17.5969 ,20.7365,21.1805,23.2055,24.5879, 28.1972,29.0883,31.0798,33.3496,34.9743 ,34.5925,37.2974,37.9883,36.929,33.2234 ,29.0158,26.2574,21.5554,18.0438, 15.0992,10.0197,6.74177,4.35138,2.0344, -1.53371,-4.68449,-8.09305,-12.7311, -14.8578,-19.3551,-22.3462,-24.4923, -28.9763,-31.5946,-35.1733,-37.5511, -38.9704,-40.1161,-41.5832,-42.964, -43.7706,-44.2242,-44.2619,-43.9907, -43.011,-42.0065,-40.5679,-39.2022, -37.9948,-37.2115,-39.8498,-42.8578, -47.3788,-50.5944,-53.8119,-56.3943)
FOOTPRINT_POINT_LONGITUDE = (151.423,144.229,142.835,135.966, 131.099,124.136,120.831,111.526,118.007 ,126.928,146.325,175.54,224.927,245.959 ,256.261,264.271,271.715,276.687, 279.063,280.93,282.987,285.751,288.41, 290.497,291.988,293.475,294.807,296.634 ,297.821,299.297,301.618,303.563, 304.834,307.405,309.359,312.064,314.012 ,315.907,318.599,321.122,323.895, 326.365,323.286,324.385,321.779,321.656 ,317.916,315.928,313.656,310.767, 308.065,305.375,300.425,295.221,291.783 ,289.366,284.944,281.805,280.825, 279.665,278.88,277.487,276.391,275.431, 273.668,272.446,271.507,270.554,268.992 ,267.507,265.731,263.097,261.748, 258.556,256.139,254.202,249.549,246.285 ,240.891,236.415,233.216,230.217, 225.556,219.535,214.083,207.834,204.251 ,198.584,191.049,186.371,181.336, 177.566,174.701,171.601,172.245,166.412 ,164.723,159.614,154.769,151.423)
ORBIT_NUMBER = 18432
ORBITAL_ECCENTRICITY = 0.573
ORBITAL_INCLINATION = 86.97
ORBITAL_SEMIMAJOR_AXIS = 8805.57
PERIAPSIS_ALTITUDE = 370.99
PERIAPSIS_ARGUMENT_ANGLE = 43.32
PERIAPSIS_TIME = 2018-07-26T20:18:57.000Z
SPACECRAFT_ORIENTATION = (0.0,1.0,0.0)
^MEX_ORIENTATION_DESC = "MEX_ORIENTATION_DESC.TXT"
SPACECRAFT_POINTING_MODE = FIXED
^MEX_POINTING_DESC = "MEX_POINTING_DESC.TXT"
RIGHT_ASCENSION = -1e+32
DECLINATION = -1e+32
OFFSET_ANGLE = -1e+32
SPACECRAFT_SOLAR_DISTANCE = 2.09461e+08
TARGET_NAME = MARS
/* CAMERA DATA ELEMENTS */
DETECTOR_TEMPERATURE = 18.5744
FOCAL_PLANE_TEMPERATURE = 8.3794
INST_CMPRS_NAME = "DISCRETE COSINE TRANSFORMATION (DCT)"
INST_CMPRS_RATIO = 13.4339
INST_CMPRS_QUALITY = 0
INST_CMPRS_QUANTZ_TBL_ID = 0
INSTRUMENT_TEMPERATURE = 11.234
LENS_TEMPERATURE = 8.5833
MACROPIXEL_SIZE = 2
MISSING_FRAMES = 0
PIXEL_SUBSAMPLING_FLAG = N
SIGNAL_CHAIN_ID = 1
/* RADIOMETRIC DATA ELEMENTS */
BANDWIDTH = 48.0
CENTER_FILTER_WAVELENGTH = 748.0
RADIANCE_OFFSET = 0.0
RADIANCE_SCALING_FACTOR = 0.0180172
REFLECTANCE_SCALING_FACTOR = 0.00180371
MEX:REFLECTANCE_OFFSET = 0.0
/* IMAGE OBJECT DEFINITIONS */
OBJECT = IMAGE
  INTERCHANGE_FORMAT = BINARY
  LINES = 9180
  LINE_SAMPLES = 9958
  SAMPLE_TYPE = UNSIGNED_INTEGER
  SAMPLE_BITS = 8
  BANDS = 1
  BAND_STORAGE_TYPE = BAND_SEQUENTIAL
  MAXIMUM = 255
  MEAN = 164.561
  MINIMUM = 1
  STANDARD_DEVIATION = 67.7799
END_OBJECT = IMAGE
/* MAP OBJECT DEFINITIONS */
OBJECT = IMAGE_MAP_PROJECTION
  ^DATA_SET_MAP_PROJECTION_CATALOG= "DSMAP.CAT"
  A_AXIS_RADIUS = 3396.0
  B_AXIS_RADIUS = 3396.0
  C_AXIS_RADIUS = 3396.0
  CENTER_LATITUDE = 0.0
  CENTER_LONGITUDE = 269.0
  COORDINATE_SYSTEM_NAME = PLANETOGRAPHIC
  COORDINATE_SYSTEM_TYPE = "BODY-FIXED ROTATING"
  EASTERNMOST_LONGITUDE = 326.365
  FIRST_STANDARD_PARALLEL = "N/A"
  LINE_FIRST_PIXEL = 1
  LINE_LAST_PIXEL = 9180
  LINE_PROJECTION_OFFSET = 2926.0
  MAP_PROJECTION_ROTATION = 0.0
  MAP_PROJECTION_TYPE = SINUSOIDAL
  MAP_RESOLUTION = 74.08922548333329
  MAP_SCALE = 0.8
  MAXIMUM_LATITUDE = 37.9883
  MINIMUM_LATITUDE = -84.8682
  POSITIVE_LONGITUDE_DIRECTION = EAST
  REFERENCE_LATITUDE = "N/A"
  REFERENCE_LONGITUDE = "N/A"
  SAMPLE_FIRST_PIXEL = 1
  SAMPLE_LAST_PIXEL = 9958
  SAMPLE_PROJECTION_OFFSET = 5802.0
  SECOND_STANDARD_PARALLEL = "N/A"
  WESTERNMOST_LONGITUDE = 111.526
END_OBJECT = IMAGE_MAP_PROJECTION
/* The JPEG2000 image data file associated with this label. */
OBJECT = COMPRESSED_FILE
  FILE_NAME = "HI432_0009_RE3.JP2"
  RECORD_TYPE = UNDEFINED
  FILE_RECORDS = UNK
  ENCODING_TYPE = "JP2"
  INTERCHANGE_FORMAT = BINARY
  UNCOMPRESSED_FILE_NAME = "HI432_0009_RE3.IMG"
  REQUIRED_STORAGE_BYTES = "91444314"
  ^DESCRIPTION = "JP2INFO.TXT"
END_OBJECT = COMPRESSED_FILE
END
