PDS_VERSION_ID = PDS3
/* FILE DATA ELEMENTS */
RECORD_TYPE = STREAM
/* POINTERS TO DATA OBJECTS */
^COMPRESSED_FILE = "HI479_0000_RE3.JP2"
/* IDENTIFICATION DATA ELEMENTS */
DATA_SET_ID = "MEX-M-HRSC-5-REFDR-MAPPROJECTED-V3.0"
DATA_SET_NAME = "MARS EXPRESS HRSC MAP PROJECTED REFDR V3.0"
DETECTOR_ID = MEX_HRSC_RED
EVENT_TYPE = "MARS-TERMINATOR-CALIBRATION-Tc"
INSTRUMENT_HOST_ID = MEX
INSTRUMENT_HOST_NAME = "MARS EXPRESS"
INSTRUMENT_ID = HRSC
INSTRUMENT_NAME = "HIGH RESOLUTION STEREO CAMERA"
MISSION_NAME = "MARS EXPRESS"
MISSION_PHASE_NAME = ME_Phase_39
PROCESSING_LEVEL_ID = 3
PRODUCT_CREATION_TIME = 2019-02-21T11:32:51.000Z
PRODUCT_ID = "HI479_0000_RE3.JP2"
RELEASE_ID = 0141
REVISION_ID = 0000
/* QUALITY DATA ELEMENTS */
DATA_QUALITY_ID = 1
DATA_QUALITY_DESC = "Data calculated based on original SPICE kernels"
/* TIME DATA ELEMENTS */
SPACECRAFT_CLOCK_START_COUNT = "1/0481891605.24955"
SPACECRAFT_CLOCK_STOP_COUNT = "1/0481892109.25766"
START_TIME = 2018-08-09T10:47:16.480Z
STOP_TIME = 2018-08-09T10:51:44.483Z
/* ORBITAL DATA ELEMENTS */
ASCENDING_NODE_LONGITUDE = 283.14
MAXIMUM_RESOLUTION = 618.8
FOOTPRINT_POINT_LATITUDE = (2.94837,2.31558,1.94047,2.2878,1.63689 ,0.0557864,-4.42298,-7.50926,-10.9662, -15.9659,-18.3786,-22.7454,-27.5355, -30.4401,-34.6763,-37.8274,-41.5272, -43.7885,-47.3905,-53.0059,-56.9078, -60.7128,-63.2748,-66.2565,-68.2266, -70.989,-72.5932,-74.9187,-76.2693, -76.7211,-76.4591,-75.7429,-73.8412, -72.1903,-68.8336,-65.7796,-62.2753, -58.1573,-54.3493,-49.6364,-46.2993, -43.5748,-39.4884,-36.5082,-36.6684, -38.5652,-36.6588,-36.8018,-37.2735, -37.5577,-38.3198,-37.4474,-37.2197, -37.6828,-36.525,-35.9821,-38.2878, -43.052,-46.2628,-51.2772,-53.5659, -56.9806,-62.5019,-66.0542,-69.8596, -72.8043,-74.3134,-75.437,-75.8858, -75.8651,-74.8114,-72.4202,-70.5448, -68.3894,-64.7418,-60.4875,-57.6944, -55.1362,-52.8191,-49.9259,-46.0214, -41.6028,-38.8191,-35.5269,-32.6924, -26.9844,-22.5093,-19.8476,-17.383, -13.3491,-8.90734,-5.1829,-2.57428, 1.69904,2.10714,1.08465,1.38823,1.84053 ,2.94837)
FOOTPRINT_POINT_LONGITUDE = (226.832,228.986,231.261,234.487, 239.846,242.974,243.152,242.918,242.728 ,242.554,242.521,242.551,242.722, 242.907,243.309,243.726,244.372,244.864 ,245.833,247.957,250.054,252.833, 255.308,259.098,262.38,268.659,273.775, 285.166,298.104,308.986,324.746,334.224 ,347.016,353.736,2.59678,7.80711, 12.0278,15.5404,17.9075,20.0739,21.2401 ,22.023,22.9569,23.6762,28.2806,30.7313 ,35.6566,38.6509,42.7589,45.7447, 48.5962,51.4094,55.7564,59.0489,61.6027 ,66.356,68.3318,69.438,70.4105,72.4166, 73.5674,75.6771,80.6212,85.4199,93.3034 ,103.459,112.115,123.208,133.541,142.69 ,159.086,173.36,179.945,185.361,191.71, 196.609,198.955,200.678,201.977,203.343 ,204.794,206.04,206.652,207.23,207.63, 208.193,208.441,208.517,208.549,208.51, 208.351,208.122,207.92,208.458,212.86, 216.194,220.322,222.906,226.832)
ORBIT_NUMBER = 18479
ORBITAL_ECCENTRICITY = 0.574
ORBITAL_INCLINATION = 63.27
ORBITAL_SEMIMAJOR_AXIS = 8817.42
PERIAPSIS_ALTITUDE = 365.91
PERIAPSIS_ARGUMENT_ANGLE = 5.32
PERIAPSIS_TIME = 2018-08-09T12:31:28.000Z
SPACECRAFT_ORIENTATION = (0.0,1.0,0.0)
^MEX_ORIENTATION_DESC = "MEX_ORIENTATION_DESC.TXT"
SPACECRAFT_POINTING_MODE = FIXED
^MEX_POINTING_DESC = "MEX_POINTING_DESC.TXT"
RIGHT_ASCENSION = -1e+32
DECLINATION = -1e+32
OFFSET_ANGLE = -1e+32
SPACECRAFT_SOLAR_DISTANCE = 2.08198e+08
TARGET_NAME = MARS
/* CAMERA DATA ELEMENTS */
DETECTOR_TEMPERATURE = 18.5744
FOCAL_PLANE_TEMPERATURE = 9.3989
INST_CMPRS_NAME = "DISCRETE COSINE TRANSFORMATION (DCT)"
INST_CMPRS_RATIO = 11.2453
INST_CMPRS_QUALITY = 0
INST_CMPRS_QUANTZ_TBL_ID = 0
INSTRUMENT_TEMPERATURE = 11.6418
LENS_TEMPERATURE = 9.6028
MACROPIXEL_SIZE = 2
MISSING_FRAMES = 0
PIXEL_SUBSAMPLING_FLAG = N
SIGNAL_CHAIN_ID = 1
/* RADIOMETRIC DATA ELEMENTS */
BANDWIDTH = 48.0
CENTER_FILTER_WAVELENGTH = 748.0
RADIANCE_OFFSET = 0.0
RADIANCE_SCALING_FACTOR = 0.0176762
REFLECTANCE_SCALING_FACTOR = 0.00174859
MEX:REFLECTANCE_OFFSET = 0.0
/* IMAGE OBJECT DEFINITIONS */
OBJECT = IMAGE
  INTERCHANGE_FORMAT = BINARY
  LINES = 10899
  LINE_SAMPLES = 10806
  SAMPLE_TYPE = UNSIGNED_INTEGER
  SAMPLE_BITS = 8
  BANDS = 1
  BAND_STORAGE_TYPE = BAND_SEQUENTIAL
  MAXIMUM = 255
  MEAN = 141.741
  MINIMUM = 1
  STANDARD_DEVIATION = 87.1179
END_OBJECT = IMAGE
/* MAP OBJECT DEFINITIONS */
OBJECT = IMAGE_MAP_PROJECTION
  ^DATA_SET_MAP_PROJECTION_CATALOG= "DSMAP.CAT"
  A_AXIS_RADIUS = 3396.0
  B_AXIS_RADIUS = 3396.0
  C_AXIS_RADIUS = 3396.0
  CENTER_LATITUDE = -90.0
  CENTER_LONGITUDE = 0.0
  COORDINATE_SYSTEM_NAME = PLANETOGRAPHIC
  COORDINATE_SYSTEM_TYPE = "BODY-FIXED ROTATING"
  EASTERNMOST_LONGITUDE = 360.0
  FIRST_STANDARD_PARALLEL = "N/A"
  LINE_FIRST_PIXEL = 1
  LINE_LAST_PIXEL = 10899
  LINE_PROJECTION_OFFSET = 3699.0
  MAP_PROJECTION_ROTATION = 0.0
  MAP_PROJECTION_TYPE = STEREOGRAPHIC
  MAP_RESOLUTION = 74.08922548333329
  MAP_SCALE = 0.8
  MAXIMUM_LATITUDE = 2.94837
  MINIMUM_LATITUDE = -90.0
  POSITIVE_LONGITUDE_DIRECTION = EAST
  REFERENCE_LATITUDE = "N/A"
  REFERENCE_LONGITUDE = "N/A"
  SAMPLE_FIRST_PIXEL = 1
  SAMPLE_LAST_PIXEL = 10806
  SAMPLE_PROJECTION_OFFSET = 7119.0
  SECOND_STANDARD_PARALLEL = "N/A"
  WESTERNMOST_LONGITUDE = 0.0
END_OBJECT = IMAGE_MAP_PROJECTION
/* The JPEG2000 image data file associated with this label. */
OBJECT = COMPRESSED_FILE
  FILE_NAME = "HI479_0000_RE3.JP2"
  RECORD_TYPE = UNDEFINED
  FILE_RECORDS = UNK
  ENCODING_TYPE = "JP2"
  INTERCHANGE_FORMAT = BINARY
  UNCOMPRESSED_FILE_NAME = "HI479_0000_RE3.IMG"
  REQUIRED_STORAGE_BYTES = "117807012"
  ^DESCRIPTION = "JP2INFO.TXT"
END_OBJECT = COMPRESSED_FILE
END
