PDS_VERSION_ID = PDS3
/* FILE DATA ELEMENTS */
RECORD_TYPE = STREAM
/* POINTERS TO DATA OBJECTS */
^COMPRESSED_FILE = "HI591_0000_BL3.JP2"
/* IDENTIFICATION DATA ELEMENTS */
DATA_SET_ID = "MEX-M-HRSC-5-REFDR-MAPPROJECTED-V3.0"
DATA_SET_NAME = "MARS EXPRESS HRSC MAP PROJECTED REFDR V3.0"
DETECTOR_ID = MEX_HRSC_BLUE
EVENT_TYPE = "MARS-TERMINATOR-CALIBRATION-Tc"
INSTRUMENT_HOST_ID = MEX
INSTRUMENT_HOST_NAME = "MARS EXPRESS"
INSTRUMENT_ID = HRSC
INSTRUMENT_NAME = "HIGH RESOLUTION STEREO CAMERA"
MISSION_NAME = "MARS EXPRESS"
MISSION_PHASE_NAME = ME_Phase_39
PROCESSING_LEVEL_ID = 3
PRODUCT_CREATION_TIME = 2019-02-21T11:32:51.000Z
PRODUCT_ID = "HI591_0000_BL3.JP2"
RELEASE_ID = 0141
REVISION_ID = 0000
/* QUALITY DATA ELEMENTS */
DATA_QUALITY_ID = 1
DATA_QUALITY_DESC = "Data calculated based on original SPICE kernels"
/* TIME DATA ELEMENTS */
SPACECRAFT_CLOCK_START_COUNT = "1/0484706597.24906"
SPACECRAFT_CLOCK_STOP_COUNT = "1/0484707144.15310"
START_TIME = 2018-09-11T00:46:22.856Z
STOP_TIME = 2018-09-11T00:51:10.502Z
/* ORBITAL DATA ELEMENTS */
ASCENDING_NODE_LONGITUDE = 225.37
MAXIMUM_RESOLUTION = 322.3
FOOTPRINT_POINT_LATITUDE = (-56.7027,-58.6142,-59.6129,-60.3544, -60.9305,-61.3104,-64.9376,-69.6488, -72.7104,-77.2819,-80.6835,-83.5034, -85.2523,-85.6241,-83.3616,-81.4469, -78.1925,-74.5422,-71.9507,-68.9965, -66.3223,-62.5635,-60.0928,-57.6728, -55.1552,-51.0281,-46.2328,-43.3308, -41.0966,-37.6535,-35.151,-31.9339, -27.6892,-24.3328,-20.0697,-16.6347, -13.037,-9.45194,-7.26355,-4.04029, -0.613154,3.95741,7.22139,11.2673, 14.471,14.5342,16.0067,16.8287,18.6569, 20.065,19.7122,21.5161,21.6851,22.1579, 22.8586,21.9249,18.1557,14.3453,9.63072 ,5.28646,1.8721,-0.944221,-4.88322, -8.96682,-12.5189,-16.2455,-19.6145, -21.752,-24.2429,-27.3301,-31.3047, -36.1562,-39.5354,-42.098,-45.7036, -49.284,-51.7931,-53.4096,-55.5343, -58.1554,-59.5501,-60.4691,-60.9981, -61.1406,-60.5292,-59.4343,-58.281, -56.2812,-54.7414,-52.5514,-49.5976, -47.4954,-47.7214,-50.0611,-50.2308, -52.95,-55.0039,-55.6417,-56.7027)
FOOTPRINT_POINT_LONGITUDE = (156.303,149.501,142.869,138.423, 131.165,125.243,120.944,119.458,117.815 ,113.435,106.671,93.9176,73.3804, 25.2209,353.753,344.473,336.644,332.272 ,330.434,329.064,328.233,327.521, 327.247,327.081,327.003,327.094,327.359 ,327.609,327.826,328.251,328.583, 329.068,329.791,330.426,331.309,332.073 ,332.934,333.864,334.468,335.413, 336.489,338.066,339.299,340.973,342.425 ,339.923,337.05,334.747,331.279,326.315 ,322.652,319.603,316.578,312.011, 308.009,304.88,303.092,302.993,302.76, 302.432,302.1,301.762,301.209,300.514, 299.8,298.919,297.999,297.339,296.492, 295.315,293.535,290.871,288.596,286.57, 283.143,278.822,275.022,272.094,267.399 ,259.409,253.1,246.812,240.533,232.746, 222.657,215.199,209.959,203.35,199.462, 194.957,190.16,187.349,183.589,181.162, 177.209,172.73,166.518,161.923,156.303)
ORBIT_NUMBER = 18591
ORBITAL_ECCENTRICITY = 0.576
ORBITAL_INCLINATION = 86.95
ORBITAL_SEMIMAJOR_AXIS = 8846.9
PERIAPSIS_ALTITUDE = 353.5
PERIAPSIS_ARGUMENT_ANGLE = 15.74
PERIAPSIS_TIME = 2018-09-11T02:37:12.000Z
SPACECRAFT_ORIENTATION = (0.0,1.0,0.0)
^MEX_ORIENTATION_DESC = "MEX_ORIENTATION_DESC.TXT"
SPACECRAFT_POINTING_MODE = FIXED
^MEX_POINTING_DESC = "MEX_POINTING_DESC.TXT"
RIGHT_ASCENSION = -1e+32
DECLINATION = -1e+32
OFFSET_ANGLE = -1e+32
SPACECRAFT_SOLAR_DISTANCE = 2.06693e+08
TARGET_NAME = MARS
/* CAMERA DATA ELEMENTS */
DETECTOR_TEMPERATURE = 18.7783
FOCAL_PLANE_TEMPERATURE = 11.234
INST_CMPRS_NAME = "DISCRETE COSINE TRANSFORMATION (DCT)"
INST_CMPRS_RATIO = 10.4518
INST_CMPRS_QUALITY = 0
INST_CMPRS_QUANTZ_TBL_ID = 0
INSTRUMENT_TEMPERATURE = 12.2535
LENS_TEMPERATURE = 11.0301
MACROPIXEL_SIZE = 1
MISSING_FRAMES = 0
PIXEL_SUBSAMPLING_FLAG = N
SIGNAL_CHAIN_ID = 1
/* RADIOMETRIC DATA ELEMENTS */
BANDWIDTH = 76.0
CENTER_FILTER_WAVELENGTH = 444.0
RADIANCE_OFFSET = 0.0
RADIANCE_SCALING_FACTOR = 0.0260304
REFLECTANCE_SCALING_FACTOR = 0.00114259
MEX:REFLECTANCE_OFFSET = 0.0
/* IMAGE OBJECT DEFINITIONS */
OBJECT = IMAGE
  INTERCHANGE_FORMAT = BINARY
  LINES = 22849
  LINE_SAMPLES = 19986
  SAMPLE_TYPE = UNSIGNED_INTEGER
  SAMPLE_BITS = 8
  BANDS = 1
  BAND_STORAGE_TYPE = BAND_SEQUENTIAL
  MAXIMUM = 255
  MEAN = 51.002
  MINIMUM = 1
  STANDARD_DEVIATION = 33.4914
END_OBJECT = IMAGE
/* MAP OBJECT DEFINITIONS */
OBJECT = IMAGE_MAP_PROJECTION
  ^DATA_SET_MAP_PROJECTION_CATALOG= "DSMAP.CAT"
  A_AXIS_RADIUS = 3396.0
  B_AXIS_RADIUS = 3396.0
  C_AXIS_RADIUS = 3396.0
  CENTER_LATITUDE = -90.0
  CENTER_LONGITUDE = 0.0
  COORDINATE_SYSTEM_NAME = PLANETOGRAPHIC
  COORDINATE_SYSTEM_TYPE = "BODY-FIXED ROTATING"
  EASTERNMOST_LONGITUDE = 360.0
  FIRST_STANDARD_PARALLEL = "N/A"
  LINE_FIRST_PIXEL = 1
  LINE_LAST_PIXEL = 22849
  LINE_PROJECTION_OFFSET = 16660.0
  MAP_PROJECTION_ROTATION = 0
  MAP_PROJECTION_TYPE = STEREOGRAPHIC
  MAP_RESOLUTION = 148.178450966667
  MAP_SCALE = 0.4
  MAXIMUM_LATITUDE = 22.8586
  MINIMUM_LATITUDE = -90.0
  POSITIVE_LONGITUDE_DIRECTION = EAST
  REFERENCE_LATITUDE = "N/A"
  REFERENCE_LONGITUDE = "N/A"
  SAMPLE_FIRST_PIXEL = 1
  SAMPLE_LAST_PIXEL = 19986
  SAMPLE_PROJECTION_OFFSET = 16717.0
  SECOND_STANDARD_PARALLEL = "N/A"
  WESTERNMOST_LONGITUDE = 0.0
END_OBJECT = IMAGE_MAP_PROJECTION
/* The JPEG2000 image data file associated with this label. */
OBJECT = COMPRESSED_FILE
  FILE_NAME = "HI591_0000_BL3.JP2"
  RECORD_TYPE = UNDEFINED
  FILE_RECORDS = UNK
  ENCODING_TYPE = "JP2"
  INTERCHANGE_FORMAT = BINARY
  UNCOMPRESSED_FILE_NAME = "HI591_0000_BL3.IMG"
  REQUIRED_STORAGE_BYTES = "456720072"
  ^DESCRIPTION = "JP2INFO.TXT"
END_OBJECT = COMPRESSED_FILE
END
