PDS_VERSION_ID = PDS3
/* FILE DATA ELEMENTS */
RECORD_TYPE = STREAM
/* POINTERS TO DATA OBJECTS */
^COMPRESSED_FILE = "HI591_0000_GR3.JP2"
/* IDENTIFICATION DATA ELEMENTS */
DATA_SET_ID = "MEX-M-HRSC-5-REFDR-MAPPROJECTED-V3.0"
DATA_SET_NAME = "MARS EXPRESS HRSC MAP PROJECTED REFDR V3.0"
DETECTOR_ID = MEX_HRSC_GREEN
EVENT_TYPE = "MARS-TERMINATOR-CALIBRATION-Tc"
INSTRUMENT_HOST_ID = MEX
INSTRUMENT_HOST_NAME = "MARS EXPRESS"
INSTRUMENT_ID = HRSC
INSTRUMENT_NAME = "HIGH RESOLUTION STEREO CAMERA"
MISSION_NAME = "MARS EXPRESS"
MISSION_PHASE_NAME = ME_Phase_39
PROCESSING_LEVEL_ID = 3
PRODUCT_CREATION_TIME = 2019-02-21T11:32:51.000Z
PRODUCT_ID = "HI591_0000_GR3.JP2"
RELEASE_ID = 0141
REVISION_ID = 0000
/* QUALITY DATA ELEMENTS */
DATA_QUALITY_ID = 1
DATA_QUALITY_DESC = "Data calculated based on original SPICE kernels"
/* TIME DATA ELEMENTS */
SPACECRAFT_CLOCK_START_COUNT = "1/0484706597.24906"
SPACECRAFT_CLOCK_STOP_COUNT = "1/0484707144.15310"
START_TIME = 2018-09-11T00:45:28.723Z
STOP_TIME = 2018-09-11T00:50:15.688Z
/* ORBITAL DATA ELEMENTS */
ASCENDING_NODE_LONGITUDE = 225.37
MAXIMUM_RESOLUTION = 324.2
FOOTPRINT_POINT_LATITUDE = (-57.0797,-58.9739,-60.0202,-60.1474, -61.382,-60.9192,-66.0993,-70.5386, -73.5796,-75.923,-80.1797,-82.6958, -85.1258,-85.8644,-83.9493,-80.779, -77.2824,-74.1622,-71.729,-68.9031, -65.8926,-63.3009,-58.7643,-55.7897, -51.2186,-47.2295,-44.3243,-41.6761, -38.1057,-33.3422,-29.8674,-26.1646, -21.7429,-18.4926,-15.1444,-10.547, -7.87478,-5.1302,-2.86164,0.665189, 3.60297,6.52374,11.1899,13.5799,15.7518 ,16.6556,17.9648,19.5011,20.7371,19.715 ,20.045,22.1038,22.1618,22.3819,23.4089 ,20.632,16.9871,14.6455,11.3098,6.6216, 3.02626,0.11014,-2.79934,-5.33171, -8.11691,-11.7399,-14.9501,-19.263, -22.9825,-25.3981,-27.9849,-31.7718, -34.4687,-38.2759,-42.1409,-44.5182, -47.3794,-49.8355,-52.7092,-54.2756, -55.8568,-57.483,-59.2736,-60.3694, -60.5383,-60.0731,-58.8578,-57.5244, -55.296,-53.585,-50.7669,-47.956, -47.8678,-50.211,-51.3994,-53.7399, -54.8188,-55.5053,-57.0797)
FOOTPRINT_POINT_LONGITUDE = (156.387,149.93,143.383,138.494,131.491 ,122.651,121.704,120.304,118.683, 116.764,110.418,102.3,83.1278,20.7678, 354.043,340.115,333.788,330.814,329.359 ,328.213,327.43,326.997,326.609,326.533 ,326.684,326.917,327.189,327.45,327.896 ,328.585,329.161,329.834,330.723,331.43 ,332.206,333.361,334.087,334.887,335.57 ,336.693,337.722,338.803,340.703, 341.766,340.406,337.898,334.927,330.945 ,327.568,324.023,320.718,319.336, 316.611,312.15,306.515,302.734,302.708, 302.652,302.513,302.203,301.881,301.548 ,301.172,300.787,300.308,299.596, 298.856,297.689,296.493,295.609,294.557 ,292.772,291.294,288.848,285.794, 283.543,280.323,276.986,272.109,268.831 ,264.822,259.585,251.14,240.965,233.818 ,224.532,215.815,209.85,202.884,198.812 ,193.523,189.357,185.413,180.689, 175.868,172.002,167.346,163.411, 156.387)
ORBIT_NUMBER = 18591
ORBITAL_ECCENTRICITY = 0.576
ORBITAL_INCLINATION = 86.95
ORBITAL_SEMIMAJOR_AXIS = 8846.9
PERIAPSIS_ALTITUDE = 353.5
PERIAPSIS_ARGUMENT_ANGLE = 15.74
PERIAPSIS_TIME = 2018-09-11T02:37:12.000Z
SPACECRAFT_ORIENTATION = (0.0,1.0,0.0)
^MEX_ORIENTATION_DESC = "MEX_ORIENTATION_DESC.TXT"
SPACECRAFT_POINTING_MODE = FIXED
^MEX_POINTING_DESC = "MEX_POINTING_DESC.TXT"
RIGHT_ASCENSION = -1e+32
DECLINATION = -1e+32
OFFSET_ANGLE = -1e+32
SPACECRAFT_SOLAR_DISTANCE = 2.06693e+08
TARGET_NAME = MARS
/* CAMERA DATA ELEMENTS */
DETECTOR_TEMPERATURE = 18.7783
FOCAL_PLANE_TEMPERATURE = 11.234
INST_CMPRS_NAME = "DISCRETE COSINE TRANSFORMATION (DCT)"
INST_CMPRS_RATIO = 8.30807
INST_CMPRS_QUALITY = 0
INST_CMPRS_QUANTZ_TBL_ID = 0
INSTRUMENT_TEMPERATURE = 12.2535
LENS_TEMPERATURE = 11.0301
MACROPIXEL_SIZE = 1
MISSING_FRAMES = 0
PIXEL_SUBSAMPLING_FLAG = N
SIGNAL_CHAIN_ID = 2
/* RADIOMETRIC DATA ELEMENTS */
BANDWIDTH = 88.0
CENTER_FILTER_WAVELENGTH = 538.0
RADIANCE_OFFSET = 0.0
RADIANCE_SCALING_FACTOR = 0.026708
REFLECTANCE_SCALING_FACTOR = 0.00098239
MEX:REFLECTANCE_OFFSET = 0.0
/* IMAGE OBJECT DEFINITIONS */
OBJECT = IMAGE
  INTERCHANGE_FORMAT = BINARY
  LINES = 22849
  LINE_SAMPLES = 19986
  SAMPLE_TYPE = UNSIGNED_INTEGER
  SAMPLE_BITS = 8
  BANDS = 1
  BAND_STORAGE_TYPE = BAND_SEQUENTIAL
  MAXIMUM = 255
  MEAN = 107.473
  MINIMUM = 1
  STANDARD_DEVIATION = 51.9628
END_OBJECT = IMAGE
/* MAP OBJECT DEFINITIONS */
OBJECT = IMAGE_MAP_PROJECTION
  ^DATA_SET_MAP_PROJECTION_CATALOG= "DSMAP.CAT"
  A_AXIS_RADIUS = 3396.0
  B_AXIS_RADIUS = 3396.0
  C_AXIS_RADIUS = 3396.0
  CENTER_LATITUDE = -90.0
  CENTER_LONGITUDE = 0.0
  COORDINATE_SYSTEM_NAME = PLANETOGRAPHIC
  COORDINATE_SYSTEM_TYPE = "BODY-FIXED ROTATING"
  EASTERNMOST_LONGITUDE = 360.0
  FIRST_STANDARD_PARALLEL = "N/A"
  LINE_FIRST_PIXEL = 1
  LINE_LAST_PIXEL = 22849
  LINE_PROJECTION_OFFSET = 16660.0
  MAP_PROJECTION_ROTATION = 0.0
  MAP_PROJECTION_TYPE = STEREOGRAPHIC
  MAP_RESOLUTION = 148.178450966667
  MAP_SCALE = 0.4
  MAXIMUM_LATITUDE = 23.4089
  MINIMUM_LATITUDE = -90.0
  POSITIVE_LONGITUDE_DIRECTION = EAST
  REFERENCE_LATITUDE = "N/A"
  REFERENCE_LONGITUDE = "N/A"
  SAMPLE_FIRST_PIXEL = 1
  SAMPLE_LAST_PIXEL = 19986
  SAMPLE_PROJECTION_OFFSET = 16717.0
  SECOND_STANDARD_PARALLEL = "N/A"
  WESTERNMOST_LONGITUDE = 0.0
END_OBJECT = IMAGE_MAP_PROJECTION
/* The JPEG2000 image data file associated with this label. */
OBJECT = COMPRESSED_FILE
  FILE_NAME = "HI591_0000_GR3.JP2"
  RECORD_TYPE = UNDEFINED
  FILE_RECORDS = UNK
  ENCODING_TYPE = "JP2"
  INTERCHANGE_FORMAT = BINARY
  UNCOMPRESSED_FILE_NAME = "HI591_0000_GR3.IMG"
  REQUIRED_STORAGE_BYTES = "456720072"
  ^DESCRIPTION = "JP2INFO.TXT"
END_OBJECT = COMPRESSED_FILE
END
