PDS_VERSION_ID = PDS3
/* FILE DATA ELEMENTS */
RECORD_TYPE = STREAM
/* POINTERS TO DATA OBJECTS */
^COMPRESSED_FILE = "HI670_0000_IR3.JP2"
/* IDENTIFICATION DATA ELEMENTS */
DATA_SET_ID = "MEX-M-HRSC-5-REFDR-MAPPROJECTED-V3.0"
DATA_SET_NAME = "MARS EXPRESS HRSC MAP PROJECTED REFDR V3.0"
DETECTOR_ID = MEX_HRSC_IR
EVENT_TYPE = "MARS-TERMINATOR-CALIBRATION-Tc"
INSTRUMENT_HOST_ID = MEX
INSTRUMENT_HOST_NAME = "MARS EXPRESS"
INSTRUMENT_ID = HRSC
INSTRUMENT_NAME = "HIGH RESOLUTION STEREO CAMERA"
MISSION_NAME = "MARS EXPRESS"
MISSION_PHASE_NAME = ME_Phase_39
PROCESSING_LEVEL_ID = 3
PRODUCT_CREATION_TIME = 2019-02-21T11:58:24.000Z
PRODUCT_ID = "HI670_0000_IR3.JP2"
RELEASE_ID = 0142
REVISION_ID = 0000
/* QUALITY DATA ELEMENTS */
DATA_QUALITY_ID = 1
DATA_QUALITY_DESC = "Data calculated based on original SPICE kernels"
/* TIME DATA ELEMENTS */
SPACECRAFT_CLOCK_START_COUNT = "1/0486689170.23963"
SPACECRAFT_CLOCK_STOP_COUNT = "1/0486689663.20592"
START_TIME = 2018-10-03T23:26:41.695Z
STOP_TIME = 2018-10-03T23:30:39.563Z
/* ORBITAL DATA ELEMENTS */
ASCENDING_NODE_LONGITUDE = 223.89
MAXIMUM_RESOLUTION = 810.5
FOOTPRINT_POINT_LATITUDE = (-54.4496,-57.4475,-61.7687,-64.7815, -68.217,-72.5524,-73.9393,-72.9245, -71.828,-69.6602,-67.8322,-64.7077, -61.8995,-59.3777,-57.0864,-54.9856, -52.7695,-49.5991,-44.7933,-40.3031, -37.2409,-33.8199,-31.323,-29.0358, -26.4904,-23.3286,-19.3172,-14.9961, -12.2352,-7.7547,-3.84435,-1.51873, 0.275962,2.26239,5.31422,7.06518, 9.05207,11.3707,13.3592,16.3595,18.9444 ,20.8974,22.5956,24.5644,28.1577, 30.1465,33.0923,37.6171,40.7359,45.359, 47.8151,49.8688,52.9537,54.3566,57.0708 ,52.5762,47.8178,44.7281,42.266,38.3206 ,35.1087,32.3361,29.8684,27.3618, 23.5245,20.8621,17.5164,14.5407,10.6855 ,8.51823,5.1605,0.783925,-1.34961, -3.83359,-6.84928,-9.49354,-12.9928, -14.7004,-17.2309,-18.6243,-20.5958, -21.8691,-23.4698,-25.5124,-26.7157, -27.7076,-28.6579,-29.5116,-29.847, -29.9602,-29.6885,-32.1234,-33.9046, -35.8329,-38.7816,-41.1757,-43.6162, -46.0431,-49.431,-54.4496)
FOOTPRINT_POINT_LONGITUDE = (86.51,87.5313,89.1984,90.0119,90.1152, 87.337,101.021,111.302,118.676,128.589, 134.697,142.496,147.912,151.933,155.108 ,157.725,160.23,163.479,167.836,171.514 ,173.881,176.401,178.208,179.835, 181.625,183.851,186.677,189.798,191.844 ,195.293,198.435,200.4,201.967,203.782, 206.729,208.51,210.628,213.268,215.684, 219.693,223.446,226.751,229.988,232.904 ,233.284,229.607,228.966,227.019, 223.512,218.381,215.824,209.3,204.631, 197.206,193.717,188.41,185.356,183.509, 182.092,179.889,178.135,176.637,175.306 ,173.948,171.843,170.351,168.428, 166.657,164.259,162.847,160.555,157.327 ,155.639,153.556,150.827,148.236, 144.411,142.33,138.922,136.889,133.672, 131.393,128.141,123.256,119.73,116.25, 112.047,106.51,102.691,96.6076,91.1322, 91.7651,89.3037,91.4152,88.9381,90.4929 ,89.7631,88.9359,88.8384,86.51)
ORBIT_NUMBER = 18670
ORBITAL_ECCENTRICITY = 0.577
ORBITAL_INCLINATION = 86.95
ORBITAL_SEMIMAJOR_AXIS = 8846.94
PERIAPSIS_ALTITUDE = 346.54
PERIAPSIS_ARGUMENT_ANGLE = 2.09
PERIAPSIS_TIME = 2018-10-04T02:16:40.000Z
SPACECRAFT_ORIENTATION = (0.0,1.0,0.0)
^MEX_ORIENTATION_DESC = "MEX_ORIENTATION_DESC.TXT"
SPACECRAFT_POINTING_MODE = FIXED
^MEX_POINTING_DESC = "MEX_POINTING_DESC.TXT"
RIGHT_ASCENSION = -1e+32
DECLINATION = -1e+32
OFFSET_ANGLE = -1e+32
SPACECRAFT_SOLAR_DISTANCE = 2.06993e+08
TARGET_NAME = MARS
/* CAMERA DATA ELEMENTS */
DETECTOR_TEMPERATURE = 17.9627
FOCAL_PLANE_TEMPERATURE = 11.234
INST_CMPRS_NAME = "DISCRETE COSINE TRANSFORMATION (DCT)"
INST_CMPRS_RATIO = 14.8406
INST_CMPRS_QUALITY = 0
INST_CMPRS_QUANTZ_TBL_ID = 0
INSTRUMENT_TEMPERATURE = 12.2535
LENS_TEMPERATURE = 11.8457
MACROPIXEL_SIZE = 2
MISSING_FRAMES = 0
PIXEL_SUBSAMPLING_FLAG = N
SIGNAL_CHAIN_ID = 1
/* RADIOMETRIC DATA ELEMENTS */
BANDWIDTH = 81.0
CENTER_FILTER_WAVELENGTH = 955.5
RADIANCE_OFFSET = 0.0
RADIANCE_SCALING_FACTOR = 0.0148746
REFLECTANCE_SCALING_FACTOR = 0.00137489
MEX:REFLECTANCE_OFFSET = 0.0
/* IMAGE OBJECT DEFINITIONS */
OBJECT = IMAGE
  INTERCHANGE_FORMAT = BINARY
  LINES = 8411
  LINE_SAMPLES = 13052
  SAMPLE_TYPE = UNSIGNED_INTEGER
  SAMPLE_BITS = 8
  BANDS = 1
  BAND_STORAGE_TYPE = BAND_SEQUENTIAL
  MAXIMUM = 224
  MEAN = 52.5226
  MINIMUM = 1
  STANDARD_DEVIATION = 52.7642
END_OBJECT = IMAGE
/* MAP OBJECT DEFINITIONS */
OBJECT = IMAGE_MAP_PROJECTION
  ^DATA_SET_MAP_PROJECTION_CATALOG= "DSMAP.CAT"
  A_AXIS_RADIUS = 3396.0
  B_AXIS_RADIUS = 3396.0
  C_AXIS_RADIUS = 3396.0
  CENTER_LATITUDE = -90.0
  CENTER_LONGITUDE = 0.0
  COORDINATE_SYSTEM_NAME = PLANETOGRAPHIC
  COORDINATE_SYSTEM_TYPE = "BODY-FIXED ROTATING"
  EASTERNMOST_LONGITUDE = 233.284
  FIRST_STANDARD_PARALLEL = "N/A"
  LINE_FIRST_PIXEL = 1
  LINE_LAST_PIXEL = 8411
  LINE_PROJECTION_OFFSET = -164.25
  MAP_PROJECTION_ROTATION = 0.0
  MAP_PROJECTION_TYPE = STEREOGRAPHIC
  MAP_RESOLUTION = 74.08922548333329
  MAP_SCALE = 0.8
  MAXIMUM_LATITUDE = 57.0708
  MINIMUM_LATITUDE = -73.9393
  POSITIVE_LONGITUDE_DIRECTION = EAST
  REFERENCE_LATITUDE = "N/A"
  REFERENCE_LONGITUDE = "N/A"
  SAMPLE_FIRST_PIXEL = 1
  SAMPLE_LAST_PIXEL = 13052
  SAMPLE_PROJECTION_OFFSET = 8251.25
  SECOND_STANDARD_PARALLEL = "N/A"
  WESTERNMOST_LONGITUDE = 86.51000000000001
END_OBJECT = IMAGE_MAP_PROJECTION
/* The JPEG2000 image data file associated with this label. */
OBJECT = COMPRESSED_FILE
  FILE_NAME = "HI670_0000_IR3.JP2"
  RECORD_TYPE = UNDEFINED
  FILE_RECORDS = UNK
  ENCODING_TYPE = "JP2"
  INTERCHANGE_FORMAT = BINARY
  UNCOMPRESSED_FILE_NAME = "HI670_0000_IR3.IMG"
  REQUIRED_STORAGE_BYTES = "109819528"
  ^DESCRIPTION = "JP2INFO.TXT"
END_OBJECT = COMPRESSED_FILE
END
