PDS_VERSION_ID = PDS3
/* FILE DATA ELEMENTS */
RECORD_TYPE = STREAM
/* POINTERS TO DATA OBJECTS */
^COMPRESSED_FILE = "HI671_0000_RE3.JP2"
/* IDENTIFICATION DATA ELEMENTS */
DATA_SET_ID = "MEX-M-HRSC-5-REFDR-MAPPROJECTED-V3.0"
DATA_SET_NAME = "MARS EXPRESS HRSC MAP PROJECTED REFDR V3.0"
DETECTOR_ID = MEX_HRSC_RED
EVENT_TYPE = "MARS-TERMINATOR-CALIBRATION-Tc"
INSTRUMENT_HOST_ID = MEX
INSTRUMENT_HOST_NAME = "MARS EXPRESS"
INSTRUMENT_ID = HRSC
INSTRUMENT_NAME = "HIGH RESOLUTION STEREO CAMERA"
MISSION_NAME = "MARS EXPRESS"
MISSION_PHASE_NAME = ME_Phase_39
PROCESSING_LEVEL_ID = 3
PRODUCT_CREATION_TIME = 2019-02-21T11:58:24.000Z
PRODUCT_ID = "HI671_0000_RE3.JP2"
RELEASE_ID = 0142
REVISION_ID = 0000
/* QUALITY DATA ELEMENTS */
DATA_QUALITY_ID = 1
DATA_QUALITY_DESC = "Data calculated based on original SPICE kernels"
/* TIME DATA ELEMENTS */
SPACECRAFT_CLOCK_START_COUNT = "1/0486718646.23989"
SPACECRAFT_CLOCK_STOP_COUNT = "1/0486719222.19768"
START_TIME = 2018-10-04T07:42:12.682Z
STOP_TIME = 2018-10-04T07:47:31.599Z
/* ORBITAL DATA ELEMENTS */
ASCENDING_NODE_LONGITUDE = 223.88
MAXIMUM_RESOLUTION = 568.2
FOOTPRINT_POINT_LATITUDE = (-62.8792,-64.839,-65.6899,-67.4019, -68.0051,-67.3935,-67.4393,-69.4882, -71.8835,-75.341,-78.0272,-81.828, -86.262,-87.8925,-85.4922,-81.4409, -78.4908,-74.7034,-69.9996,-66.4823, -63.3577,-58.54,-53.6278,-48.6512, -45.1447,-42.5029,-37.6147,-33.6692, -29.6118,-25.9558,-21.4862,-18.7, -14.8851,-11.5646,-7.76979,-5.42037, -1.54792,1.34064,5.04336,7.30741,10.966 ,14.2427,18.4554,19.1768,21.2064, 22.5155,23.3166,24.8933,25.3325,25.3252 ,25.3642,26.7332,26.6814,24.3153, 20.2502,16.0439,13.3221,10.9285,8.39669 ,5.663,2.64084,-1.83725,-6.10547, -9.03742,-12.3001,-15.9864,-20.1618, -23.8311,-26.4396,-28.5773,-31.1102, -33.8917,-37.4802,-39.4581,-42.1116, -44.152,-46.7734,-49.8072,-52.8884, -54.3967,-55.8846,-57.4558,-59.572, -60.6792,-61.6546,-62.3379,-62.4155, -61.9931,-60.8925,-59.6154,-57.5367, -55.6344,-54.2041,-53.8884,-56.5576, -58.2095,-60.0926,-62.0168,-62.8792)
FOOTPRINT_POINT_LONGITUDE = (270.985,265.626,259.715,253.515, 247.183,241.388,233.999,231.633,228.731 ,227.665,226.218,222.008,203.337, 150.828,86.6935,73.7967,70.5778,68.5269 ,67.4373,67.1219,67.0533,67.2065, 67.6381,68.1924,68.6662,69.0517,69.846, 70.5627,71.3516,72.1016,73.1089,73.7576 ,74.7323,75.6297,76.729,77.4388,78.6967 ,79.7008,81.0958,81.996,83.5489,85.0627 ,83.5176,80.7503,76.6285,74.2578, 72.0014,68.0504,65.3382,62.6746,59.4153 ,56.4331,53.5677,52.3608,52.154,51.8669 ,51.6417,51.4197,51.1538,50.8334, 50.4355,49.7637,49.013,48.4263,47.7009, 46.7713,45.5513,44.3103,43.3161,42.4215 ,41.244,39.8055,37.6558,36.2999,34.2548 ,32.4697,29.8275,26.1753,21.5187, 18.7531,15.5857,11.6057,4.54235,359.465 ,353.118,345.043,334.897,328.224, 319.768,313.644,306.53,301.721,298.707, 293.759,290.811,287.06,280.963,276.851, 270.985)
ORBIT_NUMBER = 18671
ORBITAL_ECCENTRICITY = 0.577
ORBITAL_INCLINATION = 86.95
ORBITAL_SEMIMAJOR_AXIS = 8847.82
PERIAPSIS_ALTITUDE = 346.42
PERIAPSIS_ARGUMENT_ANGLE = 1.89
PERIAPSIS_TIME = 2018-10-04T09:15:33.000Z
SPACECRAFT_ORIENTATION = (0.0,1.0,0.0)
^MEX_ORIENTATION_DESC = "MEX_ORIENTATION_DESC.TXT"
SPACECRAFT_POINTING_MODE = FIXED
^MEX_POINTING_DESC = "MEX_POINTING_DESC.TXT"
RIGHT_ASCENSION = -1e+32
DECLINATION = -1e+32
OFFSET_ANGLE = -1e+32
SPACECRAFT_SOLAR_DISTANCE = 2.07004e+08
TARGET_NAME = MARS
/* CAMERA DATA ELEMENTS */
DETECTOR_TEMPERATURE = 19.39
FOCAL_PLANE_TEMPERATURE = 11.8457
INST_CMPRS_NAME = "DISCRETE COSINE TRANSFORMATION (DCT)"
INST_CMPRS_RATIO = 15.3525
INST_CMPRS_QUALITY = 0
INST_CMPRS_QUANTZ_TBL_ID = 0
INSTRUMENT_TEMPERATURE = 12.4574
LENS_TEMPERATURE = 12.0496
MACROPIXEL_SIZE = 2
MISSING_FRAMES = 0
PIXEL_SUBSAMPLING_FLAG = N
SIGNAL_CHAIN_ID = 1
/* RADIOMETRIC DATA ELEMENTS */
BANDWIDTH = 48.0
CENTER_FILTER_WAVELENGTH = 748.0
RADIANCE_OFFSET = 0.0
RADIANCE_SCALING_FACTOR = 0.0167982
REFLECTANCE_SCALING_FACTOR = 0.00164262
MEX:REFLECTANCE_OFFSET = 0.0
/* IMAGE OBJECT DEFINITIONS */
OBJECT = IMAGE
  INTERCHANGE_FORMAT = BINARY
  LINES = 15550
  LINE_SAMPLES = 21388
  SAMPLE_TYPE = UNSIGNED_INTEGER
  SAMPLE_BITS = 8
  BANDS = 1
  BAND_STORAGE_TYPE = BAND_SEQUENTIAL
  MAXIMUM = 255
  MEAN = 101.204
  MINIMUM = 1
  STANDARD_DEVIATION = 42.6726
END_OBJECT = IMAGE
/* MAP OBJECT DEFINITIONS */
OBJECT = IMAGE_MAP_PROJECTION
  ^DATA_SET_MAP_PROJECTION_CATALOG= "DSMAP.CAT"
  A_AXIS_RADIUS = 3396.0
  B_AXIS_RADIUS = 3396.0
  C_AXIS_RADIUS = 3396.0
  CENTER_LATITUDE = -90.0
  CENTER_LONGITUDE = 0.0
  COORDINATE_SYSTEM_NAME = PLANETOGRAPHIC
  COORDINATE_SYSTEM_TYPE = "BODY-FIXED ROTATING"
  EASTERNMOST_LONGITUDE = 360.0
  FIRST_STANDARD_PARALLEL = "N/A"
  LINE_FIRST_PIXEL = 1
  LINE_LAST_PIXEL = 15550
  LINE_PROJECTION_OFFSET = 13859.0
  MAP_PROJECTION_ROTATION = 0.0
  MAP_PROJECTION_TYPE = STEREOGRAPHIC
  MAP_RESOLUTION = 148.178450966667
  MAP_SCALE = 0.4
  MAXIMUM_LATITUDE = 26.7332
  MINIMUM_LATITUDE = -90.0
  POSITIVE_LONGITUDE_DIRECTION = EAST
  REFERENCE_LATITUDE = "N/A"
  REFERENCE_LONGITUDE = "N/A"
  SAMPLE_FIRST_PIXEL = 1
  SAMPLE_LAST_PIXEL = 21388
  SAMPLE_PROJECTION_OFFSET = 4577.0
  SECOND_STANDARD_PARALLEL = "N/A"
  WESTERNMOST_LONGITUDE = 0.0
END_OBJECT = IMAGE_MAP_PROJECTION
/* The JPEG2000 image data file associated with this label. */
OBJECT = COMPRESSED_FILE
  FILE_NAME = "HI671_0000_RE3.JP2"
  RECORD_TYPE = UNDEFINED
  FILE_RECORDS = UNK
  ENCODING_TYPE = "JP2"
  INTERCHANGE_FORMAT = BINARY
  UNCOMPRESSED_FILE_NAME = "HI671_0000_RE3.IMG"
  REQUIRED_STORAGE_BYTES = "332647564"
  ^DESCRIPTION = "JP2INFO.TXT"
END_OBJECT = COMPRESSED_FILE
END
