PDS_VERSION_ID = PDS3
/* FILE DATA ELEMENTS */
RECORD_TYPE = STREAM
/* POINTERS TO DATA OBJECTS */
^COMPRESSED_FILE = "HI727_0000_P13.JP2"
/* IDENTIFICATION DATA ELEMENTS */
DATA_SET_ID = "MEX-M-HRSC-5-REFDR-MAPPROJECTED-V3.0"
DATA_SET_NAME = "MARS EXPRESS HRSC MAP PROJECTED REFDR V3.0"
DETECTOR_ID = MEX_HRSC_P1
EVENT_TYPE = "MARS-REGIONAL-STEREO-Vo-Te"
INSTRUMENT_HOST_ID = MEX
INSTRUMENT_HOST_NAME = "MARS EXPRESS"
INSTRUMENT_ID = HRSC
INSTRUMENT_NAME = "HIGH RESOLUTION STEREO CAMERA"
MISSION_NAME = "MARS EXPRESS"
MISSION_PHASE_NAME = ME_Phase_39
PROCESSING_LEVEL_ID = 3
PRODUCT_CREATION_TIME = 2019-02-21T11:58:24.000Z
PRODUCT_ID = "HI727_0000_P13.JP2"
RELEASE_ID = 0142
REVISION_ID = 0000
/* QUALITY DATA ELEMENTS */
DATA_QUALITY_ID = 1
DATA_QUALITY_DESC = "Data calculated based on original SPICE kernels"
/* TIME DATA ELEMENTS */
SPACECRAFT_CLOCK_START_COUNT = "1/0488131723.25687"
SPACECRAFT_CLOCK_STOP_COUNT = "1/0488131927.10022"
START_TIME = 2018-10-20T16:10:31.750Z
STOP_TIME = 2018-10-20T16:12:25.139Z
/* ORBITAL DATA ELEMENTS */
ASCENDING_NODE_LONGITUDE = 222.83
MAXIMUM_RESOLUTION = 35.2
FOOTPRINT_POINT_LATITUDE = (-37.9612,-37.9599,-37.9569,-37.9542, -37.9518,-37.9474,-37.942,-37.7771, -37.5994,-37.4208,-37.243,-37.0681, -36.895,-36.7245,-36.5513,-36.2917, -36.1211,-35.9526,-35.7835,-35.615, -35.3624,-35.1948,-35.0298,-34.7827, -34.6179,-34.4532,-34.2062,-34.0442, -33.883,-33.7217,-33.5606,-33.3997, -33.2393,-33.078,-32.9207,-32.7654, -32.6089,-32.4518,-32.295,-32.1371, -31.9014,-31.748,-31.4441,-31.2912, -31.138,-30.9851,-30.8323,-30.6799, -30.3817,-30.1581,-29.8522,-29.8554, -29.8578,-29.8595,-29.8615,-29.8628, -30.0131,-30.3112,-30.6101,-30.913, -31.066,-31.2948,-31.4494,-31.6027, -31.9075,-32.0632,-32.2203,-32.3772, -32.6135,-32.771,-32.9284,-33.0857, -33.2463,-33.4072,-33.5682,-33.7292, -33.9709,-34.1319,-34.2958,-34.4613, -34.7091,-34.8742,-35.0393,-35.2045, -35.3722,-35.5412,-35.7103,-35.9641, -36.1333,-36.3045,-36.4773,-36.6507, -36.8241,-36.9972,-37.1709,-37.3473, -37.5246,-37.7019,-37.8791,-37.9612)
FOOTPRINT_POINT_LONGITUDE = (248.336,248.093,247.697,247.411, 247.191,246.84,246.466,246.374,246.386, 246.398,246.409,246.42,246.43,246.439, 246.449,246.464,246.474,246.483,246.493 ,246.502,246.515,246.524,246.532, 246.545,246.553,246.561,246.574,246.582 ,246.589,246.597,246.605,246.613,246.62 ,246.627,246.635,246.64,246.647,246.654 ,246.66,246.668,246.678,246.685,246.696 ,246.702,246.708,246.714,246.719, 246.725,246.736,246.744,246.821,247.104 ,247.371,247.588,247.906,248.241, 248.484,248.49,248.496,248.501,248.504, 248.508,248.512,248.516,248.52,248.523, 248.526,248.529,248.535,248.538,248.542 ,248.545,248.548,248.552,248.555, 248.558,248.564,248.567,248.57,248.575, 248.58,248.584,248.587,248.591,248.595, 248.598,248.602,248.608,248.612,248.616 ,248.619,248.623,248.628,248.631, 248.636,248.64,248.644,248.648,248.652, 248.336)
ORBIT_NUMBER = 18727
ORBITAL_ECCENTRICITY = 0.578
ORBITAL_INCLINATION = 86.94
ORBITAL_SEMIMAJOR_AXIS = 8861.86
PERIAPSIS_ALTITUDE = 341.3
PERIAPSIS_ARGUMENT_ANGLE = 352.18
PERIAPSIS_TIME = 2018-10-20T16:17:57.000Z
SPACECRAFT_ORIENTATION = (0.0,1.0,0.0)
^MEX_ORIENTATION_DESC = "MEX_ORIENTATION_DESC.TXT"
SPACECRAFT_POINTING_MODE = INERT
^MEX_POINTING_DESC = "MEX_POINTING_DESC.TXT"
RIGHT_ASCENSION = 79.384
DECLINATION = 30.708
OFFSET_ANGLE = -1e+32
SPACECRAFT_SOLAR_DISTANCE = 2.07905e+08
TARGET_NAME = MARS
/* CAMERA DATA ELEMENTS */
DETECTOR_TEMPERATURE = 18.5744
FOCAL_PLANE_TEMPERATURE = 10.8262
INST_CMPRS_NAME = "DISCRETE COSINE TRANSFORMATION (DCT)"
INST_CMPRS_RATIO = 11.2326
INST_CMPRS_QUALITY = 0
INST_CMPRS_QUANTZ_TBL_ID = 0
INSTRUMENT_TEMPERATURE = 12.0496
LENS_TEMPERATURE = 11.0301
MACROPIXEL_SIZE = 2
MISSING_FRAMES = 0
PIXEL_SUBSAMPLING_FLAG = N
SIGNAL_CHAIN_ID = 3
/* RADIOMETRIC DATA ELEMENTS */
BANDWIDTH = 174.0
CENTER_FILTER_WAVELENGTH = 675.0
RADIANCE_OFFSET = 2.50246
RADIANCE_SCALING_FACTOR = 0.0125396
REFLECTANCE_SCALING_FACTOR = 0.000291538
MEX:REFLECTANCE_OFFSET = 0.0581808
/* IMAGE OBJECT DEFINITIONS */
OBJECT = IMAGE
  INTERCHANGE_FORMAT = BINARY
  LINES = 19245
  LINE_SAMPLES = 4563
  SAMPLE_TYPE = UNSIGNED_INTEGER
  SAMPLE_BITS = 8
  BANDS = 1
  BAND_STORAGE_TYPE = BAND_SEQUENTIAL
  MAXIMUM = 255
  MEAN = 90.9185
  MINIMUM = 1
  STANDARD_DEVIATION = 30.7818
END_OBJECT = IMAGE
/* MAP OBJECT DEFINITIONS */
OBJECT = IMAGE_MAP_PROJECTION
  ^DATA_SET_MAP_PROJECTION_CATALOG= "DSMAP.CAT"
  A_AXIS_RADIUS = 3396.0
  B_AXIS_RADIUS = 3396.0
  C_AXIS_RADIUS = 3396.0
  CENTER_LATITUDE = 0.0
  CENTER_LONGITUDE = 248.0
  COORDINATE_SYSTEM_NAME = PLANETOGRAPHIC
  COORDINATE_SYSTEM_TYPE = "BODY-FIXED ROTATING"
  EASTERNMOST_LONGITUDE = 248.652
  FIRST_STANDARD_PARALLEL = "N/A"
  LINE_FIRST_PIXEL = 1
  LINE_LAST_PIXEL = 19245
  LINE_PROJECTION_OFFSET = -70830.75
  MAP_PROJECTION_ROTATION = 0.0
  MAP_PROJECTION_TYPE = SINUSOIDAL
  MAP_RESOLUTION = 2370.85521546667
  MAP_SCALE = 0.025
  MAXIMUM_LATITUDE = -29.8522
  MINIMUM_LATITUDE = -37.9612
  POSITIVE_LONGITUDE_DIRECTION = EAST
  REFERENCE_LATITUDE = "N/A"
  REFERENCE_LONGITUDE = "N/A"
  SAMPLE_FIRST_PIXEL = 1
  SAMPLE_LAST_PIXEL = 4563
  SAMPLE_PROJECTION_OFFSET = 3216.75
  SECOND_STANDARD_PARALLEL = "N/A"
  WESTERNMOST_LONGITUDE = 246.374
END_OBJECT = IMAGE_MAP_PROJECTION
/* The JPEG2000 image data file associated with this label. */
OBJECT = COMPRESSED_FILE
  FILE_NAME = "HI727_0000_P13.JP2"
  RECORD_TYPE = UNDEFINED
  FILE_RECORDS = UNK
  ENCODING_TYPE = "JP2"
  INTERCHANGE_FORMAT = BINARY
  UNCOMPRESSED_FILE_NAME = "HI727_0000_P13.IMG"
  REQUIRED_STORAGE_BYTES = "87842313"
  ^DESCRIPTION = "JP2INFO.TXT"
END_OBJECT = COMPRESSED_FILE
END
