PDS_VERSION_ID = PDS3
/* FILE DATA ELEMENTS */
RECORD_TYPE = STREAM
/* POINTERS TO DATA OBJECTS */
^COMPRESSED_FILE = "HI740_0000_P13.JP2"
/* IDENTIFICATION DATA ELEMENTS */
DATA_SET_ID = "MEX-M-HRSC-5-REFDR-MAPPROJECTED-V3.0"
DATA_SET_NAME = "MARS EXPRESS HRSC MAP PROJECTED REFDR V3.0"
DETECTOR_ID = MEX_HRSC_P1
EVENT_TYPE = "MARS-REGIONAL-MAPPING-Im-Fl"
INSTRUMENT_HOST_ID = MEX
INSTRUMENT_HOST_NAME = "MARS EXPRESS"
INSTRUMENT_ID = HRSC
INSTRUMENT_NAME = "HIGH RESOLUTION STEREO CAMERA"
MISSION_NAME = "MARS EXPRESS"
MISSION_PHASE_NAME = ME_Phase_39
PROCESSING_LEVEL_ID = 3
PRODUCT_CREATION_TIME = 2019-02-21T11:58:24.000Z
PRODUCT_ID = "HI740_0000_P13.JP2"
RELEASE_ID = 0142
REVISION_ID = 0000
/* QUALITY DATA ELEMENTS */
DATA_QUALITY_ID = 1
DATA_QUALITY_DESC = "Data calculated based on original SPICE kernels"
/* TIME DATA ELEMENTS */
SPACECRAFT_CLOCK_START_COUNT = "1/0488458750.23972"
SPACECRAFT_CLOCK_STOP_COUNT = "1/0488458947.57699"
START_TIME = 2018-10-24T11:00:38.857Z
STOP_TIME = 2018-10-24T11:02:48.115Z
/* ORBITAL DATA ELEMENTS */
ASCENDING_NODE_LONGITUDE = 222.59
MAXIMUM_RESOLUTION = 26.8
FOOTPRINT_POINT_LATITUDE = (-28.0495,-28.0496,-28.0493,-28.0488, -28.048,-28.0469,-27.8675,-27.6823, -27.4962,-27.31,-27.0307,-26.7513, -26.5652,-26.3792,-26.1932,-26.0071, -25.7284,-25.5424,-25.357,-25.1712, -24.9871,-24.7094,-24.524,-24.3387, -24.1533,-23.968,-23.7829,-23.5977, -23.4122,-23.226,-23.0399,-22.8546, -22.6697,-22.4853,-22.2043,-22.0194, -21.7429,-21.5585,-21.3743,-21.1896, -21.0048,-20.8205,-20.6361,-20.3606, -20.1757,-19.899,-19.7146,-19.5302, -19.3459,-19.1616,-18.9773,-18.7929, -18.7561,-18.7562,-18.7559,-18.7557, -18.9401,-19.2168,-19.493,-19.7698, -19.954,-20.1384,-20.3228,-20.5073, -20.6918,-20.8763,-21.1528,-21.3373, -21.614,-21.7985,-21.9831,-22.1685, -22.4472,-22.7293,-22.9144,-23.1922, -23.4699,-23.6551,-23.8404,-24.0257, -24.211,-24.3965,-24.5818,-24.7673, -24.9528,-25.2312,-25.4172,-25.603, -25.7887,-25.9745,-26.1599,-26.3446, -26.6233,-26.8091,-27.089,-27.2756, -27.5555,-27.7418,-27.9279,-28.0495)
FOOTPRINT_POINT_LONGITUDE = (360.49,360.216,359.957,359.728,359.484 ,359.24,359.023,359.028,359.034,359.039 ,359.048,359.056,359.062,359.067, 359.072,359.078,359.085,359.09,359.095, 359.1,359.104,359.11,359.114,359.119, 359.123,359.127,359.131,359.135,359.14, 359.145,359.149,359.153,359.157,359.16, 359.165,359.168,359.173,359.176,359.179 ,359.182,359.185,359.188,359.19,359.193 ,359.196,359.2,359.203,359.205,359.208, 359.21,359.212,359.214,359.502,359.913, 360.25,360.504,360.506,360.508,360.51, 360.513,360.514,360.516,360.517,360.519 ,360.521,360.522,360.524,360.526, 360.528,360.53,360.532,360.534,360.538, 360.541,360.544,360.547,360.55,360.552, 360.554,360.556,360.558,360.56,360.562, 360.564,360.566,360.569,360.572,360.574 ,360.576,360.578,360.58,360.582,360.585 ,360.587,360.591,360.593,360.597, 360.599,360.601,360.49)
ORBIT_NUMBER = 18740
ORBITAL_ECCENTRICITY = 0.578
ORBITAL_INCLINATION = 86.94
ORBITAL_SEMIMAJOR_AXIS = 8845.47
PERIAPSIS_ALTITUDE = 340.96
PERIAPSIS_ARGUMENT_ANGLE = 349.95
PERIAPSIS_TIME = 2018-10-24T11:04:57.000Z
SPACECRAFT_ORIENTATION = (0.0,1.0,0.0)
^MEX_ORIENTATION_DESC = "MEX_ORIENTATION_DESC.TXT"
SPACECRAFT_POINTING_MODE = INERT
^MEX_POINTING_DESC = "MEX_POINTING_DESC.TXT"
RIGHT_ASCENSION = 77.651
DECLINATION = 32.424
OFFSET_ANGLE = -1e+32
SPACECRAFT_SOLAR_DISTANCE = 2.08191e+08
TARGET_NAME = MARS
/* CAMERA DATA ELEMENTS */
DETECTOR_TEMPERATURE = 18.1666
FOCAL_PLANE_TEMPERATURE = 10.8262
INST_CMPRS_NAME = "DISCRETE COSINE TRANSFORMATION (DCT)"
INST_CMPRS_RATIO = 8.70923
INST_CMPRS_QUALITY = 0
INST_CMPRS_QUANTZ_TBL_ID = 0
INSTRUMENT_TEMPERATURE = 12.2535
LENS_TEMPERATURE = 10.4184
MACROPIXEL_SIZE = 2
MISSING_FRAMES = 1
PIXEL_SUBSAMPLING_FLAG = N
SIGNAL_CHAIN_ID = 3
/* RADIOMETRIC DATA ELEMENTS */
BANDWIDTH = 174.0
CENTER_FILTER_WAVELENGTH = 675.0
RADIANCE_OFFSET = 2.7631
RADIANCE_SCALING_FACTOR = 0.00678409
REFLECTANCE_SCALING_FACTOR = 0.000158161
MEX:REFLECTANCE_OFFSET = 0.0644176
/* IMAGE OBJECT DEFINITIONS */
OBJECT = IMAGE
  INTERCHANGE_FORMAT = BINARY
  LINES = 22069
  LINE_SAMPLES = 3577
  SAMPLE_TYPE = UNSIGNED_INTEGER
  SAMPLE_BITS = 8
  BANDS = 1
  BAND_STORAGE_TYPE = BAND_SEQUENTIAL
  MAXIMUM = 255
  MEAN = 95.9513
  MINIMUM = 1
  STANDARD_DEVIATION = 27.8515
END_OBJECT = IMAGE
/* MAP OBJECT DEFINITIONS */
OBJECT = IMAGE_MAP_PROJECTION
  ^DATA_SET_MAP_PROJECTION_CATALOG= "DSMAP.CAT"
  A_AXIS_RADIUS = 3396.0
  B_AXIS_RADIUS = 3396.0
  C_AXIS_RADIUS = 3396.0
  CENTER_LATITUDE = 0.0
  CENTER_LONGITUDE = 360.0
  COORDINATE_SYSTEM_NAME = PLANETOGRAPHIC
  COORDINATE_SYSTEM_TYPE = "BODY-FIXED ROTATING"
  EASTERNMOST_LONGITUDE = 0.601
  FIRST_STANDARD_PARALLEL = "N/A"
  LINE_FIRST_PIXEL = 1
  LINE_LAST_PIXEL = 22069
  LINE_PROJECTION_OFFSET = -44480.25
  MAP_PROJECTION_ROTATION = 0.0
  MAP_PROJECTION_TYPE = SINUSOIDAL
  MAP_RESOLUTION = 2370.85521546667
  MAP_SCALE = 0.025
  MAXIMUM_LATITUDE = -18.7557
  MINIMUM_LATITUDE = -28.0496
  POSITIVE_LONGITUDE_DIRECTION = EAST
  REFERENCE_LATITUDE = "N/A"
  REFERENCE_LONGITUDE = "N/A"
  SAMPLE_FIRST_PIXEL = 1
  SAMPLE_LAST_PIXEL = 3577
  SAMPLE_PROJECTION_OFFSET = 2210.75
  SECOND_STANDARD_PARALLEL = "N/A"
  WESTERNMOST_LONGITUDE = -0.977
END_OBJECT = IMAGE_MAP_PROJECTION
/* The JPEG2000 image data file associated with this label. */
OBJECT = COMPRESSED_FILE
  FILE_NAME = "HI740_0000_P13.JP2"
  RECORD_TYPE = UNDEFINED
  FILE_RECORDS = UNK
  ENCODING_TYPE = "JP2"
  INTERCHANGE_FORMAT = BINARY
  UNCOMPRESSED_FILE_NAME = "HI740_0000_P13.IMG"
  REQUIRED_STORAGE_BYTES = "78962275"
  ^DESCRIPTION = "JP2INFO.TXT"
END_OBJECT = COMPRESSED_FILE
END
