PDS_VERSION_ID = PDS3
/* FILE DATA ELEMENTS */
RECORD_TYPE = STREAM
/* POINTERS TO DATA OBJECTS */
^COMPRESSED_FILE = "HI740_0000_RE3.JP2"
/* IDENTIFICATION DATA ELEMENTS */
DATA_SET_ID = "MEX-M-HRSC-5-REFDR-MAPPROJECTED-V3.0"
DATA_SET_NAME = "MARS EXPRESS HRSC MAP PROJECTED REFDR V3.0"
DETECTOR_ID = MEX_HRSC_RED
EVENT_TYPE = "MARS-REGIONAL-MAPPING-Im-Fl"
INSTRUMENT_HOST_ID = MEX
INSTRUMENT_HOST_NAME = "MARS EXPRESS"
INSTRUMENT_ID = HRSC
INSTRUMENT_NAME = "HIGH RESOLUTION STEREO CAMERA"
MISSION_NAME = "MARS EXPRESS"
MISSION_PHASE_NAME = ME_Phase_39
PROCESSING_LEVEL_ID = 3
PRODUCT_CREATION_TIME = 2019-02-21T11:58:24.000Z
PRODUCT_ID = "HI740_0000_RE3.JP2"
RELEASE_ID = 0142
REVISION_ID = 0000
/* QUALITY DATA ELEMENTS */
DATA_QUALITY_ID = 1
DATA_QUALITY_DESC = "Data calculated based on original SPICE kernels"
/* TIME DATA ELEMENTS */
SPACECRAFT_CLOCK_START_COUNT = "1/0488458750.23972"
SPACECRAFT_CLOCK_STOP_COUNT = "1/0488458947.57699"
START_TIME = 2018-10-24T10:59:47.949Z
STOP_TIME = 2018-10-24T11:02:02.257Z
/* ORBITAL DATA ELEMENTS */
ASCENDING_NODE_LONGITUDE = 222.59
MAXIMUM_RESOLUTION = 60.5
FOOTPRINT_POINT_LATITUDE = (-28.0849,-28.0855,-28.0856,-28.0848, -28.0831,-28.0808,-28.078,-27.8735, -27.6812,-27.4897,-27.2027,-26.9174, -26.7308,-26.5441,-26.3574,-26.1705, -25.9835,-25.7968,-25.6108,-25.2464, -25.0613,-24.8778,-24.6945,-24.5118, -24.3288,-24.0543,-23.8711,-23.6878, -23.5046,-23.1451,-22.8698,-22.686, -22.5003,-22.3165,-22.1305,-21.9465, -21.7607,-21.4822,-21.2959,-21.1122, -20.9274,-20.7421,-20.4619,-20.2732, -20.0904,-19.9036,-19.7175,-19.5312, -19.344,-19.1575,-18.8778,-18.7623, -18.7633,-18.7646,-18.947,-18.764, -18.7622,-18.7613,-18.9476,-19.1328, -19.32,-19.5087,-19.6946,-19.8813, -20.0682,-20.2543,-20.44,-20.6255, -20.8099,-20.996,-21.2766,-21.4623, -21.648,-21.9257,-22.2884,-22.5643, -22.7484,-22.932,-23.1158,-23.2995, -23.4832,-23.7585,-23.9421,-24.2171, -24.4918,-24.6751,-24.8581,-25.0409, -25.4975,-25.7751,-25.9626,-26.1509, -26.4337,-26.6212,-26.8085,-26.9955, -27.2818,-27.473,-27.7605,-28.0849)
FOOTPRINT_POINT_LONGITUDE = (360.551,360.318,360.07,359.791,359.513 ,359.265,359.016,358.951,358.957, 358.962,358.971,358.979,358.985,358.99, 358.995,359.001,359.006,359.011,359.016 ,359.025,359.029,359.033,359.037, 359.041,359.045,359.052,359.055,359.059 ,359.063,359.073,359.079,359.082, 359.085,359.088,359.091,359.094,359.097 ,359.101,359.103,359.107,359.109, 359.112,359.116,359.117,359.12,359.123, 359.125,359.127,359.129,359.131,359.134 ,359.348,359.694,359.947,360.011,360.04 ,360.333,360.564,360.565,360.566, 360.566,360.566,360.567,360.568,360.569 ,360.57,360.57,360.571,360.573,360.573, 360.574,360.575,360.575,360.577,360.581 ,360.583,360.584,360.585,360.586, 360.587,360.588,360.59,360.591,360.593, 360.595,360.596,360.597,360.598,360.601 ,360.603,360.605,360.605,360.606, 360.608,360.609,360.61,360.612,360.614, 360.616,360.551)
ORBIT_NUMBER = 18740
ORBITAL_ECCENTRICITY = 0.578
ORBITAL_INCLINATION = 86.94
ORBITAL_SEMIMAJOR_AXIS = 8845.47
PERIAPSIS_ALTITUDE = 340.96
PERIAPSIS_ARGUMENT_ANGLE = 349.95
PERIAPSIS_TIME = 2018-10-24T11:04:57.000Z
SPACECRAFT_ORIENTATION = (0.0,1.0,0.0)
^MEX_ORIENTATION_DESC = "MEX_ORIENTATION_DESC.TXT"
SPACECRAFT_POINTING_MODE = INERT
^MEX_POINTING_DESC = "MEX_POINTING_DESC.TXT"
RIGHT_ASCENSION = 77.651
DECLINATION = 32.424
OFFSET_ANGLE = -1e+32
SPACECRAFT_SOLAR_DISTANCE = 2.08191e+08
TARGET_NAME = MARS
/* CAMERA DATA ELEMENTS */
DETECTOR_TEMPERATURE = 19.39
FOCAL_PLANE_TEMPERATURE = 10.8262
INST_CMPRS_NAME = "DISCRETE COSINE TRANSFORMATION (DCT)"
INST_CMPRS_RATIO = 13.2988
INST_CMPRS_QUALITY = 0
INST_CMPRS_QUANTZ_TBL_ID = 0
INSTRUMENT_TEMPERATURE = 12.2535
LENS_TEMPERATURE = 10.4184
MACROPIXEL_SIZE = 4
MISSING_FRAMES = 0
PIXEL_SUBSAMPLING_FLAG = N
SIGNAL_CHAIN_ID = 2
/* RADIOMETRIC DATA ELEMENTS */
BANDWIDTH = 48.0
CENTER_FILTER_WAVELENGTH = 748.0
RADIANCE_OFFSET = 0.727264
RADIANCE_SCALING_FACTOR = 0.00196076
REFLECTANCE_SCALING_FACTOR = 0.000193943
MEX:REFLECTANCE_OFFSET = 0.0719351
/* IMAGE OBJECT DEFINITIONS */
OBJECT = IMAGE
  INTERCHANGE_FORMAT = BINARY
  LINES = 11035
  LINE_SAMPLES = 1789
  SAMPLE_TYPE = UNSIGNED_INTEGER
  SAMPLE_BITS = 8
  BANDS = 1
  BAND_STORAGE_TYPE = BAND_SEQUENTIAL
  MAXIMUM = 255
  MEAN = 99.1104
  MINIMUM = 1
  STANDARD_DEVIATION = 27.6706
END_OBJECT = IMAGE
/* MAP OBJECT DEFINITIONS */
OBJECT = IMAGE_MAP_PROJECTION
  ^DATA_SET_MAP_PROJECTION_CATALOG= "DSMAP.CAT"
  A_AXIS_RADIUS = 3396.0
  B_AXIS_RADIUS = 3396.0
  C_AXIS_RADIUS = 3396.0
  CENTER_LATITUDE = 0.0
  CENTER_LONGITUDE = 360.0
  COORDINATE_SYSTEM_NAME = PLANETOGRAPHIC
  COORDINATE_SYSTEM_TYPE = "BODY-FIXED ROTATING"
  EASTERNMOST_LONGITUDE = 0.616
  FIRST_STANDARD_PARALLEL = "N/A"
  LINE_FIRST_PIXEL = 1
  LINE_LAST_PIXEL = 11035
  LINE_PROJECTION_OFFSET = -22240.375
  MAP_PROJECTION_ROTATION = 0.0
  MAP_PROJECTION_TYPE = SINUSOIDAL
  MAP_RESOLUTION = 1185.42760773333
  MAP_SCALE = 0.05
  MAXIMUM_LATITUDE = -18.7613
  MINIMUM_LATITUDE = -28.0856
  POSITIVE_LONGITUDE_DIRECTION = EAST
  REFERENCE_LATITUDE = "N/A"
  REFERENCE_LONGITUDE = "N/A"
  SAMPLE_FIRST_PIXEL = 1
  SAMPLE_LAST_PIXEL = 1789
  SAMPLE_PROJECTION_OFFSET = 1105.125
  SECOND_STANDARD_PARALLEL = "N/A"
  WESTERNMOST_LONGITUDE = -1.049
END_OBJECT = IMAGE_MAP_PROJECTION
/* The JPEG2000 image data file associated with this label. */
OBJECT = COMPRESSED_FILE
  FILE_NAME = "HI740_0000_RE3.JP2"
  RECORD_TYPE = UNDEFINED
  FILE_RECORDS = UNK
  ENCODING_TYPE = "JP2"
  INTERCHANGE_FORMAT = BINARY
  UNCOMPRESSED_FILE_NAME = "HI740_0000_RE3.IMG"
  REQUIRED_STORAGE_BYTES = "19761294"
  ^DESCRIPTION = "JP2INFO.TXT"
END_OBJECT = COMPRESSED_FILE
END
