PDS_VERSION_ID = PDS3
/* FILE DATA ELEMENTS */
RECORD_TYPE = STREAM
/* POINTERS TO DATA OBJECTS */
^COMPRESSED_FILE = "HI741_0000_S13.JP2"
/* IDENTIFICATION DATA ELEMENTS */
DATA_SET_ID = "MEX-M-HRSC-5-REFDR-MAPPROJECTED-V3.0"
DATA_SET_NAME = "MARS EXPRESS HRSC MAP PROJECTED REFDR V3.0"
DETECTOR_ID = MEX_HRSC_S1
EVENT_TYPE = "MARS-REGIONAL-STEREO-Te"
INSTRUMENT_HOST_ID = MEX
INSTRUMENT_HOST_NAME = "MARS EXPRESS"
INSTRUMENT_ID = HRSC
INSTRUMENT_NAME = "HIGH RESOLUTION STEREO CAMERA"
MISSION_NAME = "MARS EXPRESS"
MISSION_PHASE_NAME = ME_Phase_39
PROCESSING_LEVEL_ID = 3
PRODUCT_CREATION_TIME = 2019-02-21T11:58:24.000Z
PRODUCT_ID = "HI741_0000_S13.JP2"
RELEASE_ID = 0142
REVISION_ID = 0000
/* QUALITY DATA ELEMENTS */
DATA_QUALITY_ID = 1
DATA_QUALITY_DESC = "Data calculated based on original SPICE kernels"
/* TIME DATA ELEMENTS */
SPACECRAFT_CLOCK_START_COUNT = "1/0488483838.23977"
SPACECRAFT_CLOCK_STOP_COUNT = "1/0488484034.40711"
START_TIME = 2018-10-24T17:59:03.089Z
STOP_TIME = 2018-10-24T18:01:03.988Z
/* ORBITAL DATA ELEMENTS */
ASCENDING_NODE_LONGITUDE = 222.57
MAXIMUM_RESOLUTION = 15
FOOTPRINT_POINT_LATITUDE = (-32.0783,-32.0837,-32.089,-32.0941, -32.099,-32.1038,-32.0045,-31.817, -31.6246,-31.4382,-31.1606,-30.9727, -30.7889,-30.6045,-30.4207,-30.146, -29.9674,-29.6996,-29.5209,-29.2529, -29.0741,-28.8967,-28.7191,-28.5401, -28.3625,-28.1855,-28.0079,-27.7417, -27.5643,-27.2985,-27.1218,-26.9448, -26.6793,-26.5029,-26.3265,-26.0619, -25.8857,-25.7093,-25.4445,-25.2685, -25.0924,-24.9166,-24.7407,-24.565, -24.3897,-24.2138,-24.0382,-23.8632, -23.6002,-23.4249,-23.2497,-23.1516, -23.1481,-23.1424,-23.1383,-23.1335, -23.1292,-23.3918,-23.6544,-23.8297, -24.0048,-24.268,-24.4437,-24.6191, -24.7952,-24.9708,-25.1466,-25.3226, -25.4984,-25.6745,-25.939,-26.1154, -26.2919,-26.4686,-26.6453,-26.8219, -26.9985,-27.2631,-27.4392,-27.7888, -27.9658,-28.3139,-28.4955,-28.7688, -28.947,-29.1236,-29.3011,-29.4795, -29.7477,-29.9268,-30.1062,-30.2892, -30.4738,-30.658,-30.9334,-31.1183, -31.3957,-31.5802,-31.7718,-32.0783)
FOOTPRINT_POINT_LONGITUDE = (257.505,257.228,256.949,256.667, 256.383,256.096,255.829,255.842,255.858 ,255.873,255.893,255.909,255.922, 255.935,255.947,255.966,255.978,255.995 ,256.007,256.024,256.036,256.046, 256.056,256.068,256.078,256.088,256.098 ,256.113,256.123,256.138,256.147, 256.156,256.17,256.179,256.188,256.201, 256.209,256.218,256.231,256.239,256.247 ,256.255,256.263,256.27,256.277,256.285 ,256.293,256.299,256.31,256.317,256.324 ,256.56,256.751,257.061,257.261,257.487 ,257.691,257.69,257.689,257.688,257.687 ,257.686,257.685,257.684,257.683, 257.681,257.68,257.679,257.678,257.677, 257.675,257.674,257.672,257.671,257.67, 257.668,257.667,257.664,257.663,257.66, 257.658,257.655,257.653,257.65,257.648, 257.646,257.644,257.642,257.639,257.637 ,257.635,257.633,257.63,257.628,257.624 ,257.622,257.618,257.616,257.613, 257.505)
ORBIT_NUMBER = 18741
ORBITAL_ECCENTRICITY = 0.578
ORBITAL_INCLINATION = 86.94
ORBITAL_SEMIMAJOR_AXIS = 8859.5
PERIAPSIS_ALTITUDE = 340.19
PERIAPSIS_ARGUMENT_ANGLE = 349.78
PERIAPSIS_TIME = 2018-10-24T18:03:59.000Z
SPACECRAFT_ORIENTATION = (0.0,1.0,0.0)
^MEX_ORIENTATION_DESC = "MEX_ORIENTATION_DESC.TXT"
SPACECRAFT_POINTING_MODE = INERT
^MEX_POINTING_DESC = "MEX_POINTING_DESC.TXT"
RIGHT_ASCENSION = 77.52
DECLINATION = 32.538
OFFSET_ANGLE = -1e+32
SPACECRAFT_SOLAR_DISTANCE = 2.08214e+08
TARGET_NAME = MARS
/* CAMERA DATA ELEMENTS */
DETECTOR_TEMPERATURE = 18.1666
FOCAL_PLANE_TEMPERATURE = 11.6418
INST_CMPRS_NAME = "DISCRETE COSINE TRANSFORMATION (DCT)"
INST_CMPRS_RATIO = 6.42486
INST_CMPRS_QUALITY = 0
INST_CMPRS_QUANTZ_TBL_ID = 0
INSTRUMENT_TEMPERATURE = 12.6613
LENS_TEMPERATURE = 11.6418
MACROPIXEL_SIZE = 1
MISSING_FRAMES = 0
PIXEL_SUBSAMPLING_FLAG = N
SIGNAL_CHAIN_ID = 2
/* RADIOMETRIC DATA ELEMENTS */
BANDWIDTH = 180.0
CENTER_FILTER_WAVELENGTH = 677.0
RADIANCE_OFFSET = 2.43384
RADIANCE_SCALING_FACTOR = 0.0217172
REFLECTANCE_SCALING_FACTOR = 0.000491206
MEX:REFLECTANCE_OFFSET = 0.0550495
/* IMAGE OBJECT DEFINITIONS */
OBJECT = IMAGE
  INTERCHANGE_FORMAT = BINARY
  LINES = 42592
  LINE_SAMPLES = 8327
  SAMPLE_TYPE = UNSIGNED_INTEGER
  SAMPLE_BITS = 8
  BANDS = 1
  BAND_STORAGE_TYPE = BAND_SEQUENTIAL
  MAXIMUM = 255
  MEAN = 82.1335
  MINIMUM = 1
  STANDARD_DEVIATION = 28.125
END_OBJECT = IMAGE
/* MAP OBJECT DEFINITIONS */
OBJECT = IMAGE_MAP_PROJECTION
  ^DATA_SET_MAP_PROJECTION_CATALOG= "DSMAP.CAT"
  A_AXIS_RADIUS = 3396.0
  B_AXIS_RADIUS = 3396.0
  C_AXIS_RADIUS = 3396.0
  CENTER_LATITUDE = 0.0
  CENTER_LONGITUDE = 257.0
  COORDINATE_SYSTEM_NAME = PLANETOGRAPHIC
  COORDINATE_SYSTEM_TYPE = "BODY-FIXED ROTATING"
  EASTERNMOST_LONGITUDE = 257.691
  FIRST_STANDARD_PARALLEL = "N/A"
  LINE_FIRST_PIXEL = 1
  LINE_LAST_PIXEL = 42592
  LINE_PROJECTION_OFFSET = -109847.0
  MAP_PROJECTION_ROTATION = 0.0
  MAP_PROJECTION_TYPE = SINUSOIDAL
  MAP_RESOLUTION = 4741.71043093333
  MAP_SCALE = 0.0125
  MAXIMUM_LATITUDE = -23.1292
  MINIMUM_LATITUDE = -32.1038
  POSITIVE_LONGITUDE_DIRECTION = EAST
  REFERENCE_LATITUDE = "N/A"
  REFERENCE_LONGITUDE = "N/A"
  SAMPLE_FIRST_PIXEL = 1
  SAMPLE_LAST_PIXEL = 8327
  SAMPLE_PROJECTION_OFFSET = 5270.0
  SECOND_STANDARD_PARALLEL = "N/A"
  WESTERNMOST_LONGITUDE = 255.829
END_OBJECT = IMAGE_MAP_PROJECTION
/* The JPEG2000 image data file associated with this label. */
OBJECT = COMPRESSED_FILE
  FILE_NAME = "HI741_0000_S13.JP2"
  RECORD_TYPE = UNDEFINED
  FILE_RECORDS = UNK
  ENCODING_TYPE = "JP2"
  INTERCHANGE_FORMAT = BINARY
  UNCOMPRESSED_FILE_NAME = "HI741_0000_S13.IMG"
  REQUIRED_STORAGE_BYTES = "354696892"
  ^DESCRIPTION = "JP2INFO.TXT"
END_OBJECT = COMPRESSED_FILE
END
