PDS_VERSION_ID = PDS3
/* FILE DATA ELEMENTS */
RECORD_TYPE = STREAM
/* POINTERS TO DATA OBJECTS */
^COMPRESSED_FILE = "HI746_0000_P13.JP2"
/* IDENTIFICATION DATA ELEMENTS */
DATA_SET_ID = "MEX-M-HRSC-5-REFDR-MAPPROJECTED-V3.0"
DATA_SET_NAME = "MARS EXPRESS HRSC MAP PROJECTED REFDR V3.0"
DETECTOR_ID = MEX_HRSC_P1
EVENT_TYPE = "MARS-REGIONAL-MAPPING-Vo-Im"
INSTRUMENT_HOST_ID = MEX
INSTRUMENT_HOST_NAME = "MARS EXPRESS"
INSTRUMENT_ID = HRSC
INSTRUMENT_NAME = "HIGH RESOLUTION STEREO CAMERA"
MISSION_NAME = "MARS EXPRESS"
MISSION_PHASE_NAME = ME_Phase_39
PROCESSING_LEVEL_ID = 3
PRODUCT_CREATION_TIME = 2019-02-21T11:58:24.000Z
PRODUCT_ID = "HI746_0000_P13.JP2"
RELEASE_ID = 0142
REVISION_ID = 0000
/* QUALITY DATA ELEMENTS */
DATA_QUALITY_ID = 1
DATA_QUALITY_DESC = "Data calculated based on original SPICE kernels"
/* TIME DATA ELEMENTS */
SPACECRAFT_CLOCK_START_COUNT = "1/0488609747.25673"
SPACECRAFT_CLOCK_STOP_COUNT = "1/0488609978.49590"
START_TIME = 2018-10-26T04:57:06.625Z
STOP_TIME = 2018-10-26T04:59:59.263Z
/* ORBITAL DATA ELEMENTS */
ASCENDING_NODE_LONGITUDE = 222.47
MAXIMUM_RESOLUTION = 27.2
FOOTPRINT_POINT_LATITUDE = (-19.0026,-19.0035,-19.0039,-19.0045, -19.005,-19.0053,-19.0061,-18.7566, -18.5067,-18.3817,-18.1319,-17.7575, -17.3834,-17.0095,-16.6361,-16.3871, -16.1381,-15.7648,-15.5161,-15.143, -14.8945,-14.6462,-14.2739,-14.0273, -13.7794,-13.529,-13.1575,-12.7861, -12.4144,-12.1666,-11.795,-11.5477, -11.3002,-10.9291,-10.6816,-10.3101, -10.063,-9.81585,-9.44517,-9.19829, -8.95129,-8.70407,-8.45693,-8.20982, -7.96272,-7.5921,-7.34511,-7.09804, -6.85099,-6.60267,-6.60208,-6.601, -6.60013,-6.5993,-6.59826,-6.96888, -7.21598,-7.46307,-7.71017,-7.95727, -8.20432,-8.45146,-8.6986,-8.94583, -9.19307,-9.56392,-9.81115,-10.0585, -10.4294,-10.8005,-11.0478,-11.4191, -11.6666,-11.9142,-12.2856,-12.5341, -12.9051,-13.153,-13.401,-13.7728, -14.145,-14.3933,-14.6411,-14.8896, -15.138,-15.3867,-15.6354,-15.8843, -16.2575,-16.631,-16.8801,-17.2538, -17.503,-17.7524,-18.0021,-18.3765, -18.626,-18.8761,-19.0012,-19.0026)
FOOTPRINT_POINT_LONGITUDE = (107.525,107.289,107.152,106.953, 106.755,106.605,106.414,106.417,106.42, 106.422,106.425,106.429,106.433,106.437 ,106.441,106.443,106.445,106.448,106.45 ,106.453,106.455,106.456,106.459, 106.459,106.46,106.463,106.464,106.465, 106.466,106.467,106.468,106.469,106.469 ,106.469,106.47,106.471,106.47,106.47, 106.47,106.469,106.468,106.468,106.468, 106.467,106.466,106.465,106.464,106.463 ,106.462,106.563,106.734,107.006,107.2, 107.37,107.637,107.637,107.637,107.638, 107.638,107.638,107.638,107.639,107.64, 107.64,107.641,107.642,107.643,107.644, 107.645,107.647,107.647,107.649,107.65, 107.651,107.653,107.655,107.656,107.658 ,107.659,107.661,107.663,107.665, 107.666,107.668,107.669,107.671,107.673 ,107.675,107.678,107.68,107.682,107.685 ,107.687,107.689,107.691,107.694, 107.696,107.698,107.699,107.525)
ORBIT_NUMBER = 18746
ORBITAL_ECCENTRICITY = 0.578
ORBITAL_INCLINATION = 86.94
ORBITAL_SEMIMAJOR_AXIS = 8849.82
PERIAPSIS_ALTITUDE = 339.81
PERIAPSIS_ARGUMENT_ANGLE = 348.91
PERIAPSIS_TIME = 2018-10-26T04:58:49.000Z
SPACECRAFT_ORIENTATION = (0.0,1.0,0.0)
^MEX_ORIENTATION_DESC = "MEX_ORIENTATION_DESC.TXT"
SPACECRAFT_POINTING_MODE = INERT
^MEX_POINTING_DESC = "MEX_POINTING_DESC.TXT"
RIGHT_ASCENSION = 76.821
DECLINATION = 33.207
OFFSET_ANGLE = -1e+32
SPACECRAFT_SOLAR_DISTANCE = 2.08332e+08
TARGET_NAME = MARS
/* CAMERA DATA ELEMENTS */
DETECTOR_TEMPERATURE = 18.1666
FOCAL_PLANE_TEMPERATURE = 11.234
INST_CMPRS_NAME = "DISCRETE COSINE TRANSFORMATION (DCT)"
INST_CMPRS_RATIO = 8.50574
INST_CMPRS_QUALITY = 0
INST_CMPRS_QUANTZ_TBL_ID = 0
INSTRUMENT_TEMPERATURE = 12.8652
LENS_TEMPERATURE = 11.6418
MACROPIXEL_SIZE = 2
MISSING_FRAMES = 0
PIXEL_SUBSAMPLING_FLAG = N
SIGNAL_CHAIN_ID = 3
/* RADIOMETRIC DATA ELEMENTS */
BANDWIDTH = 174.0
CENTER_FILTER_WAVELENGTH = 675.0
RADIANCE_OFFSET = 2.23678
RADIANCE_SCALING_FACTOR = 0.00775958
REFLECTANCE_SCALING_FACTOR = 0.000181149
MEX:REFLECTANCE_OFFSET = 0.0522183
/* IMAGE OBJECT DEFINITIONS */
OBJECT = IMAGE
  INTERCHANGE_FORMAT = BINARY
  LINES = 29408
  LINE_SAMPLES = 3107
  SAMPLE_TYPE = UNSIGNED_INTEGER
  SAMPLE_BITS = 8
  BANDS = 1
  BAND_STORAGE_TYPE = BAND_SEQUENTIAL
  MAXIMUM = 255
  MEAN = 122.603
  MINIMUM = 1
  STANDARD_DEVIATION = 32.1996
END_OBJECT = IMAGE
/* MAP OBJECT DEFINITIONS */
OBJECT = IMAGE_MAP_PROJECTION
  ^DATA_SET_MAP_PROJECTION_CATALOG= "DSMAP.CAT"
  A_AXIS_RADIUS = 3396.0
  B_AXIS_RADIUS = 3396.0
  C_AXIS_RADIUS = 3396.0
  CENTER_LATITUDE = 0.0
  CENTER_LONGITUDE = 107.0
  COORDINATE_SYSTEM_NAME = PLANETOGRAPHIC
  COORDINATE_SYSTEM_TYPE = "BODY-FIXED ROTATING"
  EASTERNMOST_LONGITUDE = 107.699
  FIRST_STANDARD_PARALLEL = "N/A"
  LINE_FIRST_PIXEL = 1
  LINE_LAST_PIXEL = 29408
  LINE_PROJECTION_OFFSET = -15649.25
  MAP_PROJECTION_ROTATION = 0.0
  MAP_PROJECTION_TYPE = SINUSOIDAL
  MAP_RESOLUTION = 2370.85521546667
  MAP_SCALE = 0.025
  MAXIMUM_LATITUDE = -6.59826
  MINIMUM_LATITUDE = -19.0061
  POSITIVE_LONGITUDE_DIRECTION = EAST
  REFERENCE_LATITUDE = "N/A"
  REFERENCE_LONGITUDE = "N/A"
  SAMPLE_FIRST_PIXEL = 1
  SAMPLE_LAST_PIXEL = 3107
  SAMPLE_PROJECTION_OFFSET = 1448.25
  SECOND_STANDARD_PARALLEL = "N/A"
  WESTERNMOST_LONGITUDE = 106.414
END_OBJECT = IMAGE_MAP_PROJECTION
/* The JPEG2000 image data file associated with this label. */
OBJECT = COMPRESSED_FILE
  FILE_NAME = "HI746_0000_P13.JP2"
  RECORD_TYPE = UNDEFINED
  FILE_RECORDS = UNK
  ENCODING_TYPE = "JP2"
  INTERCHANGE_FORMAT = BINARY
  UNCOMPRESSED_FILE_NAME = "HI746_0000_P13.IMG"
  REQUIRED_STORAGE_BYTES = "91395512"
  ^DESCRIPTION = "JP2INFO.TXT"
END_OBJECT = COMPRESSED_FILE
END
