PDS_VERSION_ID = PDS3
/* FILE DATA ELEMENTS */
RECORD_TYPE = STREAM
/* POINTERS TO DATA OBJECTS */
^COMPRESSED_FILE = "HI746_0000_RE3.JP2"
/* IDENTIFICATION DATA ELEMENTS */
DATA_SET_ID = "MEX-M-HRSC-5-REFDR-MAPPROJECTED-V3.0"
DATA_SET_NAME = "MARS EXPRESS HRSC MAP PROJECTED REFDR V3.0"
DETECTOR_ID = MEX_HRSC_RED
EVENT_TYPE = "MARS-REGIONAL-MAPPING-Vo-Im"
INSTRUMENT_HOST_ID = MEX
INSTRUMENT_HOST_NAME = "MARS EXPRESS"
INSTRUMENT_ID = HRSC
INSTRUMENT_NAME = "HIGH RESOLUTION STEREO CAMERA"
MISSION_NAME = "MARS EXPRESS"
MISSION_PHASE_NAME = ME_Phase_39
PROCESSING_LEVEL_ID = 3
PRODUCT_CREATION_TIME = 2019-02-21T11:58:24.000Z
PRODUCT_ID = "HI746_0000_RE3.JP2"
RELEASE_ID = 0142
REVISION_ID = 0000
/* QUALITY DATA ELEMENTS */
DATA_QUALITY_ID = 1
DATA_QUALITY_DESC = "Data calculated based on original SPICE kernels"
/* TIME DATA ELEMENTS */
SPACECRAFT_CLOCK_START_COUNT = "1/0488609747.25673"
SPACECRAFT_CLOCK_STOP_COUNT = "1/0488609978.49590"
START_TIME = 2018-10-26T04:56:23.870Z
STOP_TIME = 2018-10-26T04:59:16.025Z
/* ORBITAL DATA ELEMENTS */
ASCENDING_NODE_LONGITUDE = 222.47
MAXIMUM_RESOLUTION = 58.6
FOOTPRINT_POINT_LATITUDE = (-19.0096,-19.0114,-19.0109,-18.643, -18.4,-18.0354,-17.7916,-17.5484, -17.3047,-17.0608,-16.816,-16.4498, -16.2054,-15.9605,-15.5935,-15.3491, -15.1042,-14.8589,-14.6132,-14.3681, -14.117,-13.7461,-13.5076,-13.259, -12.888,-12.6404,-12.393,-12.1463, -11.8969,-11.6504,-11.4016,-11.1532, -10.9042,-10.6561,-10.4102,-10.1602, -9.7848,-9.53475,-9.2798,-9.02725, -8.77586,-8.52522,-8.27426,-8.02264, -7.77067,-7.39012,-7.13711,-6.88335, -6.62981,-6.61365,-6.61227,-6.60978, -6.73267,-6.98687,-7.23947,-7.49257, -7.74542,-8.12435,-8.37759,-8.62917, -9.00548,-9.25615,-9.50697,-9.75743, -10.0078,-10.2575,-10.6319,-10.8817, -11.1318,-11.3803,-11.7529,-12.0012, -12.2499,-12.4934,-12.7448,-12.9918, -13.239,-13.4859,-13.7331,-13.9802, -14.2262,-14.4725,-14.7193,-14.9645, -15.2103,-15.4552,-15.7001,-16.0674, -16.4344,-16.801,-17.0454,-17.2895, -17.5336,-17.7774,-18.021,-18.2649, -18.508,-18.7515,-18.9943,-19.0096)
FOOTPRINT_POINT_LONGITUDE = (107.462,106.947,106.555,106.383, 106.385,106.389,106.391,106.394,106.396 ,106.398,106.4,106.402,106.404,106.406, 106.408,106.41,106.411,106.412,106.413, 106.414,106.414,106.414,106.417,106.417 ,106.418,106.418,106.418,106.419, 106.418,106.419,106.418,106.418,106.418 ,106.418,106.418,106.417,106.416, 106.415,106.414,106.412,106.411,106.41, 106.409,106.408,106.407,106.404,106.402 ,106.401,106.399,106.769,106.996, 107.343,107.682,107.681,107.681,107.68, 107.679,107.678,107.678,107.677,107.677 ,107.677,107.676,107.676,107.676, 107.676,107.676,107.676,107.675,107.676 ,107.676,107.676,107.676,107.678, 107.677,107.677,107.678,107.678,107.678 ,107.679,107.679,107.68,107.68,107.681, 107.681,107.682,107.683,107.684,107.685 ,107.687,107.688,107.688,107.689,107.69 ,107.691,107.692,107.693,107.694, 107.695,107.462)
ORBIT_NUMBER = 18746
ORBITAL_ECCENTRICITY = 0.578
ORBITAL_INCLINATION = 86.94
ORBITAL_SEMIMAJOR_AXIS = 8849.82
PERIAPSIS_ALTITUDE = 339.81
PERIAPSIS_ARGUMENT_ANGLE = 348.91
PERIAPSIS_TIME = 2018-10-26T04:58:49.000Z
SPACECRAFT_ORIENTATION = (0.0,1.0,0.0)
^MEX_ORIENTATION_DESC = "MEX_ORIENTATION_DESC.TXT"
SPACECRAFT_POINTING_MODE = INERT
^MEX_POINTING_DESC = "MEX_POINTING_DESC.TXT"
RIGHT_ASCENSION = 76.821
DECLINATION = 33.207
OFFSET_ANGLE = -1e+32
SPACECRAFT_SOLAR_DISTANCE = 2.08332e+08
TARGET_NAME = MARS
/* CAMERA DATA ELEMENTS */
DETECTOR_TEMPERATURE = 19.7978
FOCAL_PLANE_TEMPERATURE = 11.234
INST_CMPRS_NAME = "DISCRETE COSINE TRANSFORMATION (DCT)"
INST_CMPRS_RATIO = 23.4195
INST_CMPRS_QUALITY = 0
INST_CMPRS_QUANTZ_TBL_ID = 0
INSTRUMENT_TEMPERATURE = 12.8652
LENS_TEMPERATURE = 11.6418
MACROPIXEL_SIZE = 4
MISSING_FRAMES = 0
PIXEL_SUBSAMPLING_FLAG = N
SIGNAL_CHAIN_ID = 2
/* RADIOMETRIC DATA ELEMENTS */
BANDWIDTH = 48.0
CENTER_FILTER_WAVELENGTH = 748.0
RADIANCE_OFFSET = 0.629008
RADIANCE_SCALING_FACTOR = 0.00205558
REFLECTANCE_SCALING_FACTOR = 0.000203598
MEX:REFLECTANCE_OFFSET = 0.0623011
/* IMAGE OBJECT DEFINITIONS */
OBJECT = IMAGE
  INTERCHANGE_FORMAT = BINARY
  LINES = 14704
  LINE_SAMPLES = 1554
  SAMPLE_TYPE = UNSIGNED_INTEGER
  SAMPLE_BITS = 8
  BANDS = 1
  BAND_STORAGE_TYPE = BAND_SEQUENTIAL
  MAXIMUM = 255
  MEAN = 117.55
  MINIMUM = 1
  STANDARD_DEVIATION = 29.5242
END_OBJECT = IMAGE
/* MAP OBJECT DEFINITIONS */
OBJECT = IMAGE_MAP_PROJECTION
  ^DATA_SET_MAP_PROJECTION_CATALOG= "DSMAP.CAT"
  A_AXIS_RADIUS = 3396.0
  B_AXIS_RADIUS = 3396.0
  C_AXIS_RADIUS = 3396.0
  CENTER_LATITUDE = 0.0
  CENTER_LONGITUDE = 107.0
  COORDINATE_SYSTEM_NAME = PLANETOGRAPHIC
  COORDINATE_SYSTEM_TYPE = "BODY-FIXED ROTATING"
  EASTERNMOST_LONGITUDE = 107.695
  FIRST_STANDARD_PARALLEL = "N/A"
  LINE_FIRST_PIXEL = 1
  LINE_LAST_PIXEL = 14704
  LINE_PROJECTION_OFFSET = -7824.875
  MAP_PROJECTION_ROTATION = 0.0
  MAP_PROJECTION_TYPE = SINUSOIDAL
  MAP_RESOLUTION = 1185.42760773333
  MAP_SCALE = 0.05
  MAXIMUM_LATITUDE = -6.60978
  MINIMUM_LATITUDE = -19.0114
  POSITIVE_LONGITUDE_DIRECTION = EAST
  REFERENCE_LATITUDE = "N/A"
  REFERENCE_LONGITUDE = "N/A"
  SAMPLE_FIRST_PIXEL = 1
  SAMPLE_LAST_PIXEL = 1554
  SAMPLE_PROJECTION_OFFSET = 723.875
  SECOND_STANDARD_PARALLEL = "N/A"
  WESTERNMOST_LONGITUDE = 106.383
END_OBJECT = IMAGE_MAP_PROJECTION
/* The JPEG2000 image data file associated with this label. */
OBJECT = COMPRESSED_FILE
  FILE_NAME = "HI746_0000_RE3.JP2"
  RECORD_TYPE = UNDEFINED
  FILE_RECORDS = UNK
  ENCODING_TYPE = "JP2"
  INTERCHANGE_FORMAT = BINARY
  UNCOMPRESSED_FILE_NAME = "HI746_0000_RE3.IMG"
  REQUIRED_STORAGE_BYTES = "22870218"
  ^DESCRIPTION = "JP2INFO.TXT"
END_OBJECT = COMPRESSED_FILE
END
