PDS_VERSION_ID = PDS3
/* FILE DATA ELEMENTS */
RECORD_TYPE = STREAM
/* POINTERS TO DATA OBJECTS */
^COMPRESSED_FILE = "HI746_0000_S23.JP2"
/* IDENTIFICATION DATA ELEMENTS */
DATA_SET_ID = "MEX-M-HRSC-5-REFDR-MAPPROJECTED-V3.0"
DATA_SET_NAME = "MARS EXPRESS HRSC MAP PROJECTED REFDR V3.0"
DETECTOR_ID = MEX_HRSC_S2
EVENT_TYPE = "MARS-REGIONAL-MAPPING-Vo-Im"
INSTRUMENT_HOST_ID = MEX
INSTRUMENT_HOST_NAME = "MARS EXPRESS"
INSTRUMENT_ID = HRSC
INSTRUMENT_NAME = "HIGH RESOLUTION STEREO CAMERA"
MISSION_NAME = "MARS EXPRESS"
MISSION_PHASE_NAME = ME_Phase_39
PROCESSING_LEVEL_ID = 3
PRODUCT_CREATION_TIME = 2019-02-21T11:58:24.000Z
PRODUCT_ID = "HI746_0000_S23.JP2"
RELEASE_ID = 0142
REVISION_ID = 0000
/* QUALITY DATA ELEMENTS */
DATA_QUALITY_ID = 1
DATA_QUALITY_DESC = "Data calculated based on original SPICE kernels"
/* TIME DATA ELEMENTS */
SPACECRAFT_CLOCK_START_COUNT = "1/0488609747.25673"
SPACECRAFT_CLOCK_STOP_COUNT = "1/0488609978.49590"
START_TIME = 2018-10-26T04:56:18.794Z
STOP_TIME = 2018-10-26T04:59:10.639Z
/* ORBITAL DATA ELEMENTS */
ASCENDING_NODE_LONGITUDE = 222.47
MAXIMUM_RESOLUTION = 29.9
FOOTPRINT_POINT_LATITUDE = (-19.016,-19.0168,-19.0168,-19.0163, -19.0128,-18.7706,-18.5287,-18.2868, -18.045,-17.8024,-17.5601,-17.3174, -17.0745,-16.8306,-16.4657,-16.2222, -15.9784,-15.6124,-15.2469,-15.0026, -14.7577,-14.3904,-14.1424,-13.7694, -13.5316,-13.2843,-12.9141,-12.6667, -12.4197,-12.1735,-11.8026,-11.5538, -11.3056,-11.0571,-10.8085,-10.5632, -10.1889,-9.93888,-9.68912,-9.31005, -9.05613,-8.80392,-8.5532,-8.30209, -8.05024,-7.79798,-7.54517,-7.2898, -6.90902,-6.65484,-6.61238,-6.61077, -6.6088,-6.607,-6.60379,-6.98554, -7.36521,-7.74553,-8.12483,-8.37855, -8.75658,-9.13226,-9.38318,-9.75921, -10.0097,-10.2595,-10.5095,-10.7584, -11.0081,-11.382,-11.6302,-11.8783, -12.1261,-12.4932,-12.7448,-12.9915, -13.2383,-13.4845,-13.7313,-13.978, -14.2234,-14.4691,-14.7152,-14.9601, -15.205,-15.4491,-15.8151,-16.0592, -16.4251,-16.7903,-17.0339,-17.2771, -17.5202,-17.763,-18.0055,-18.2485, -18.4904,-18.7329,-18.9745,-19.016)
FOOTPRINT_POINT_LONGITUDE = (107.298,107.042,106.838,106.633, 106.372,106.374,106.377,106.38,106.382, 106.384,106.387,106.389,106.391,106.392 ,106.395,106.397,106.398,106.4,106.402, 106.404,106.405,106.406,106.406,106.406 ,106.409,106.409,106.409,106.409,106.41 ,106.41,106.41,106.41,106.409,106.409, 106.409,106.409,106.408,106.407,106.407 ,106.404,106.403,106.401,106.4,106.399, 106.398,106.397,106.395,106.393,106.39, 106.389,106.727,106.941,107.269,107.47, 107.689,107.687,107.686,107.685,107.684 ,107.683,107.682,107.682,107.681, 107.681,107.68,107.68,107.68,107.68, 107.68,107.679,107.679,107.679,107.68, 107.681,107.68,107.68,107.68,107.681, 107.681,107.681,107.682,107.682,107.682 ,107.683,107.683,107.684,107.685, 107.686,107.687,107.688,107.688,107.689 ,107.69,107.691,107.692,107.692,107.693 ,107.694,107.695,107.298)
ORBIT_NUMBER = 18746
ORBITAL_ECCENTRICITY = 0.578
ORBITAL_INCLINATION = 86.94
ORBITAL_SEMIMAJOR_AXIS = 8849.82
PERIAPSIS_ALTITUDE = 339.81
PERIAPSIS_ARGUMENT_ANGLE = 348.91
PERIAPSIS_TIME = 2018-10-26T04:58:49.000Z
SPACECRAFT_ORIENTATION = (0.0,1.0,0.0)
^MEX_ORIENTATION_DESC = "MEX_ORIENTATION_DESC.TXT"
SPACECRAFT_POINTING_MODE = INERT
^MEX_POINTING_DESC = "MEX_POINTING_DESC.TXT"
RIGHT_ASCENSION = 76.821
DECLINATION = 33.207
OFFSET_ANGLE = -1e+32
SPACECRAFT_SOLAR_DISTANCE = 2.08332e+08
TARGET_NAME = MARS
/* CAMERA DATA ELEMENTS */
DETECTOR_TEMPERATURE = 19.7978
FOCAL_PLANE_TEMPERATURE = 11.234
INST_CMPRS_NAME = "DISCRETE COSINE TRANSFORMATION (DCT)"
INST_CMPRS_RATIO = 12.5358
INST_CMPRS_QUALITY = 0
INST_CMPRS_QUANTZ_TBL_ID = 0
INSTRUMENT_TEMPERATURE = 12.8652
LENS_TEMPERATURE = 11.6418
MACROPIXEL_SIZE = 2
MISSING_FRAMES = 0
PIXEL_SUBSAMPLING_FLAG = N
SIGNAL_CHAIN_ID = 1
/* RADIOMETRIC DATA ELEMENTS */
BANDWIDTH = 178.0
CENTER_FILTER_WAVELENGTH = 679.0
RADIANCE_OFFSET = 2.52772
RADIANCE_SCALING_FACTOR = 0.00750145
REFLECTANCE_SCALING_FACTOR = 0.00017242
MEX:REFLECTANCE_OFFSET = 0.0580994
/* IMAGE OBJECT DEFINITIONS */
OBJECT = IMAGE
  INTERCHANGE_FORMAT = BINARY
  LINES = 29408
  LINE_SAMPLES = 3107
  SAMPLE_TYPE = UNSIGNED_INTEGER
  SAMPLE_BITS = 8
  BANDS = 1
  BAND_STORAGE_TYPE = BAND_SEQUENTIAL
  MAXIMUM = 255
  MEAN = 119.476
  MINIMUM = 1
  STANDARD_DEVIATION = 30.1546
END_OBJECT = IMAGE
/* MAP OBJECT DEFINITIONS */
OBJECT = IMAGE_MAP_PROJECTION
  ^DATA_SET_MAP_PROJECTION_CATALOG= "DSMAP.CAT"
  A_AXIS_RADIUS = 3396.0
  B_AXIS_RADIUS = 3396.0
  C_AXIS_RADIUS = 3396.0
  CENTER_LATITUDE = 0.0
  CENTER_LONGITUDE = 107.0
  COORDINATE_SYSTEM_NAME = PLANETOGRAPHIC
  COORDINATE_SYSTEM_TYPE = "BODY-FIXED ROTATING"
  EASTERNMOST_LONGITUDE = 107.695
  FIRST_STANDARD_PARALLEL = "N/A"
  LINE_FIRST_PIXEL = 1
  LINE_LAST_PIXEL = 29408
  LINE_PROJECTION_OFFSET = -15649.25
  MAP_PROJECTION_ROTATION = 0.0
  MAP_PROJECTION_TYPE = SINUSOIDAL
  MAP_RESOLUTION = 2370.85521546667
  MAP_SCALE = 0.025
  MAXIMUM_LATITUDE = -6.60379
  MINIMUM_LATITUDE = -19.0168
  POSITIVE_LONGITUDE_DIRECTION = EAST
  REFERENCE_LATITUDE = "N/A"
  REFERENCE_LONGITUDE = "N/A"
  SAMPLE_FIRST_PIXEL = 1
  SAMPLE_LAST_PIXEL = 3107
  SAMPLE_PROJECTION_OFFSET = 1448.25
  SECOND_STANDARD_PARALLEL = "N/A"
  WESTERNMOST_LONGITUDE = 106.372
END_OBJECT = IMAGE_MAP_PROJECTION
/* The JPEG2000 image data file associated with this label. */
OBJECT = COMPRESSED_FILE
  FILE_NAME = "HI746_0000_S23.JP2"
  RECORD_TYPE = UNDEFINED
  FILE_RECORDS = UNK
  ENCODING_TYPE = "JP2"
  INTERCHANGE_FORMAT = BINARY
  UNCOMPRESSED_FILE_NAME = "HI746_0000_S23.IMG"
  REQUIRED_STORAGE_BYTES = "91395512"
  ^DESCRIPTION = "JP2INFO.TXT"
END_OBJECT = COMPRESSED_FILE
END
