PDS_VERSION_ID = PDS3
/* FILE DATA ELEMENTS */
RECORD_TYPE = STREAM
/* POINTERS TO DATA OBJECTS */
^COMPRESSED_FILE = "HI748_0000_P13.JP2"
/* IDENTIFICATION DATA ELEMENTS */
DATA_SET_ID = "MEX-M-HRSC-5-REFDR-MAPPROJECTED-V3.0"
DATA_SET_NAME = "MARS EXPRESS HRSC MAP PROJECTED REFDR V3.0"
DETECTOR_ID = MEX_HRSC_P1
EVENT_TYPE = "MARS-REGIONAL-MAPPING-Te"
INSTRUMENT_HOST_ID = MEX
INSTRUMENT_HOST_NAME = "MARS EXPRESS"
INSTRUMENT_ID = HRSC
INSTRUMENT_NAME = "HIGH RESOLUTION STEREO CAMERA"
MISSION_NAME = "MARS EXPRESS"
MISSION_PHASE_NAME = ME_Phase_39
PROCESSING_LEVEL_ID = 3
PRODUCT_CREATION_TIME = 2019-02-21T11:58:24.000Z
PRODUCT_ID = "HI748_0000_P13.JP2"
RELEASE_ID = 0142
REVISION_ID = 0000
/* QUALITY DATA ELEMENTS */
DATA_QUALITY_ID = 1
DATA_QUALITY_DESC = "Data calculated based on original SPICE kernels"
/* TIME DATA ELEMENTS */
SPACECRAFT_CLOCK_START_COUNT = "1/0488659747.25713"
SPACECRAFT_CLOCK_STOP_COUNT = "1/0488660088.24160"
START_TIME = 2018-10-26T18:50:46.101Z
STOP_TIME = 2018-10-26T18:55:08.075Z
/* ORBITAL DATA ELEMENTS */
ASCENDING_NODE_LONGITUDE = 222.43
MAXIMUM_RESOLUTION = 55.2
FOOTPRINT_POINT_LATITUDE = (-36.4589,-36.4567,-36.4527,-36.4463, -36.2287,-35.8019,-35.1614,-34.7449, -34.3291,-33.9142,-33.5087,-32.9011, -32.5021,-32.1082,-31.7145,-31.3219, -30.938,-30.5558,-29.9825,-29.6028, -29.2309,-28.673,-28.3013,-27.9298, -27.5583,-27.187,-26.8158,-26.4447, -26.0737,-25.7028,-25.1466,-24.7759, -24.4053,-24.0347,-23.6642,-23.2937, -22.9233,-22.5529,-22.1825,-21.8121, -21.4418,-20.8862,-20.5159,-20.1456, -19.8196,-19.5094,-19.199,-18.8887, -18.4232,-18.1128,-17.7409,-17.7425, -17.743,-17.7435,-18.0541,-18.3646, -18.6751,-18.9856,-19.4514,-19.9171, -20.4467,-21.0026,-21.3732,-21.7437, -22.1143,-22.485,-22.8556,-23.2263, -23.597,-23.9678,-24.3386,-24.7095, -25.2659,-25.637,-26.0082,-26.3795, -26.7508,-27.1223,-27.4939,-27.8656, -28.4235,-28.7955,-29.1678,-29.5401, -29.9175,-30.3005,-30.8747,-31.2579, -31.6496,-32.2427,-32.6376,-33.0415, -33.4461,-33.8508,-34.2631,-34.6795, -35.0964,-35.5212,-35.9489,-36.4589)
FOOTPRINT_POINT_LONGITUDE = (263.505,263.082,262.585,261.997, 261.726,261.75,261.785,261.807,261.828, 261.849,261.869,261.897,261.914,261.931 ,261.947,261.962,261.977,261.991, 262.011,262.025,262.037,262.055,262.067 ,262.078,262.088,262.099,262.109, 262.119,262.128,262.137,262.15,262.159, 262.167,262.175,262.182,262.189,262.196 ,262.202,262.209,262.215,262.22,262.229 ,262.234,262.239,262.243,262.247, 262.251,262.254,262.259,262.262,262.356 ,262.767,263.202,263.493,263.496, 263.498,263.501,263.503,263.507,263.511 ,263.515,263.52,263.523,263.526,263.53, 263.533,263.537,263.54,263.544,263.548, 263.551,263.555,263.56,263.564,263.568, 263.572,263.576,263.58,263.584,263.588, 263.594,263.598,263.602,263.607,263.611 ,263.615,263.622,263.626,263.63,263.639 ,263.644,263.649,263.654,263.658, 263.663,263.669,263.674,263.68,263.685, 263.505)
ORBIT_NUMBER = 18748
ORBITAL_ECCENTRICITY = 0.578
ORBITAL_INCLINATION = 86.94
ORBITAL_SEMIMAJOR_AXIS = 8857.25
PERIAPSIS_ALTITUDE = 339.7
PERIAPSIS_ARGUMENT_ANGLE = 348.58
PERIAPSIS_TIME = 2018-10-26T18:56:51.000Z
SPACECRAFT_ORIENTATION = (0.0,1.0,0.0)
^MEX_ORIENTATION_DESC = "MEX_ORIENTATION_DESC.TXT"
SPACECRAFT_POINTING_MODE = INERT
^MEX_POINTING_DESC = "MEX_POINTING_DESC.TXT"
RIGHT_ASCENSION = 76.52
DECLINATION = 33.493
OFFSET_ANGLE = -1e+32
SPACECRAFT_SOLAR_DISTANCE = 2.08381e+08
TARGET_NAME = MARS
/* CAMERA DATA ELEMENTS */
DETECTOR_TEMPERATURE = 18.1666
FOCAL_PLANE_TEMPERATURE = 10.2145
INST_CMPRS_NAME = "DISCRETE COSINE TRANSFORMATION (DCT)"
INST_CMPRS_RATIO = 5.15349
INST_CMPRS_QUALITY = 0
INST_CMPRS_QUANTZ_TBL_ID = 0
INSTRUMENT_TEMPERATURE = 12.0496
LENS_TEMPERATURE = 10.4184
MACROPIXEL_SIZE = 4
MISSING_FRAMES = 0
PIXEL_SUBSAMPLING_FLAG = N
SIGNAL_CHAIN_ID = 3
/* RADIOMETRIC DATA ELEMENTS */
BANDWIDTH = 174.0
CENTER_FILTER_WAVELENGTH = 675.0
RADIANCE_OFFSET = 2.41575
RADIANCE_SCALING_FACTOR = 0.0145261
REFLECTANCE_SCALING_FACTOR = 0.000339271
MEX:REFLECTANCE_OFFSET = 0.0564223
/* IMAGE OBJECT DEFINITIONS */
OBJECT = IMAGE
  INTERCHANGE_FORMAT = BINARY
  LINES = 22305
  LINE_SAMPLES = 2032
  SAMPLE_TYPE = UNSIGNED_INTEGER
  SAMPLE_BITS = 8
  BANDS = 1
  BAND_STORAGE_TYPE = BAND_SEQUENTIAL
  MAXIMUM = 255
  MEAN = 108.546
  MINIMUM = 1
  STANDARD_DEVIATION = 20.5686
END_OBJECT = IMAGE
/* MAP OBJECT DEFINITIONS */
OBJECT = IMAGE_MAP_PROJECTION
  ^DATA_SET_MAP_PROJECTION_CATALOG= "DSMAP.CAT"
  A_AXIS_RADIUS = 3396.0
  B_AXIS_RADIUS = 3396.0
  C_AXIS_RADIUS = 3396.0
  CENTER_LATITUDE = 0.0
  CENTER_LONGITUDE = 263.0
  COORDINATE_SYSTEM_NAME = PLANETOGRAPHIC
  COORDINATE_SYSTEM_TYPE = "BODY-FIXED ROTATING"
  EASTERNMOST_LONGITUDE = 263.685
  FIRST_STANDARD_PARALLEL = "N/A"
  LINE_FIRST_PIXEL = 1
  LINE_LAST_PIXEL = 22305
  LINE_PROJECTION_OFFSET = -20968.375
  MAP_PROJECTION_ROTATION = 0.0
  MAP_PROJECTION_TYPE = SINUSOIDAL
  MAP_RESOLUTION = 1185.42760773333
  MAP_SCALE = 0.05
  MAXIMUM_LATITUDE = -17.7409
  MINIMUM_LATITUDE = -36.4589
  POSITIVE_LONGITUDE_DIRECTION = EAST
  REFERENCE_LATITUDE = "N/A"
  REFERENCE_LONGITUDE = "N/A"
  SAMPLE_FIRST_PIXEL = 1
  SAMPLE_LAST_PIXEL = 2032
  SAMPLE_PROJECTION_OFFSET = 1312.125
  SECOND_STANDARD_PARALLEL = "N/A"
  WESTERNMOST_LONGITUDE = 261.726
END_OBJECT = IMAGE_MAP_PROJECTION
/* The JPEG2000 image data file associated with this label. */
OBJECT = COMPRESSED_FILE
  FILE_NAME = "HI748_0000_P13.JP2"
  RECORD_TYPE = UNDEFINED
  FILE_RECORDS = UNK
  ENCODING_TYPE = "JP2"
  INTERCHANGE_FORMAT = BINARY
  UNCOMPRESSED_FILE_NAME = "HI748_0000_P13.IMG"
  REQUIRED_STORAGE_BYTES = "45344080"
  ^DESCRIPTION = "JP2INFO.TXT"
END_OBJECT = COMPRESSED_FILE
END
