PDS_VERSION_ID = PDS3
/* FILE DATA ELEMENTS */
RECORD_TYPE = STREAM
/* POINTERS TO DATA OBJECTS */
^COMPRESSED_FILE = "HI749_0000_IR3.JP2"
/* IDENTIFICATION DATA ELEMENTS */
DATA_SET_ID = "MEX-M-HRSC-5-REFDR-MAPPROJECTED-V3.0"
DATA_SET_NAME = "MARS EXPRESS HRSC MAP PROJECTED REFDR V3.0"
DETECTOR_ID = MEX_HRSC_IR
EVENT_TYPE = "MARS-REGIONAL-MAPPING-Te-Im-Eo"
INSTRUMENT_HOST_ID = MEX
INSTRUMENT_HOST_NAME = "MARS EXPRESS"
INSTRUMENT_ID = HRSC
INSTRUMENT_NAME = "HIGH RESOLUTION STEREO CAMERA"
MISSION_NAME = "MARS EXPRESS"
MISSION_PHASE_NAME = ME_Phase_39
PROCESSING_LEVEL_ID = 3
PRODUCT_CREATION_TIME = 2019-02-21T11:58:24.000Z
PRODUCT_ID = "HI749_0000_IR3.JP2"
RELEASE_ID = 0142
REVISION_ID = 0000
/* QUALITY DATA ELEMENTS */
DATA_QUALITY_ID = 1
DATA_QUALITY_DESC = "Data calculated based on original SPICE kernels"
/* TIME DATA ELEMENTS */
SPACECRAFT_CLOCK_START_COUNT = "1/0488685093.24952"
SPACECRAFT_CLOCK_STOP_COUNT = "1/0488685306.41594"
START_TIME = 2018-10-27T01:53:02.432Z
STOP_TIME = 2018-10-27T01:55:31.634Z
/* ORBITAL DATA ELEMENTS */
ASCENDING_NODE_LONGITUDE = 222.41
MAXIMUM_RESOLUTION = 56.1
FOOTPRINT_POINT_LATITUDE = (-24.4331,-24.4219,-24.4107,-24.3997, -24.3888,-24.264,-23.8892,-23.6364, -23.2522,-22.9967,-22.7453,-22.4976, -22.1827,-21.973,-21.6583,-21.4482, -21.2378,-20.9251,-20.7133,-20.5067, -20.2924,-19.9792,-19.7706,-19.5607, -19.2444,-19.0359,-18.8262,-18.6174, -18.3038,-18.0949,-17.7806,-17.5715, -17.258,-17.0491,-16.8412,-16.5295, -16.321,-16.1123,-15.9045,-15.6959, -15.4876,-15.2801,-15.0725,-14.8655, -14.6579,-14.4498,-14.1383,-13.9309, -13.7242,-13.5654,-13.5827,-13.605, -13.6237,-13.829,-14.0368,-14.2484, -14.4567,-14.6648,-14.873,-15.1852, -15.4972,-15.7001,-15.9072,-16.1153, -16.3238,-16.5328,-16.7411,-16.9494, -17.1582,-17.4713,-17.6812,-17.89, -18.0995,-18.3111,-18.5167,-18.7254, -18.9351,-19.2491,-19.4586,-19.6666, -19.8776,-20.1939,-20.4043,-20.614, -20.823,-21.0338,-21.3474,-21.665, -21.8763,-22.0869,-22.2965,-22.5068, -22.8779,-23.131,-23.3838,-23.6275, -23.8796,-24.1348,-24.3888,-24.4331)
FOOTPRINT_POINT_LONGITUDE = (162.646,162.417,162.192,161.97,161.752 ,161.552,161.549,161.545,161.537, 161.532,161.529,161.525,161.522,161.52, 161.516,161.514,161.511,161.508,161.505 ,161.504,161.499,161.496,161.494, 161.492,161.487,161.485,161.482,161.48, 161.477,161.475,161.471,161.468,161.465 ,161.463,161.461,161.459,161.457, 161.454,161.453,161.45,161.448,161.447, 161.445,161.444,161.443,161.441,161.438 ,161.437,161.436,161.582,161.928, 162.372,162.714,162.712,162.717,162.729 ,162.735,162.74,162.744,162.751,162.758 ,162.752,162.755,162.759,162.765, 162.771,162.777,162.782,162.788,162.796 ,162.804,162.81,162.817,162.828,162.829 ,162.834,162.842,162.852,162.859, 162.864,162.873,162.887,162.895,162.902 ,162.909,162.918,162.927,162.943, 162.952,162.961,162.968,162.976,163.004 ,163.016,163.028,163.029,163.04,163.055 ,163.069,162.646)
ORBIT_NUMBER = 18749
ORBITAL_ECCENTRICITY = 0.577
ORBITAL_INCLINATION = 86.95
ORBITAL_SEMIMAJOR_AXIS = 8841.92
PERIAPSIS_ALTITUDE = 340.42
PERIAPSIS_ARGUMENT_ANGLE = 348.43
PERIAPSIS_TIME = 2018-10-27T01:55:49.000Z
SPACECRAFT_ORIENTATION = (0.0,1.0,0.0)
^MEX_ORIENTATION_DESC = "MEX_ORIENTATION_DESC.TXT"
SPACECRAFT_POINTING_MODE = INERT
^MEX_POINTING_DESC = "MEX_POINTING_DESC.TXT"
RIGHT_ASCENSION = 76.392
DECLINATION = 33.611
OFFSET_ANGLE = -1e+32
SPACECRAFT_SOLAR_DISTANCE = 2.08405e+08
TARGET_NAME = MARS
/* CAMERA DATA ELEMENTS */
DETECTOR_TEMPERATURE = 17.9627
FOCAL_PLANE_TEMPERATURE = 12.6613
INST_CMPRS_NAME = "DISCRETE COSINE TRANSFORMATION (DCT)"
INST_CMPRS_RATIO = 6.75931
INST_CMPRS_QUALITY = 0
INST_CMPRS_QUANTZ_TBL_ID = 0
INSTRUMENT_TEMPERATURE = 12.6613
LENS_TEMPERATURE = 12.4574
MACROPIXEL_SIZE = 4
MISSING_FRAMES = 0
PIXEL_SUBSAMPLING_FLAG = N
SIGNAL_CHAIN_ID = 2
/* RADIOMETRIC DATA ELEMENTS */
BANDWIDTH = 81.0
CENTER_FILTER_WAVELENGTH = 955.5
RADIANCE_OFFSET = 0.530229
RADIANCE_SCALING_FACTOR = 0.00343667
REFLECTANCE_SCALING_FACTOR = 0.00032202
MEX:REFLECTANCE_OFFSET = 0.049683
/* IMAGE OBJECT DEFINITIONS */
OBJECT = IMAGE
  INTERCHANGE_FORMAT = BINARY
  LINES = 12894
  LINE_SAMPLES = 1926
  SAMPLE_TYPE = UNSIGNED_INTEGER
  SAMPLE_BITS = 8
  BANDS = 1
  BAND_STORAGE_TYPE = BAND_SEQUENTIAL
  MAXIMUM = 255
  MEAN = 108.735
  MINIMUM = 1
  STANDARD_DEVIATION = 29.8988
END_OBJECT = IMAGE
/* MAP OBJECT DEFINITIONS */
OBJECT = IMAGE_MAP_PROJECTION
  ^DATA_SET_MAP_PROJECTION_CATALOG= "DSMAP.CAT"
  A_AXIS_RADIUS = 3396.0
  B_AXIS_RADIUS = 3396.0
  C_AXIS_RADIUS = 3396.0
  CENTER_LATITUDE = 0.0
  CENTER_LONGITUDE = 162.0
  COORDINATE_SYSTEM_NAME = PLANETOGRAPHIC
  COORDINATE_SYSTEM_TYPE = "BODY-FIXED ROTATING"
  EASTERNMOST_LONGITUDE = 163.069
  FIRST_STANDARD_PARALLEL = "N/A"
  LINE_FIRST_PIXEL = 1
  LINE_LAST_PIXEL = 12894
  LINE_PROJECTION_OFFSET = -16095.625
  MAP_PROJECTION_ROTATION = 0.0
  MAP_PROJECTION_TYPE = SINUSOIDAL
  MAP_RESOLUTION = 1185.42760773333
  MAP_SCALE = 0.05
  MAXIMUM_LATITUDE = -13.5654
  MINIMUM_LATITUDE = -24.4331
  POSITIVE_LONGITUDE_DIRECTION = EAST
  REFERENCE_LATITUDE = "N/A"
  REFERENCE_LONGITUDE = "N/A"
  SAMPLE_FIRST_PIXEL = 1
  SAMPLE_LAST_PIXEL = 1926
  SAMPLE_PROJECTION_OFFSET = 648.375
  SECOND_STANDARD_PARALLEL = "N/A"
  WESTERNMOST_LONGITUDE = 161.436
END_OBJECT = IMAGE_MAP_PROJECTION
/* The JPEG2000 image data file associated with this label. */
OBJECT = COMPRESSED_FILE
  FILE_NAME = "HI749_0000_IR3.JP2"
  RECORD_TYPE = UNDEFINED
  FILE_RECORDS = UNK
  ENCODING_TYPE = "JP2"
  INTERCHANGE_FORMAT = BINARY
  UNCOMPRESSED_FILE_NAME = "HI749_0000_IR3.IMG"
  REQUIRED_STORAGE_BYTES = "24853104"
  ^DESCRIPTION = "JP2INFO.TXT"
END_OBJECT = COMPRESSED_FILE
END
