PDS_VERSION_ID = PDS3
/* FILE DATA ELEMENTS */
RECORD_TYPE = STREAM
/* POINTERS TO DATA OBJECTS */
^COMPRESSED_FILE = "HI749_0000_P23.JP2"
/* IDENTIFICATION DATA ELEMENTS */
DATA_SET_ID = "MEX-M-HRSC-5-REFDR-MAPPROJECTED-V3.0"
DATA_SET_NAME = "MARS EXPRESS HRSC MAP PROJECTED REFDR V3.0"
DETECTOR_ID = MEX_HRSC_P2
EVENT_TYPE = "MARS-REGIONAL-MAPPING-Te-Im-Eo"
INSTRUMENT_HOST_ID = MEX
INSTRUMENT_HOST_NAME = "MARS EXPRESS"
INSTRUMENT_ID = HRSC
INSTRUMENT_NAME = "HIGH RESOLUTION STEREO CAMERA"
MISSION_NAME = "MARS EXPRESS"
MISSION_PHASE_NAME = ME_Phase_39
PROCESSING_LEVEL_ID = 3
PRODUCT_CREATION_TIME = 2019-02-21T11:58:24.000Z
PRODUCT_ID = "HI749_0000_P23.JP2"
RELEASE_ID = 0142
REVISION_ID = 0000
/* QUALITY DATA ELEMENTS */
DATA_QUALITY_ID = 1
DATA_QUALITY_DESC = "Data calculated based on original SPICE kernels"
/* TIME DATA ELEMENTS */
SPACECRAFT_CLOCK_START_COUNT = "1/0488685093.24952"
SPACECRAFT_CLOCK_STOP_COUNT = "1/0488685306.41594"
START_TIME = 2018-10-27T01:52:15.516Z
STOP_TIME = 2018-10-27T01:54:48.628Z
/* ORBITAL DATA ELEMENTS */
ASCENDING_NODE_LONGITUDE = 222.41
MAXIMUM_RESOLUTION = 29.5
FOOTPRINT_POINT_LATITUDE = (-24.4249,-24.4414,-24.4572,-24.4722, -24.4933,-24.1377,-23.9002,-23.664, -23.4281,-23.1955,-22.8412,-22.6044, -22.3669,-22.0106,-21.773,-21.4167, -21.1795,-20.8239,-20.5829,-20.3483, -20.1092,-19.8705,-19.516,-19.296, -19.0952,-18.8963,-18.696,-18.4966, -18.1949,-17.8966,-17.6968,-17.497, -17.1977,-16.8963,-16.6952,-16.4932, -16.293,-15.9915,-15.7912,-15.5904, -15.3886,-15.1873,-14.9848,-14.6807, -14.4792,-14.1772,-13.8729,-13.6691, -13.6104,-13.5915,-13.5723,-13.5447, -13.5217,-13.7286,-14.034,-14.2286, -14.4288,-14.63,-14.8317,-15.0335, -15.2353,-15.4371,-15.6465,-15.8522, -16.0531,-16.2546,-16.4542,-16.6552, -16.9571,-17.2571,-17.4577,-17.6577, -17.8582,-18.0576,-18.3567,-18.5598, -18.7598,-18.959,-19.1589,-19.373, -19.6116,-19.9683,-20.2052,-20.4427, -20.6814,-20.9199,-21.2748,-21.5139, -21.7494,-21.9862,-22.2239,-22.4616, -22.6935,-23.0476,-23.2839,-23.5222, -23.8806,-24.1154,-24.3511,-24.4249)
FOOTPRINT_POINT_LONGITUDE = (162.66,162.419,162.183,161.95,161.509, 161.508,161.507,161.505,161.503,161.498 ,161.495,161.493,161.492,161.49,161.489 ,161.487,161.485,161.482,161.483, 161.479,161.479,161.478,161.474,161.473 ,161.472,161.471,161.47,161.468,161.468 ,161.465,161.464,161.463,161.461,161.46 ,161.459,161.459,161.457,161.456, 161.455,161.454,161.454,161.453,161.453 ,161.452,161.452,161.45,161.45,161.45, 161.767,162.014,162.254,162.569,162.827 ,162.824,162.824,162.834,162.837,162.84 ,162.842,162.844,162.846,162.848, 162.842,162.839,162.842,162.844,162.848 ,162.851,162.855,162.861,162.864, 162.868,162.871,162.876,162.883,162.882 ,162.886,162.891,162.895,162.899, 162.904,162.913,162.92,162.926,162.93, 162.935,162.946,162.949,162.959,162.966 ,162.971,162.977,162.993,163.006, 163.014,163.018,163.022,163.033,163.042 ,162.66)
ORBIT_NUMBER = 18749
ORBITAL_ECCENTRICITY = 0.577
ORBITAL_INCLINATION = 86.95
ORBITAL_SEMIMAJOR_AXIS = 8841.92
PERIAPSIS_ALTITUDE = 340.42
PERIAPSIS_ARGUMENT_ANGLE = 348.43
PERIAPSIS_TIME = 2018-10-27T01:55:49.000Z
SPACECRAFT_ORIENTATION = (0.0,1.0,0.0)
^MEX_ORIENTATION_DESC = "MEX_ORIENTATION_DESC.TXT"
SPACECRAFT_POINTING_MODE = INERT
^MEX_POINTING_DESC = "MEX_POINTING_DESC.TXT"
RIGHT_ASCENSION = 76.392
DECLINATION = 33.611
OFFSET_ANGLE = -1e+32
SPACECRAFT_SOLAR_DISTANCE = 2.08405e+08
TARGET_NAME = MARS
/* CAMERA DATA ELEMENTS */
DETECTOR_TEMPERATURE = 19.39
FOCAL_PLANE_TEMPERATURE = 12.6613
INST_CMPRS_NAME = "DISCRETE COSINE TRANSFORMATION (DCT)"
INST_CMPRS_RATIO = 6.74265
INST_CMPRS_QUALITY = 0
INST_CMPRS_QUANTZ_TBL_ID = 0
INSTRUMENT_TEMPERATURE = 12.6613
LENS_TEMPERATURE = 12.4574
MACROPIXEL_SIZE = 2
MISSING_FRAMES = 0
PIXEL_SUBSAMPLING_FLAG = N
SIGNAL_CHAIN_ID = 3
/* RADIOMETRIC DATA ELEMENTS */
BANDWIDTH = 177.0
CENTER_FILTER_WAVELENGTH = 676.5
RADIANCE_OFFSET = 2.52218
RADIANCE_SCALING_FACTOR = 0.0106304
REFLECTANCE_SCALING_FACTOR = 0.000244807
MEX:REFLECTANCE_OFFSET = 0.0580831
/* IMAGE OBJECT DEFINITIONS */
OBJECT = IMAGE
  INTERCHANGE_FORMAT = BINARY
  LINES = 25788
  LINE_SAMPLES = 3851
  SAMPLE_TYPE = UNSIGNED_INTEGER
  SAMPLE_BITS = 8
  BANDS = 1
  BAND_STORAGE_TYPE = BAND_SEQUENTIAL
  MAXIMUM = 255
  MEAN = 105.289
  MINIMUM = 1
  STANDARD_DEVIATION = 30.3681
END_OBJECT = IMAGE
/* MAP OBJECT DEFINITIONS */
OBJECT = IMAGE_MAP_PROJECTION
  ^DATA_SET_MAP_PROJECTION_CATALOG= "DSMAP.CAT"
  A_AXIS_RADIUS = 3396.0
  B_AXIS_RADIUS = 3396.0
  C_AXIS_RADIUS = 3396.0
  CENTER_LATITUDE = 0.0
  CENTER_LONGITUDE = 162.0
  COORDINATE_SYSTEM_NAME = PLANETOGRAPHIC
  COORDINATE_SYSTEM_TYPE = "BODY-FIXED ROTATING"
  EASTERNMOST_LONGITUDE = 163.042
  FIRST_STANDARD_PARALLEL = "N/A"
  LINE_FIRST_PIXEL = 1
  LINE_LAST_PIXEL = 25788
  LINE_PROJECTION_OFFSET = -32190.75
  MAP_PROJECTION_ROTATION = 0.0
  MAP_PROJECTION_TYPE = SINUSOIDAL
  MAP_RESOLUTION = 2370.85521546667
  MAP_SCALE = 0.025
  MAXIMUM_LATITUDE = -13.5217
  MINIMUM_LATITUDE = -24.4933
  POSITIVE_LONGITUDE_DIRECTION = EAST
  REFERENCE_LATITUDE = "N/A"
  REFERENCE_LONGITUDE = "N/A"
  SAMPLE_FIRST_PIXEL = 1
  SAMPLE_LAST_PIXEL = 3851
  SAMPLE_PROJECTION_OFFSET = 1297.25
  SECOND_STANDARD_PARALLEL = "N/A"
  WESTERNMOST_LONGITUDE = 161.45
END_OBJECT = IMAGE_MAP_PROJECTION
/* The JPEG2000 image data file associated with this label. */
OBJECT = COMPRESSED_FILE
  FILE_NAME = "HI749_0000_P23.JP2"
  RECORD_TYPE = UNDEFINED
  FILE_RECORDS = UNK
  ENCODING_TYPE = "JP2"
  INTERCHANGE_FORMAT = BINARY
  UNCOMPRESSED_FILE_NAME = "HI749_0000_P23.IMG"
  REQUIRED_STORAGE_BYTES = "99332694"
  ^DESCRIPTION = "JP2INFO.TXT"
END_OBJECT = COMPRESSED_FILE
END
