PDS_VERSION_ID = PDS3
/* FILE DATA ELEMENTS */
RECORD_TYPE = STREAM
/* POINTERS TO DATA OBJECTS */
^COMPRESSED_FILE = "HI749_0000_RE3.JP2"
/* IDENTIFICATION DATA ELEMENTS */
DATA_SET_ID = "MEX-M-HRSC-5-REFDR-MAPPROJECTED-V3.0"
DATA_SET_NAME = "MARS EXPRESS HRSC MAP PROJECTED REFDR V3.0"
DETECTOR_ID = MEX_HRSC_RED
EVENT_TYPE = "MARS-REGIONAL-MAPPING-Te-Im-Eo"
INSTRUMENT_HOST_ID = MEX
INSTRUMENT_HOST_NAME = "MARS EXPRESS"
INSTRUMENT_ID = HRSC
INSTRUMENT_NAME = "HIGH RESOLUTION STEREO CAMERA"
MISSION_NAME = "MARS EXPRESS"
MISSION_PHASE_NAME = ME_Phase_39
PROCESSING_LEVEL_ID = 3
PRODUCT_CREATION_TIME = 2019-02-21T11:58:24.000Z
PRODUCT_ID = "HI749_0000_RE3.JP2"
RELEASE_ID = 0142
REVISION_ID = 0000
/* QUALITY DATA ELEMENTS */
DATA_QUALITY_ID = 1
DATA_QUALITY_DESC = "Data calculated based on original SPICE kernels"
/* TIME DATA ELEMENTS */
SPACECRAFT_CLOCK_START_COUNT = "1/0488685093.24952"
SPACECRAFT_CLOCK_STOP_COUNT = "1/0488685306.41594"
START_TIME = 2018-10-27T01:52:10.144Z
STOP_TIME = 2018-10-27T01:54:43.275Z
/* ORBITAL DATA ELEMENTS */
ASCENDING_NODE_LONGITUDE = 222.41
MAXIMUM_RESOLUTION = 60.2
FOOTPRINT_POINT_LATITUDE = (-24.4053,-24.4248,-24.4434,-24.4613, -24.4783,-24.5009,-24.2663,-24.0284, -23.7941,-23.5597,-23.326,-23.0967, -22.744,-22.3907,-22.1545,-21.9187, -21.6824,-21.4464,-21.2108,-20.9711, -20.7394,-20.4979,-20.2668,-19.9096, -19.6723,-19.4392,-19.2021,-18.9751, -18.7767,-18.4784,-18.1778,-17.8814, -17.6827,-17.3844,-17.1863,-16.8861, -16.585,-16.3845,-16.1855,-15.9849, -15.6858,-15.4862,-15.1837,-14.9815, -14.7795,-14.5789,-14.3787,-14.1776, -13.8728,-13.6698,-13.6073,-13.5743, -13.5368,-13.6163,-13.8244,-14.0272, -14.3212,-14.5197,-14.8209,-15.0217, -15.2229,-15.424,-15.6341,-15.84,-16.04 ,-16.2407,-16.4393,-16.6396,-16.9403, -17.239,-17.5386,-17.7375,-18.0354, -18.2304,-18.4347,-18.6354,-18.8342, -19.0568,-19.2947,-19.5318,-19.7709, -20.0044,-20.2399,-20.4761,-20.7139, -20.9508,-21.183,-21.4239,-21.6572, -21.8922,-22.2468,-22.4824,-22.7112, -23.0624,-23.297,-23.5354,-23.7743, -24.0068,-24.2405,-24.4053)
FOOTPRINT_POINT_LONGITUDE = (162.844,162.61,162.379,162.152,161.929 ,161.508,161.506,161.507,161.505, 161.503,161.501,161.496,161.494,161.492 ,161.491,161.489,161.488,161.487, 161.486,161.486,161.483,161.484,161.48, 161.479,161.478,161.475,161.474,161.473 ,161.472,161.47,161.47,161.468,161.466, 161.465,161.463,161.463,161.462,161.461 ,161.46,161.46,161.458,161.457,161.457, 161.457,161.457,161.456,161.455,161.455 ,161.455,161.455,161.924,162.269, 162.628,162.837,162.833,162.833,162.843 ,162.847,162.85,162.852,162.854,162.855 ,162.848,162.845,162.848,162.85,162.854 ,162.856,162.859,162.865,162.869, 162.873,162.879,162.887,162.884,162.886 ,162.89,162.895,162.898,162.903,162.905 ,162.914,162.92,162.926,162.929,162.934 ,162.945,162.944,162.953,162.96,162.968 ,162.974,162.989,163.002,163.009, 163.011,163.012,163.022,163.031, 162.844)
ORBIT_NUMBER = 18749
ORBITAL_ECCENTRICITY = 0.577
ORBITAL_INCLINATION = 86.95
ORBITAL_SEMIMAJOR_AXIS = 8841.92
PERIAPSIS_ALTITUDE = 340.42
PERIAPSIS_ARGUMENT_ANGLE = 348.43
PERIAPSIS_TIME = 2018-10-27T01:55:49.000Z
SPACECRAFT_ORIENTATION = (0.0,1.0,0.0)
^MEX_ORIENTATION_DESC = "MEX_ORIENTATION_DESC.TXT"
SPACECRAFT_POINTING_MODE = INERT
^MEX_POINTING_DESC = "MEX_POINTING_DESC.TXT"
RIGHT_ASCENSION = 76.392
DECLINATION = 33.611
OFFSET_ANGLE = -1e+32
SPACECRAFT_SOLAR_DISTANCE = 2.08405e+08
TARGET_NAME = MARS
/* CAMERA DATA ELEMENTS */
DETECTOR_TEMPERATURE = 19.39
FOCAL_PLANE_TEMPERATURE = 12.6613
INST_CMPRS_NAME = "DISCRETE COSINE TRANSFORMATION (DCT)"
INST_CMPRS_RATIO = 13.1826
INST_CMPRS_QUALITY = 0
INST_CMPRS_QUANTZ_TBL_ID = 0
INSTRUMENT_TEMPERATURE = 12.6613
LENS_TEMPERATURE = 12.4574
MACROPIXEL_SIZE = 4
MISSING_FRAMES = 0
PIXEL_SUBSAMPLING_FLAG = N
SIGNAL_CHAIN_ID = 2
/* RADIOMETRIC DATA ELEMENTS */
BANDWIDTH = 48.0
CENTER_FILTER_WAVELENGTH = 748.0
RADIANCE_OFFSET = 0.678735
RADIANCE_SCALING_FACTOR = 0.00313142
REFLECTANCE_SCALING_FACTOR = 0.000310373
MEX:REFLECTANCE_OFFSET = 0.0672734
/* IMAGE OBJECT DEFINITIONS */
OBJECT = IMAGE
  INTERCHANGE_FORMAT = BINARY
  LINES = 12894
  LINE_SAMPLES = 1926
  SAMPLE_TYPE = UNSIGNED_INTEGER
  SAMPLE_BITS = 8
  BANDS = 1
  BAND_STORAGE_TYPE = BAND_SEQUENTIAL
  MAXIMUM = 255
  MEAN = 103.962
  MINIMUM = 1
  STANDARD_DEVIATION = 29.646
END_OBJECT = IMAGE
/* MAP OBJECT DEFINITIONS */
OBJECT = IMAGE_MAP_PROJECTION
  ^DATA_SET_MAP_PROJECTION_CATALOG= "DSMAP.CAT"
  A_AXIS_RADIUS = 3396.0
  B_AXIS_RADIUS = 3396.0
  C_AXIS_RADIUS = 3396.0
  CENTER_LATITUDE = 0.0
  CENTER_LONGITUDE = 162.0
  COORDINATE_SYSTEM_NAME = PLANETOGRAPHIC
  COORDINATE_SYSTEM_TYPE = "BODY-FIXED ROTATING"
  EASTERNMOST_LONGITUDE = 163.031
  FIRST_STANDARD_PARALLEL = "N/A"
  LINE_FIRST_PIXEL = 1
  LINE_LAST_PIXEL = 12894
  LINE_PROJECTION_OFFSET = -16095.625
  MAP_PROJECTION_ROTATION = 0.0
  MAP_PROJECTION_TYPE = SINUSOIDAL
  MAP_RESOLUTION = 1185.42760773333
  MAP_SCALE = 0.05
  MAXIMUM_LATITUDE = -13.5368
  MINIMUM_LATITUDE = -24.5009
  POSITIVE_LONGITUDE_DIRECTION = EAST
  REFERENCE_LATITUDE = "N/A"
  REFERENCE_LONGITUDE = "N/A"
  SAMPLE_FIRST_PIXEL = 1
  SAMPLE_LAST_PIXEL = 1926
  SAMPLE_PROJECTION_OFFSET = 648.375
  SECOND_STANDARD_PARALLEL = "N/A"
  WESTERNMOST_LONGITUDE = 161.455
END_OBJECT = IMAGE_MAP_PROJECTION
/* The JPEG2000 image data file associated with this label. */
OBJECT = COMPRESSED_FILE
  FILE_NAME = "HI749_0000_RE3.JP2"
  RECORD_TYPE = UNDEFINED
  FILE_RECORDS = UNK
  ENCODING_TYPE = "JP2"
  INTERCHANGE_FORMAT = BINARY
  UNCOMPRESSED_FILE_NAME = "HI749_0000_RE3.IMG"
  REQUIRED_STORAGE_BYTES = "24853104"
  ^DESCRIPTION = "JP2INFO.TXT"
END_OBJECT = COMPRESSED_FILE
END
