PDS_VERSION_ID = PDS3
/* FILE DATA ELEMENTS */
RECORD_TYPE = STREAM
/* POINTERS TO DATA OBJECTS */
^COMPRESSED_FILE = "HI750_0000_P13.JP2"
/* IDENTIFICATION DATA ELEMENTS */
DATA_SET_ID = "MEX-M-HRSC-5-REFDR-MAPPROJECTED-V3.0"
DATA_SET_NAME = "MARS EXPRESS HRSC MAP PROJECTED REFDR V3.0"
DETECTOR_ID = MEX_HRSC_P1
EVENT_TYPE = "MARS-REGIONAL-MAPPING-Im-Fl-La"
INSTRUMENT_HOST_ID = MEX
INSTRUMENT_HOST_NAME = "MARS EXPRESS"
INSTRUMENT_ID = HRSC
INSTRUMENT_NAME = "HIGH RESOLUTION STEREO CAMERA"
MISSION_NAME = "MARS EXPRESS"
MISSION_PHASE_NAME = ME_Phase_39
PROCESSING_LEVEL_ID = 3
PRODUCT_CREATION_TIME = 2019-02-21T11:58:24.000Z
PRODUCT_ID = "HI750_0000_P13.JP2"
RELEASE_ID = 0142
REVISION_ID = 0000
/* QUALITY DATA ELEMENTS */
DATA_QUALITY_ID = 1
DATA_QUALITY_DESC = "Data calculated based on original SPICE kernels"
/* TIME DATA ELEMENTS */
SPACECRAFT_CLOCK_START_COUNT = "1/0488710101.24943"
SPACECRAFT_CLOCK_STOP_COUNT = "1/0488710296.55682"
START_TIME = 2018-10-27T08:49:53.142Z
STOP_TIME = 2018-10-27T08:51:56.662Z
/* ORBITAL DATA ELEMENTS */
ASCENDING_NODE_LONGITUDE = 222.4
MAXIMUM_RESOLUTION = 29.7
FOOTPRINT_POINT_LATITUDE = (-32.3477,-32.351,-32.3539,-32.3566, -32.359,-32.3611,-32.3627,-32.0343, -31.8465,-31.5677,-31.3817,-31.1991, -31.0142,-30.829,-30.6447,-30.4623, -30.2829,-30.1029,-29.9261,-29.7473, -29.5635,-29.3843,-29.0349,-28.8567, -28.679,-28.5003,-28.3208,-28.0512, -27.7811,-27.6045,-27.3395,-27.1625, -26.8969,-26.7197,-26.5417,-26.2769, -26.0998,-25.9229,-25.7464,-25.5696, -25.393,-25.2166,-25.0397,-24.8632, -24.6868,-24.4223,-24.2458,-24.0684, -23.8914,-23.5381,-23.4243,-23.424, -23.4186,-23.4133,-23.4104,-23.5866, -23.9387,-24.1152,-24.2928,-24.4693, -24.6456,-24.8228,-24.9989,-25.1756, -25.3523,-25.529,-25.7058,-25.8827, -26.0593,-26.324,-26.5039,-26.6812, -27.0323,-27.2098,-27.3884,-27.5667, -27.8345,-28.0123,-28.1904,-28.368, -28.5475,-28.7238,-28.9873,-29.2536, -29.4355,-29.6169,-29.7958,-29.9741, -30.1531,-30.3321,-30.5136,-30.6995, -30.8869,-31.0742,-31.256,-31.4419, -31.6279,-31.8145,-32.0967,-32.3477)
FOOTPRINT_POINT_LONGITUDE = (57.9013,57.6319,57.3591,57.083,56.8034 ,56.5199,56.2506,56.215,56.2336,56.2616 ,56.2802,56.2943,56.3114,56.3288, 56.3449,56.3609,56.3764,56.3926,56.4043 ,56.4187,56.4403,56.4551,56.4714, 56.4845,56.497,56.5107,56.5256,56.5486, 56.5724,56.5828,56.5982,56.6088,56.625, 56.6359,56.648,56.6624,56.6731,56.6831, 56.6924,56.7023,56.7117,56.7207,56.7304 ,56.7396,56.7484,56.7612,56.7701,56.781 ,56.7909,56.8092,56.9831,57.2836, 57.6681,58.018,58.2219,58.2195,58.2148, 58.2122,58.2091,58.2065,58.2039,58.2008 ,58.1982,58.1954,58.1925,58.1895, 58.1865,58.1834,58.1804,58.1759,58.1715 ,58.1681,58.1624,58.1589,58.1548, 58.1509,58.1447,58.1408,58.1368,58.1329 ,58.1283,58.1247,58.1195,58.1133, 58.1078,58.1024,58.0976,58.0931,58.0882 ,58.0834,58.0777,58.0719,58.0656, 58.0594,58.0547,58.0487,58.0427,58.0365 ,58.0273,57.9013)
ORBIT_NUMBER = 18750
ORBITAL_ECCENTRICITY = 0.578
ORBITAL_INCLINATION = 86.96
ORBITAL_SEMIMAJOR_AXIS = 8849.21
PERIAPSIS_ALTITUDE = 339.5
PERIAPSIS_ARGUMENT_ANGLE = 348.24
PERIAPSIS_TIME = 2018-10-27T08:54:43.000Z
SPACECRAFT_ORIENTATION = (0.0,1.0,0.0)
^MEX_ORIENTATION_DESC = "MEX_ORIENTATION_DESC.TXT"
SPACECRAFT_POINTING_MODE = INERT
^MEX_POINTING_DESC = "MEX_POINTING_DESC.TXT"
RIGHT_ASCENSION = 76.284
DECLINATION = 33.717
OFFSET_ANGLE = -1e+32
SPACECRAFT_SOLAR_DISTANCE = 2.0843e+08
TARGET_NAME = MARS
/* CAMERA DATA ELEMENTS */
DETECTOR_TEMPERATURE = 18.3705
FOCAL_PLANE_TEMPERATURE = 10.2145
INST_CMPRS_NAME = "DISCRETE COSINE TRANSFORMATION (DCT)"
INST_CMPRS_RATIO = 7.66885
INST_CMPRS_QUALITY = 0
INST_CMPRS_QUANTZ_TBL_ID = 0
INSTRUMENT_TEMPERATURE = 10.2145
LENS_TEMPERATURE = 10.6223
MACROPIXEL_SIZE = 2
MISSING_FRAMES = 0
PIXEL_SUBSAMPLING_FLAG = N
SIGNAL_CHAIN_ID = 3
/* RADIOMETRIC DATA ELEMENTS */
BANDWIDTH = 174.0
CENTER_FILTER_WAVELENGTH = 675.0
RADIANCE_OFFSET = 3.24388
RADIANCE_SCALING_FACTOR = 0.016283
REFLECTANCE_SCALING_FACTOR = 0.000380486
MEX:REFLECTANCE_OFFSET = 0.0757999
/* IMAGE OBJECT DEFINITIONS */
OBJECT = IMAGE
  INTERCHANGE_FORMAT = BINARY
  LINES = 21311
  LINE_SAMPLES = 4419
  SAMPLE_TYPE = UNSIGNED_INTEGER
  SAMPLE_BITS = 8
  BANDS = 1
  BAND_STORAGE_TYPE = BAND_SEQUENTIAL
  MAXIMUM = 255
  MEAN = 110.692
  MINIMUM = 1
  STANDARD_DEVIATION = 50.738
END_OBJECT = IMAGE
/* MAP OBJECT DEFINITIONS */
OBJECT = IMAGE_MAP_PROJECTION
  ^DATA_SET_MAP_PROJECTION_CATALOG= "DSMAP.CAT"
  A_AXIS_RADIUS = 3396.0
  B_AXIS_RADIUS = 3396.0
  C_AXIS_RADIUS = 3396.0
  CENTER_LATITUDE = 0.0
  CENTER_LONGITUDE = 57.0
  COORDINATE_SYSTEM_NAME = PLANETOGRAPHIC
  COORDINATE_SYSTEM_TYPE = "BODY-FIXED ROTATING"
  EASTERNMOST_LONGITUDE = 58.2219
  FIRST_STANDARD_PARALLEL = "N/A"
  LINE_FIRST_PIXEL = 1
  LINE_LAST_PIXEL = 21311
  LINE_PROJECTION_OFFSET = -55504.75
  MAP_PROJECTION_ROTATION = 0.0
  MAP_PROJECTION_TYPE = SINUSOIDAL
  MAP_RESOLUTION = 2370.85521546667
  MAP_SCALE = 0.025
  MAXIMUM_LATITUDE = -23.4104
  MINIMUM_LATITUDE = -32.3627
  POSITIVE_LONGITUDE_DIRECTION = EAST
  REFERENCE_LATITUDE = "N/A"
  REFERENCE_LONGITUDE = "N/A"
  SAMPLE_FIRST_PIXEL = 1
  SAMPLE_LAST_PIXEL = 4419
  SAMPLE_PROJECTION_OFFSET = 1754.25
  SECOND_STANDARD_PARALLEL = "N/A"
  WESTERNMOST_LONGITUDE = 56.215
END_OBJECT = IMAGE_MAP_PROJECTION
/* The JPEG2000 image data file associated with this label. */
OBJECT = COMPRESSED_FILE
  FILE_NAME = "HI750_0000_P13.JP2"
  RECORD_TYPE = UNDEFINED
  FILE_RECORDS = UNK
  ENCODING_TYPE = "JP2"
  INTERCHANGE_FORMAT = BINARY
  UNCOMPRESSED_FILE_NAME = "HI750_0000_P13.IMG"
  REQUIRED_STORAGE_BYTES = "94199823"
  ^DESCRIPTION = "JP2INFO.TXT"
END_OBJECT = COMPRESSED_FILE
END
