PDS_VERSION_ID = PDS3
/* FILE DATA ELEMENTS */
RECORD_TYPE = STREAM
/* POINTERS TO DATA OBJECTS */
^COMPRESSED_FILE = "HI750_0000_S13.JP2"
/* IDENTIFICATION DATA ELEMENTS */
DATA_SET_ID = "MEX-M-HRSC-5-REFDR-MAPPROJECTED-V3.0"
DATA_SET_NAME = "MARS EXPRESS HRSC MAP PROJECTED REFDR V3.0"
DETECTOR_ID = MEX_HRSC_S1
EVENT_TYPE = "MARS-REGIONAL-MAPPING-Im-Fl-La"
INSTRUMENT_HOST_ID = MEX
INSTRUMENT_HOST_NAME = "MARS EXPRESS"
INSTRUMENT_ID = HRSC
INSTRUMENT_NAME = "HIGH RESOLUTION STEREO CAMERA"
MISSION_NAME = "MARS EXPRESS"
MISSION_PHASE_NAME = ME_Phase_39
PROCESSING_LEVEL_ID = 3
PRODUCT_CREATION_TIME = 2019-02-21T11:58:24.000Z
PRODUCT_ID = "HI750_0000_S13.JP2"
RELEASE_ID = 0142
REVISION_ID = 0000
/* QUALITY DATA ELEMENTS */
DATA_QUALITY_ID = 1
DATA_QUALITY_DESC = "Data calculated based on original SPICE kernels"
/* TIME DATA ELEMENTS */
SPACECRAFT_CLOCK_START_COUNT = "1/0488710101.24943"
SPACECRAFT_CLOCK_STOP_COUNT = "1/0488710296.55682"
START_TIME = 2018-10-27T08:50:04.784Z
STOP_TIME = 2018-10-27T08:52:06.261Z
/* ORBITAL DATA ELEMENTS */
ASCENDING_NODE_LONGITUDE = 222.4
MAXIMUM_RESOLUTION = 30
FOOTPRINT_POINT_LATITUDE = (-32.3315,-32.3393,-32.347,-32.3546, -32.3621,-32.3694,-32.4537,-32.2629, -32.0729,-31.8856,-31.6974,-31.5079, -31.3223,-31.1435,-30.9613,-30.7795, -30.5984,-30.4171,-30.236,-30.0488, -29.8721,-29.6864,-29.5013,-29.1544, -28.9756,-28.7072,-28.436,-28.2553, -28.0731,-27.7992,-27.6244,-27.446, -27.269,-27.0916,-26.9139,-26.7361, -26.5578,-26.2923,-26.1151,-25.8488, -25.5838,-25.4069,-25.2303,-25.0532, -24.8764,-24.7,-24.5235,-24.3474, -24.1708,-23.992,-23.8144,-23.5496, -23.4368,-23.4261,-23.4163,-23.4073, -23.5811,-23.7573,-23.9326,-24.1087, -24.2867,-24.4632,-24.6393,-24.8169, -24.9927,-25.1695,-25.4345,-25.6113, -25.7884,-25.965,-26.1421,-26.318, -26.4981,-26.7663,-27.1162,-27.2942, -27.4741,-27.7436,-27.9238,-28.1017, -28.3718,-28.5519,-28.9051,-29.17, -29.4414,-29.6252,-29.8056,-29.9848, -30.1702,-30.3508,-30.5343,-30.7172, -30.9025,-31.0877,-31.265,-31.4522, -31.6399,-31.9212,-32.2016,-32.3315)
FOOTPRINT_POINT_LONGITUDE = (57.7692,57.5009,57.2291,56.954,56.6753 ,56.3925,56.1873,56.2089,56.2298, 56.2481,56.2671,56.2872,56.3053,56.3194 ,56.3366,56.3533,56.3693,56.3854, 56.4012,56.4187,56.43,56.4501,56.4696, 56.4854,56.4984,56.518,56.5401,56.5548, 56.571,56.5958,56.6042,56.6162,56.6267, 56.6376,56.6487,56.6599,56.6715,56.6867 ,56.697,56.7129,56.7273,56.737,56.7464, 56.7562,56.7656,56.7746,56.7835,56.7921 ,56.8011,56.8128,56.8229,56.8363, 57.2063,57.5447,57.8508,58.1387,58.2188 ,58.2163,58.214,58.2115,58.2085,58.2058 ,58.2032,58.2002,58.1976,58.1947, 58.1903,58.1873,58.1842,58.1812,58.178, 58.1751,58.1712,58.1656,58.1599,58.1562 ,58.1521,58.1459,58.1417,58.1378, 58.1313,58.1269,58.1195,58.1138,58.1065 ,58.101,58.0962,58.0916,58.0865,58.0815 ,58.0758,58.0702,58.064,58.0578,58.0533 ,58.047,58.041,58.0319,58.0228,57.7692)
ORBIT_NUMBER = 18750
ORBITAL_ECCENTRICITY = 0.578
ORBITAL_INCLINATION = 86.96
ORBITAL_SEMIMAJOR_AXIS = 8849.21
PERIAPSIS_ALTITUDE = 339.5
PERIAPSIS_ARGUMENT_ANGLE = 348.24
PERIAPSIS_TIME = 2018-10-27T08:54:43.000Z
SPACECRAFT_ORIENTATION = (0.0,1.0,0.0)
^MEX_ORIENTATION_DESC = "MEX_ORIENTATION_DESC.TXT"
SPACECRAFT_POINTING_MODE = INERT
^MEX_POINTING_DESC = "MEX_POINTING_DESC.TXT"
RIGHT_ASCENSION = 76.284
DECLINATION = 33.717
OFFSET_ANGLE = -1e+32
SPACECRAFT_SOLAR_DISTANCE = 2.0843e+08
TARGET_NAME = MARS
/* CAMERA DATA ELEMENTS */
DETECTOR_TEMPERATURE = 18.3705
FOCAL_PLANE_TEMPERATURE = 10.2145
INST_CMPRS_NAME = "DISCRETE COSINE TRANSFORMATION (DCT)"
INST_CMPRS_RATIO = 9.16094
INST_CMPRS_QUALITY = 0
INST_CMPRS_QUANTZ_TBL_ID = 0
INSTRUMENT_TEMPERATURE = 10.2145
LENS_TEMPERATURE = 10.6223
MACROPIXEL_SIZE = 2
MISSING_FRAMES = 1
PIXEL_SUBSAMPLING_FLAG = N
SIGNAL_CHAIN_ID = 1
/* RADIOMETRIC DATA ELEMENTS */
BANDWIDTH = 180.0
CENTER_FILTER_WAVELENGTH = 677.0
RADIANCE_OFFSET = 3.49839
RADIANCE_SCALING_FACTOR = 0.0177897
REFLECTANCE_SCALING_FACTOR = 0.000403209
MEX:REFLECTANCE_OFFSET = 0.0792921
/* IMAGE OBJECT DEFINITIONS */
OBJECT = IMAGE
  INTERCHANGE_FORMAT = BINARY
  LINES = 21311
  LINE_SAMPLES = 4419
  SAMPLE_TYPE = UNSIGNED_INTEGER
  SAMPLE_BITS = 8
  BANDS = 1
  BAND_STORAGE_TYPE = BAND_SEQUENTIAL
  MAXIMUM = 253
  MEAN = 110.121
  MINIMUM = 1
  STANDARD_DEVIATION = 50.9601
END_OBJECT = IMAGE
/* MAP OBJECT DEFINITIONS */
OBJECT = IMAGE_MAP_PROJECTION
  ^DATA_SET_MAP_PROJECTION_CATALOG= "DSMAP.CAT"
  A_AXIS_RADIUS = 3396.0
  B_AXIS_RADIUS = 3396.0
  C_AXIS_RADIUS = 3396.0
  CENTER_LATITUDE = 0.0
  CENTER_LONGITUDE = 57.0
  COORDINATE_SYSTEM_NAME = PLANETOGRAPHIC
  COORDINATE_SYSTEM_TYPE = "BODY-FIXED ROTATING"
  EASTERNMOST_LONGITUDE = 58.2188
  FIRST_STANDARD_PARALLEL = "N/A"
  LINE_FIRST_PIXEL = 1
  LINE_LAST_PIXEL = 21311
  LINE_PROJECTION_OFFSET = -55504.75
  MAP_PROJECTION_ROTATION = 0.0
  MAP_PROJECTION_TYPE = SINUSOIDAL
  MAP_RESOLUTION = 2370.85521546667
  MAP_SCALE = 0.025
  MAXIMUM_LATITUDE = -23.4073
  MINIMUM_LATITUDE = -32.4537
  POSITIVE_LONGITUDE_DIRECTION = EAST
  REFERENCE_LATITUDE = "N/A"
  REFERENCE_LONGITUDE = "N/A"
  SAMPLE_FIRST_PIXEL = 1
  SAMPLE_LAST_PIXEL = 4419
  SAMPLE_PROJECTION_OFFSET = 1754.25
  SECOND_STANDARD_PARALLEL = "N/A"
  WESTERNMOST_LONGITUDE = 56.1873
END_OBJECT = IMAGE_MAP_PROJECTION
/* The JPEG2000 image data file associated with this label. */
OBJECT = COMPRESSED_FILE
  FILE_NAME = "HI750_0000_S13.JP2"
  RECORD_TYPE = UNDEFINED
  FILE_RECORDS = UNK
  ENCODING_TYPE = "JP2"
  INTERCHANGE_FORMAT = BINARY
  UNCOMPRESSED_FILE_NAME = "HI750_0000_S13.IMG"
  REQUIRED_STORAGE_BYTES = "94199823"
  ^DESCRIPTION = "JP2INFO.TXT"
END_OBJECT = COMPRESSED_FILE
END
