PDS_VERSION_ID = PDS3
/* FILE DATA ELEMENTS */
RECORD_TYPE = STREAM
/* POINTERS TO DATA OBJECTS */
^COMPRESSED_FILE = "HI754_0000_GR3.JP2"
/* IDENTIFICATION DATA ELEMENTS */
DATA_SET_ID = "MEX-M-HRSC-5-REFDR-MAPPROJECTED-V3.0"
DATA_SET_NAME = "MARS EXPRESS HRSC MAP PROJECTED REFDR V3.0"
DETECTOR_ID = MEX_HRSC_GREEN
EVENT_TYPE = "MARS-REGIONAL-MAPPING-Im-Fl"
INSTRUMENT_HOST_ID = MEX
INSTRUMENT_HOST_NAME = "MARS EXPRESS"
INSTRUMENT_ID = HRSC
INSTRUMENT_NAME = "HIGH RESOLUTION STEREO CAMERA"
MISSION_NAME = "MARS EXPRESS"
MISSION_PHASE_NAME = ME_Phase_39
PROCESSING_LEVEL_ID = 3
PRODUCT_CREATION_TIME = 2019-02-21T11:58:24.000Z
PRODUCT_ID = "HI754_0000_GR3.JP2"
RELEASE_ID = 0142
REVISION_ID = 0000
/* QUALITY DATA ELEMENTS */
DATA_QUALITY_ID = 1
DATA_QUALITY_DESC = "Data calculated based on original SPICE kernels"
/* TIME DATA ELEMENTS */
SPACECRAFT_CLOCK_START_COUNT = "1/0488810901.24940"
SPACECRAFT_CLOCK_STOP_COUNT = "1/0488811093.31568"
START_TIME = 2018-10-28T12:49:25.595Z
STOP_TIME = 2018-10-28T12:51:40.714Z
/* ORBITAL DATA ELEMENTS */
ASCENDING_NODE_LONGITUDE = 222.33
MAXIMUM_RESOLUTION = 54.3
FOOTPRINT_POINT_LATITUDE = (-17.3548,-17.3557,-17.3564,-17.3571, -17.3577,-17.2612,-17.0678,-16.8742, -16.6805,-16.39,-16.0995,-15.9059, -15.7124,-15.5191,-15.2287,-15.035, -14.8416,-14.6482,-14.3581,-14.1646, -13.9712,-13.7779,-13.5851,-13.3917, -13.1982,-13.0046,-12.7144,-12.4244, -12.231,-12.0377,-11.8443,-11.651, -11.4576,-11.1675,-10.8776,-10.6842, -10.4909,-10.2975,-10.104,-9.81395, -9.52362,-9.33026,-9.13665,-8.84635, -8.65274,-8.45917,-8.26566,-8.07207, -7.87846,-7.68482,-7.67043,-7.66878, -7.66693,-7.6656,-7.76165,-7.95542, -8.14929,-8.3433,-8.53696,-8.73063, -8.92411,-9.11765,-9.40777,-9.60116, -9.7946,-9.98824,-10.1818,-10.3751, -10.5685,-10.8586,-11.052,-11.2454, -11.4388,-11.6322,-11.9223,-12.2124, -12.5025,-12.7926,-12.986,-13.2761, -13.5663,-13.7597,-13.9531,-14.1465, -14.4367,-14.6301,-14.8235,-15.017, -15.2106,-15.4041,-15.5977,-15.888, -16.0816,-16.2752,-16.4689,-16.6624, -16.8558,-17.146,-17.3418,-17.3548)
FOOTPRINT_POINT_LONGITUDE = (10.1652,9.97839,9.79143,9.60399, 9.38054,9.24701,9.24874,9.25082,9.25291 ,9.25602,9.25895,9.26089,9.26252, 9.26349,9.26614,9.26821,9.26955,9.2705, 9.27239,9.27372,9.27478,9.2756,9.27312, 9.27376,9.27464,9.27661,9.27969,9.28027 ,9.28016,9.28077,9.28137,9.28178, 9.28168,9.28173,9.2824,9.28268,9.28246, 9.28235,9.28193,9.28159,9.28044,9.28029 ,9.2794,9.27839,9.27755,9.2768,9.27616, 9.27534,9.27449,9.27354,9.53331,9.83784 ,10.063,10.243,10.4822,10.4823,10.4822, 10.4819,10.4819,10.482,10.4823,10.4825, 10.4831,10.4836,10.4839,10.4839,10.4839 ,10.4846,10.485,10.4856,10.4861,10.4865 ,10.4869,10.4874,10.4882,10.4888, 10.4894,10.49,10.4906,10.4913,10.4921, 10.4926,10.4929,10.4935,10.4943,10.4947 ,10.4952,10.4958,10.4964,10.497,10.4976 ,10.4985,10.4991,10.4997,10.5004, 10.5009,10.5011,10.5018,10.5042, 10.1652)
ORBIT_NUMBER = 18754
ORBITAL_ECCENTRICITY = 0.578
ORBITAL_INCLINATION = 86.94
ORBITAL_SEMIMAJOR_AXIS = 8845.31
PERIAPSIS_ALTITUDE = 339.9
PERIAPSIS_ARGUMENT_ANGLE = 347.53
PERIAPSIS_TIME = 2018-10-28T12:50:32.000Z
SPACECRAFT_ORIENTATION = (0.0,1.0,0.0)
^MEX_ORIENTATION_DESC = "MEX_ORIENTATION_DESC.TXT"
SPACECRAFT_POINTING_MODE = INERT
^MEX_POINTING_DESC = "MEX_POINTING_DESC.TXT"
RIGHT_ASCENSION = 75.696
DECLINATION = 34.261
OFFSET_ANGLE = -1e+32
SPACECRAFT_SOLAR_DISTANCE = 2.0853e+08
TARGET_NAME = MARS
/* CAMERA DATA ELEMENTS */
DETECTOR_TEMPERATURE = 19.1861
FOCAL_PLANE_TEMPERATURE = 10.8262
INST_CMPRS_NAME = "DISCRETE COSINE TRANSFORMATION (DCT)"
INST_CMPRS_RATIO = 9.48215
INST_CMPRS_QUALITY = 0
INST_CMPRS_QUANTZ_TBL_ID = 0
INSTRUMENT_TEMPERATURE = 12.4574
LENS_TEMPERATURE = 11.4379
MACROPIXEL_SIZE = 4
MISSING_FRAMES = 0
PIXEL_SUBSAMPLING_FLAG = N
SIGNAL_CHAIN_ID = 2
/* RADIOMETRIC DATA ELEMENTS */
BANDWIDTH = 88.0
CENTER_FILTER_WAVELENGTH = 538.0
RADIANCE_OFFSET = 0.928724
RADIANCE_SCALING_FACTOR = 0.00271037
REFLECTANCE_SCALING_FACTOR = 0.000101474
MEX:REFLECTANCE_OFFSET = 0.0347707
/* IMAGE OBJECT DEFINITIONS */
OBJECT = IMAGE
  INTERCHANGE_FORMAT = BINARY
  LINES = 11480
  LINE_SAMPLES = 1523
  SAMPLE_TYPE = UNSIGNED_INTEGER
  SAMPLE_BITS = 8
  BANDS = 1
  BAND_STORAGE_TYPE = BAND_SEQUENTIAL
  MAXIMUM = 255
  MEAN = 116.788
  MINIMUM = 1
  STANDARD_DEVIATION = 42.5152
END_OBJECT = IMAGE
/* MAP OBJECT DEFINITIONS */
OBJECT = IMAGE_MAP_PROJECTION
  ^DATA_SET_MAP_PROJECTION_CATALOG= "DSMAP.CAT"
  A_AXIS_RADIUS = 3396.0
  B_AXIS_RADIUS = 3396.0
  C_AXIS_RADIUS = 3396.0
  CENTER_LATITUDE = 0.0
  CENTER_LONGITUDE = 10.0
  COORDINATE_SYSTEM_NAME = PLANETOGRAPHIC
  COORDINATE_SYSTEM_TYPE = "BODY-FIXED ROTATING"
  EASTERNMOST_LONGITUDE = 10.5042
  FIRST_STANDARD_PARALLEL = "N/A"
  LINE_FIRST_PIXEL = 1
  LINE_LAST_PIXEL = 11480
  LINE_PROJECTION_OFFSET = -9093.625
  MAP_PROJECTION_ROTATION = 0.0
  MAP_PROJECTION_TYPE = SINUSOIDAL
  MAP_RESOLUTION = 1185.42760773333
  MAP_SCALE = 0.05
  MAXIMUM_LATITUDE = -7.6656
  MINIMUM_LATITUDE = -17.3577
  POSITIVE_LONGITUDE_DIRECTION = EAST
  REFERENCE_LATITUDE = "N/A"
  REFERENCE_LONGITUDE = "N/A"
  SAMPLE_FIRST_PIXEL = 1
  SAMPLE_LAST_PIXEL = 1523
  SAMPLE_PROJECTION_OFFSET = 921.125
  SECOND_STANDARD_PARALLEL = "N/A"
  WESTERNMOST_LONGITUDE = 9.24701
END_OBJECT = IMAGE_MAP_PROJECTION
/* The JPEG2000 image data file associated with this label. */
OBJECT = COMPRESSED_FILE
  FILE_NAME = "HI754_0000_GR3.JP2"
  RECORD_TYPE = UNDEFINED
  FILE_RECORDS = UNK
  ENCODING_TYPE = "JP2"
  INTERCHANGE_FORMAT = BINARY
  UNCOMPRESSED_FILE_NAME = "HI754_0000_GR3.IMG"
  REQUIRED_STORAGE_BYTES = "17503839"
  ^DESCRIPTION = "JP2INFO.TXT"
END_OBJECT = COMPRESSED_FILE
END
