PDS_VERSION_ID = PDS3
/* FILE DATA ELEMENTS */
RECORD_TYPE = STREAM
/* POINTERS TO DATA OBJECTS */
^COMPRESSED_FILE = "HI756_0000_GR3.JP2"
/* IDENTIFICATION DATA ELEMENTS */
DATA_SET_ID = "MEX-M-HRSC-5-REFDR-MAPPROJECTED-V3.0"
DATA_SET_NAME = "MARS EXPRESS HRSC MAP PROJECTED REFDR V3.0"
DETECTOR_ID = MEX_HRSC_GREEN
EVENT_TYPE = "MARS-REGIONAL-MAPPING-Im-Fl-Mw"
INSTRUMENT_HOST_ID = MEX
INSTRUMENT_HOST_NAME = "MARS EXPRESS"
INSTRUMENT_ID = HRSC
INSTRUMENT_NAME = "HIGH RESOLUTION STEREO CAMERA"
MISSION_NAME = "MARS EXPRESS"
MISSION_PHASE_NAME = ME_Phase_39
PROCESSING_LEVEL_ID = 3
PRODUCT_CREATION_TIME = 2019-02-21T11:58:24.000Z
PRODUCT_ID = "HI756_0000_GR3.JP2"
RELEASE_ID = 0142
REVISION_ID = 0000
/* QUALITY DATA ELEMENTS */
DATA_QUALITY_ID = 1
DATA_QUALITY_DESC = "Data calculated based on original SPICE kernels"
/* TIME DATA ELEMENTS */
SPACECRAFT_CLOCK_START_COUNT = "1/0488861129.24931"
SPACECRAFT_CLOCK_STOP_COUNT = "1/0488861313.39964"
START_TIME = 2018-10-29T02:46:36.204Z
STOP_TIME = 2018-10-29T02:48:39.893Z
/* ORBITAL DATA ELEMENTS */
ASCENDING_NODE_LONGITUDE = 222.28
MAXIMUM_RESOLUTION = 55.9
FOOTPRINT_POINT_LATITUDE = (-20.8999,-20.9004,-20.9006,-20.9006, -20.9004,-20.9,-20.814,-20.5493, -20.3729,-20.1964,-20.0197,-19.7548, -19.5781,-19.4016,-19.2249,-19.0484, -18.7834,-18.5187,-18.3421,-18.1657, -17.901,-17.7245,-17.548,-17.2833, -17.0186,-16.8421,-16.5776,-16.313, -16.1366,-15.9602,-15.7839,-15.6075, -15.3429,-15.1665,-14.9901,-14.7255, -14.5491,-14.3727,-14.108,-13.8433, -13.6668,-13.4903,-13.3139,-13.0492, -12.8728,-12.6966,-12.52,-12.2551, -12.0785,-12.0312,-12.0314,-12.0314, -12.0307,-12.0301,-12.2073,-12.3839, -12.5606,-12.8257,-13.002,-13.1787, -13.3548,-13.6196,-13.7963,-13.9727, -14.1492,-14.4138,-14.6785,-14.8549, -15.0313,-15.2077,-15.3841,-15.5605, -15.7369,-15.9134,-16.0897,-16.2662, -16.4427,-16.6191,-16.8837,-17.0602, -17.2366,-17.4131,-17.5896,-17.7661, -17.9425,-18.1192,-18.3836,-18.56, -18.7374,-18.9142,-19.0898,-19.3546, -19.5312,-19.7961,-19.9725,-20.1487, -20.4139,-20.5908,-20.7674,-20.8999)
FOOTPRINT_POINT_LONGITUDE = (168.481,168.251,168.027,167.807, 167.592,167.381,167.08,167.077,167.074, 167.072,167.069,167.066,167.063,167.061 ,167.058,167.056,167.051,167.048, 167.045,167.044,167.04,167.038,167.036, 167.032,167.029,167.027,167.024,167.021 ,167.019,167.017,167.017,167.015, 167.014,167.012,167.011,167.008,167.008 ,167.006,167.004,167.003,167.003, 167.002,167.001,166.999,166.998,166.995 ,166.995,166.994,166.994,167.232, 167.414,167.688,167.998,168.21,168.35, 168.351,168.351,168.351,168.354,168.354 ,168.36,168.363,168.361,168.363,168.365 ,168.37,168.373,168.377,168.378,168.381 ,168.391,168.399,168.403,168.403, 168.401,168.408,168.412,168.415,168.42, 168.425,168.429,168.434,168.439,168.444 ,168.449,168.455,168.46,168.464,168.477 ,168.485,168.482,168.491,168.497, 168.505,168.51,168.514,168.525,168.533, 168.539,168.481)
ORBIT_NUMBER = 18756
ORBITAL_ECCENTRICITY = 0.577
ORBITAL_INCLINATION = 86.96
ORBITAL_SEMIMAJOR_AXIS = 8840.31
PERIAPSIS_ALTITUDE = 339.87
PERIAPSIS_ARGUMENT_ANGLE = 347.21
PERIAPSIS_TIME = 2018-10-29T02:48:31.000Z
SPACECRAFT_ORIENTATION = (0.0,1.0,0.0)
^MEX_ORIENTATION_DESC = "MEX_ORIENTATION_DESC.TXT"
SPACECRAFT_POINTING_MODE = INERT
^MEX_POINTING_DESC = "MEX_POINTING_DESC.TXT"
RIGHT_ASCENSION = 75.425
DECLINATION = 34.496
OFFSET_ANGLE = -1e+32
SPACECRAFT_SOLAR_DISTANCE = 2.08581e+08
TARGET_NAME = MARS
/* CAMERA DATA ELEMENTS */
DETECTOR_TEMPERATURE = 18.3705
FOCAL_PLANE_TEMPERATURE = 8.9911
INST_CMPRS_NAME = "DISCRETE COSINE TRANSFORMATION (DCT)"
INST_CMPRS_RATIO = 10.5922
INST_CMPRS_QUALITY = 0
INST_CMPRS_QUANTZ_TBL_ID = 0
INSTRUMENT_TEMPERATURE = 11.6418
LENS_TEMPERATURE = 9.6028
MACROPIXEL_SIZE = 4
MISSING_FRAMES = 0
PIXEL_SUBSAMPLING_FLAG = N
SIGNAL_CHAIN_ID = 2
/* RADIOMETRIC DATA ELEMENTS */
BANDWIDTH = 88.0
CENTER_FILTER_WAVELENGTH = 538.0
RADIANCE_OFFSET = 1.10699
RADIANCE_SCALING_FACTOR = 0.00245194
REFLECTANCE_SCALING_FACTOR = 9.18433e-05
MEX:REFLECTANCE_OFFSET = 0.041465
/* IMAGE OBJECT DEFINITIONS */
OBJECT = IMAGE
  INTERCHANGE_FORMAT = BINARY
  LINES = 10592
  LINE_SAMPLES = 1948
  SAMPLE_TYPE = UNSIGNED_INTEGER
  SAMPLE_BITS = 8
  BANDS = 1
  BAND_STORAGE_TYPE = BAND_SEQUENTIAL
  MAXIMUM = 255
  MEAN = 97.0047
  MINIMUM = 1
  STANDARD_DEVIATION = 29.6435
END_OBJECT = IMAGE
/* MAP OBJECT DEFINITIONS */
OBJECT = IMAGE_MAP_PROJECTION
  ^DATA_SET_MAP_PROJECTION_CATALOG= "DSMAP.CAT"
  A_AXIS_RADIUS = 3396.0
  B_AXIS_RADIUS = 3396.0
  C_AXIS_RADIUS = 3396.0
  CENTER_LATITUDE = 0.0
  CENTER_LONGITUDE = 168.0
  COORDINATE_SYSTEM_NAME = PLANETOGRAPHIC
  COORDINATE_SYSTEM_TYPE = "BODY-FIXED ROTATING"
  EASTERNMOST_LONGITUDE = 168.539
  FIRST_STANDARD_PARALLEL = "N/A"
  LINE_FIRST_PIXEL = 1
  LINE_LAST_PIXEL = 10592
  LINE_PROJECTION_OFFSET = -14206.125
  MAP_PROJECTION_ROTATION = 0.0
  MAP_PROJECTION_TYPE = SINUSOIDAL
  MAP_RESOLUTION = 1185.42760773333
  MAP_SCALE = 0.05
  MAXIMUM_LATITUDE = -12.0301
  MINIMUM_LATITUDE = -20.9006
  POSITIVE_LONGITUDE_DIRECTION = EAST
  REFERENCE_LATITUDE = "N/A"
  REFERENCE_LONGITUDE = "N/A"
  SAMPLE_FIRST_PIXEL = 1
  SAMPLE_LAST_PIXEL = 1948
  SAMPLE_PROJECTION_OFFSET = 1181.875
  SECOND_STANDARD_PARALLEL = "N/A"
  WESTERNMOST_LONGITUDE = 166.994
END_OBJECT = IMAGE_MAP_PROJECTION
/* The JPEG2000 image data file associated with this label. */
OBJECT = COMPRESSED_FILE
  FILE_NAME = "HI756_0000_GR3.JP2"
  RECORD_TYPE = UNDEFINED
  FILE_RECORDS = UNK
  ENCODING_TYPE = "JP2"
  INTERCHANGE_FORMAT = BINARY
  UNCOMPRESSED_FILE_NAME = "HI756_0000_GR3.IMG"
  REQUIRED_STORAGE_BYTES = "20652696"
  ^DESCRIPTION = "JP2INFO.TXT"
END_OBJECT = COMPRESSED_FILE
END
