PDS_VERSION_ID = PDS3
/* FILE DATA ELEMENTS */
RECORD_TYPE = STREAM
/* POINTERS TO DATA OBJECTS */
^COMPRESSED_FILE = "HI756_0000_P23.JP2"
/* IDENTIFICATION DATA ELEMENTS */
DATA_SET_ID = "MEX-M-HRSC-5-REFDR-MAPPROJECTED-V3.0"
DATA_SET_NAME = "MARS EXPRESS HRSC MAP PROJECTED REFDR V3.0"
DETECTOR_ID = MEX_HRSC_P2
EVENT_TYPE = "MARS-REGIONAL-MAPPING-Im-Fl-Mw"
INSTRUMENT_HOST_ID = MEX
INSTRUMENT_HOST_NAME = "MARS EXPRESS"
INSTRUMENT_ID = HRSC
INSTRUMENT_NAME = "HIGH RESOLUTION STEREO CAMERA"
MISSION_NAME = "MARS EXPRESS"
MISSION_PHASE_NAME = ME_Phase_39
PROCESSING_LEVEL_ID = 3
PRODUCT_CREATION_TIME = 2019-02-21T11:58:24.000Z
PRODUCT_ID = "HI756_0000_P23.JP2"
RELEASE_ID = 0142
REVISION_ID = 0000
/* QUALITY DATA ELEMENTS */
DATA_QUALITY_ID = 1
DATA_QUALITY_DESC = "Data calculated based on original SPICE kernels"
/* TIME DATA ELEMENTS */
SPACECRAFT_CLOCK_START_COUNT = "1/0488861129.24931"
SPACECRAFT_CLOCK_STOP_COUNT = "1/0488861313.39964"
START_TIME = 2018-10-29T02:46:11.154Z
STOP_TIME = 2018-10-29T02:48:15.142Z
/* ORBITAL DATA ELEMENTS */
ASCENDING_NODE_LONGITUDE = 222.28
MAXIMUM_RESOLUTION = 29.3
FOOTPRINT_POINT_LATITUDE = (-20.8561,-20.8771,-20.8972,-20.9164, -20.9347,-20.9522,-20.9599,-20.7572, -20.5539,-20.2487,-20.0458,-19.8428, -19.5384,-19.3353,-19.0631,-18.8931, -18.7229,-18.5521,-18.3818,-18.2112, -18.0404,-17.8701,-17.6995,-17.4439, -17.2732,-17.1024,-16.9317,-16.6751, -16.5041,-16.3328,-16.1626,-15.9917, -15.8186,-15.5615,-15.3026,-15.1315, -14.8744,-14.7033,-14.5291,-14.3579, -14.1849,-13.9265,-13.6663,-13.4938, -13.3214,-13.1491,-12.8913,-12.6328, -12.3728,-12.0812,-12.0597,-12.0394, -12.0094,-11.9706,-12.043,-12.2164, -12.4769,-12.6526,-12.8256,-13.0842, -13.2576,-13.4274,-13.6014,-13.7767, -13.9492,-14.1224,-14.3802,-14.6387, -14.8102,-14.9835,-15.1556,-15.327, -15.4932,-15.6637,-15.9244,-16.0978, -16.2677,-16.5246,-16.6958,-16.8675, -17.1249,-17.2965,-17.467,-17.6375, -17.8081,-18.0636,-18.236,-18.4072, -18.5774,-18.7438,-18.9138,-19.0864, -19.2879,-19.4905,-19.7952,-19.9989, -20.2033,-20.4052,-20.6075,-20.8561)
FOOTPRINT_POINT_LONGITUDE = (168.4,168.162,167.93,167.703,167.481, 167.263,167.056,167.054,167.052,167.05, 167.048,167.046,167.042,167.04,167.038, 167.036,167.034,167.033,167.032,167.03, 167.029,167.027,167.026,167.023,167.022 ,167.021,167.019,167.018,167.016, 167.015,167.014,167.012,167.013,167.011 ,167.011,167.01,167.008,167.007,167.008 ,167.007,167.007,167.006,167.007, 167.007,167.006,167.006,167.005,167.004 ,167.004,167.08,167.313,167.537,167.85, 168.245,168.409,168.408,168.407,168.404 ,168.404,168.406,168.405,168.41,168.409 ,168.406,168.406,168.406,168.409,168.41 ,168.413,168.412,168.413,168.416, 168.426,168.43,168.428,168.427,168.432, 168.435,168.438,168.44,168.443,168.445, 168.448,168.452,168.456,168.462,168.462 ,168.464,168.469,168.48,168.485,168.484 ,168.484,168.49,168.498,168.502,168.504 ,168.511,168.518,168.4)
ORBIT_NUMBER = 18756
ORBITAL_ECCENTRICITY = 0.577
ORBITAL_INCLINATION = 86.96
ORBITAL_SEMIMAJOR_AXIS = 8840.31
PERIAPSIS_ALTITUDE = 339.87
PERIAPSIS_ARGUMENT_ANGLE = 347.21
PERIAPSIS_TIME = 2018-10-29T02:48:31.000Z
SPACECRAFT_ORIENTATION = (0.0,1.0,0.0)
^MEX_ORIENTATION_DESC = "MEX_ORIENTATION_DESC.TXT"
SPACECRAFT_POINTING_MODE = INERT
^MEX_POINTING_DESC = "MEX_POINTING_DESC.TXT"
RIGHT_ASCENSION = 75.425
DECLINATION = 34.496
OFFSET_ANGLE = -1e+32
SPACECRAFT_SOLAR_DISTANCE = 2.08581e+08
TARGET_NAME = MARS
/* CAMERA DATA ELEMENTS */
DETECTOR_TEMPERATURE = 19.1861
FOCAL_PLANE_TEMPERATURE = 8.9911
INST_CMPRS_NAME = "DISCRETE COSINE TRANSFORMATION (DCT)"
INST_CMPRS_RATIO = 6.55625
INST_CMPRS_QUALITY = 0
INST_CMPRS_QUANTZ_TBL_ID = 0
INSTRUMENT_TEMPERATURE = 11.6418
LENS_TEMPERATURE = 9.6028
MACROPIXEL_SIZE = 2
MISSING_FRAMES = 0
PIXEL_SUBSAMPLING_FLAG = N
SIGNAL_CHAIN_ID = 3
/* RADIOMETRIC DATA ELEMENTS */
BANDWIDTH = 177.0
CENTER_FILTER_WAVELENGTH = 676.5
RADIANCE_OFFSET = 3.06433
RADIANCE_SCALING_FACTOR = 0.00850434
REFLECTANCE_SCALING_FACTOR = 0.000196176
MEX:REFLECTANCE_OFFSET = 0.0706875
/* IMAGE OBJECT DEFINITIONS */
OBJECT = IMAGE
  INTERCHANGE_FORMAT = BINARY
  LINES = 21184
  LINE_SAMPLES = 3895
  SAMPLE_TYPE = UNSIGNED_INTEGER
  SAMPLE_BITS = 8
  BANDS = 1
  BAND_STORAGE_TYPE = BAND_SEQUENTIAL
  MAXIMUM = 255
  MEAN = 94.5608
  MINIMUM = 1
  STANDARD_DEVIATION = 26.1825
END_OBJECT = IMAGE
/* MAP OBJECT DEFINITIONS */
OBJECT = IMAGE_MAP_PROJECTION
  ^DATA_SET_MAP_PROJECTION_CATALOG= "DSMAP.CAT"
  A_AXIS_RADIUS = 3396.0
  B_AXIS_RADIUS = 3396.0
  C_AXIS_RADIUS = 3396.0
  CENTER_LATITUDE = 0.0
  CENTER_LONGITUDE = 168.0
  COORDINATE_SYSTEM_NAME = PLANETOGRAPHIC
  COORDINATE_SYSTEM_TYPE = "BODY-FIXED ROTATING"
  EASTERNMOST_LONGITUDE = 168.518
  FIRST_STANDARD_PARALLEL = "N/A"
  LINE_FIRST_PIXEL = 1
  LINE_LAST_PIXEL = 21184
  LINE_PROJECTION_OFFSET = -28411.75
  MAP_PROJECTION_ROTATION = 0.0
  MAP_PROJECTION_TYPE = SINUSOIDAL
  MAP_RESOLUTION = 2370.85521546667
  MAP_SCALE = 0.025
  MAXIMUM_LATITUDE = -11.9706
  MINIMUM_LATITUDE = -20.9599
  POSITIVE_LONGITUDE_DIRECTION = EAST
  REFERENCE_LATITUDE = "N/A"
  REFERENCE_LONGITUDE = "N/A"
  SAMPLE_FIRST_PIXEL = 1
  SAMPLE_LAST_PIXEL = 3895
  SAMPLE_PROJECTION_OFFSET = 2364.25
  SECOND_STANDARD_PARALLEL = "N/A"
  WESTERNMOST_LONGITUDE = 167.004
END_OBJECT = IMAGE_MAP_PROJECTION
/* The JPEG2000 image data file associated with this label. */
OBJECT = COMPRESSED_FILE
  FILE_NAME = "HI756_0000_P23.JP2"
  RECORD_TYPE = UNDEFINED
  FILE_RECORDS = UNK
  ENCODING_TYPE = "JP2"
  INTERCHANGE_FORMAT = BINARY
  UNCOMPRESSED_FILE_NAME = "HI756_0000_P23.IMG"
  REQUIRED_STORAGE_BYTES = "82535050"
  ^DESCRIPTION = "JP2INFO.TXT"
END_OBJECT = COMPRESSED_FILE
END
