PDS_VERSION_ID = PDS3
/* FILE DATA ELEMENTS */
RECORD_TYPE = STREAM
/* POINTERS TO DATA OBJECTS */
^COMPRESSED_FILE = "HI757_0000_P23.JP2"
/* IDENTIFICATION DATA ELEMENTS */
DATA_SET_ID = "MEX-M-HRSC-5-REFDR-MAPPROJECTED-V3.0"
DATA_SET_NAME = "MARS EXPRESS HRSC MAP PROJECTED REFDR V3.0"
DETECTOR_ID = MEX_HRSC_P2
EVENT_TYPE = "MARS-REGIONAL-MAPPING-Im-Fl"
INSTRUMENT_HOST_ID = MEX
INSTRUMENT_HOST_NAME = "MARS EXPRESS"
INSTRUMENT_ID = HRSC
INSTRUMENT_NAME = "HIGH RESOLUTION STEREO CAMERA"
MISSION_NAME = "MARS EXPRESS"
MISSION_PHASE_NAME = ME_Phase_39
PROCESSING_LEVEL_ID = 3
PRODUCT_CREATION_TIME = 2019-02-21T11:58:24.000Z
PRODUCT_ID = "HI757_0000_P23.JP2"
RELEASE_ID = 0142
REVISION_ID = 0000
/* QUALITY DATA ELEMENTS */
DATA_QUALITY_ID = 1
DATA_QUALITY_DESC = "Data calculated based on original SPICE kernels"
/* TIME DATA ELEMENTS */
SPACECRAFT_CLOCK_START_COUNT = "1/0488886295.25714"
SPACECRAFT_CLOCK_STOP_COUNT = "1/0488886491.16831"
START_TIME = 2018-10-29T09:45:36.660Z
STOP_TIME = 2018-10-29T09:47:54.272Z
/* ORBITAL DATA ELEMENTS */
ASCENDING_NODE_LONGITUDE = 222.27
MAXIMUM_RESOLUTION = 28.4
FOOTPRINT_POINT_LATITUDE = (-18.9195,-18.9278,-18.9356,-18.943, -18.9499,-18.951,-18.7551,-18.5595, -18.3645,-18.169,-17.9729,-17.7773, -17.5818,-17.2891,-17.0928,-16.7995, -16.6038,-16.4072,-16.1125,-15.9157, -15.7188,-15.5217,-15.2257,-14.9301, -14.733,-14.5355,-14.2394,-14.0421, -13.8447,-13.6466,-13.3502,-13.0528, -12.8543,-12.656,-12.457,-12.2588, -12.0604,-11.862,-11.6632,-11.4639, -11.1653,-10.9662,-10.6676,-10.3682, -10.1677,-9.97048,-9.77118,-9.57332, -9.37221,-9.06401,-9.04928,-9.03368, -9.02059,-9.00626,-9.3063,-9.50616, -9.7066,-9.90749,-10.2077,-10.4069, -10.6068,-10.907,-11.1064,-11.3056, -11.6039,-11.9035,-12.2013,-12.3998, -12.5988,-12.797,-12.995,-13.1933, -13.3917,-13.5895,-13.7875,-13.9853, -14.1833,-14.3812,-14.5787,-14.8744, -15.0718,-15.368,-15.5663,-15.7626, -15.9601,-16.1573,-16.3492,-16.5445, -16.7409,-16.9403,-17.2363,-17.4321, -17.6275,-17.8235,-18.0187,-18.3112, -18.5071,-18.7014,-18.8975,-18.9195)
FOOTPRINT_POINT_LONGITUDE = (64.8521,64.6473,64.4442,64.2432, 64.0438,63.8548,63.8551,63.8554,63.8556 ,63.8558,63.856,63.8562,63.8564,63.8565 ,63.8567,63.8567,63.8568,63.8569,63.857 ,63.8571,63.8571,63.8572,63.8572, 63.8572,63.8572,63.8572,63.8571,63.857, 63.8569,63.8568,63.8567,63.8565,63.8564 ,63.8563,63.8562,63.856,63.8559,63.8557 ,63.8555,63.8554,63.8551,63.8549, 63.8545,63.8542,63.8541,63.8536,63.8534 ,63.853,63.8528,63.96,64.2149,64.5834, 64.8215,65.1298,65.1289,65.1284,65.1275 ,65.1262,65.1252,65.1251,65.1244, 65.1233,65.1229,65.1228,65.1229,65.1221 ,65.1225,65.1228,65.1227,65.1231, 65.1237,65.1242,65.1245,65.1252,65.1258 ,65.1265,65.127,65.1277,65.1286,65.1304 ,65.1314,65.1328,65.1329,65.1348, 65.1356,65.1366,65.1425,65.1454,65.1472 ,65.146,65.1472,65.1495,65.1522,65.1543 ,65.1572,65.1618,65.164,65.1678,65.1697 ,64.8521)
ORBIT_NUMBER = 18757
ORBITAL_ECCENTRICITY = 0.578
ORBITAL_INCLINATION = 86.97
ORBITAL_SEMIMAJOR_AXIS = 8848.22
PERIAPSIS_ALTITUDE = 338.85
PERIAPSIS_ARGUMENT_ANGLE = 347.02
PERIAPSIS_TIME = 2018-10-29T09:47:25.000Z
SPACECRAFT_ORIENTATION = (0.0,1.0,0.0)
^MEX_ORIENTATION_DESC = "MEX_ORIENTATION_DESC.TXT"
SPACECRAFT_POINTING_MODE = INERT
^MEX_POINTING_DESC = "MEX_POINTING_DESC.TXT"
RIGHT_ASCENSION = 75.249
DECLINATION = 34.675
OFFSET_ANGLE = -1e+32
SPACECRAFT_SOLAR_DISTANCE = 2.08607e+08
TARGET_NAME = MARS
/* CAMERA DATA ELEMENTS */
DETECTOR_TEMPERATURE = 19.1861
FOCAL_PLANE_TEMPERATURE = 11.6418
INST_CMPRS_NAME = "DISCRETE COSINE TRANSFORMATION (DCT)"
INST_CMPRS_RATIO = 8.35597
INST_CMPRS_QUALITY = 0
INST_CMPRS_QUANTZ_TBL_ID = 0
INSTRUMENT_TEMPERATURE = 12.8652
LENS_TEMPERATURE = 12.2535
MACROPIXEL_SIZE = 2
MISSING_FRAMES = 0
PIXEL_SUBSAMPLING_FLAG = N
SIGNAL_CHAIN_ID = 3
/* RADIOMETRIC DATA ELEMENTS */
BANDWIDTH = 177.0
CENTER_FILTER_WAVELENGTH = 676.5
RADIANCE_OFFSET = 2.25068
RADIANCE_SCALING_FACTOR = 0.0080539
REFLECTANCE_SCALING_FACTOR = 0.000185832
MEX:REFLECTANCE_OFFSET = 0.0519311
/* IMAGE OBJECT DEFINITIONS */
OBJECT = IMAGE
  INTERCHANGE_FORMAT = BINARY
  LINES = 23590
  LINE_SAMPLES = 3150
  SAMPLE_TYPE = UNSIGNED_INTEGER
  SAMPLE_BITS = 8
  BANDS = 1
  BAND_STORAGE_TYPE = BAND_SEQUENTIAL
  MAXIMUM = 255
  MEAN = 102.199
  MINIMUM = 1
  STANDARD_DEVIATION = 38.8165
END_OBJECT = IMAGE
/* MAP OBJECT DEFINITIONS */
OBJECT = IMAGE_MAP_PROJECTION
  ^DATA_SET_MAP_PROJECTION_CATALOG= "DSMAP.CAT"
  A_AXIS_RADIUS = 3396.0
  B_AXIS_RADIUS = 3396.0
  C_AXIS_RADIUS = 3396.0
  CENTER_LATITUDE = 0.0
  CENTER_LONGITUDE = 64.0
  COORDINATE_SYSTEM_NAME = PLANETOGRAPHIC
  COORDINATE_SYSTEM_TYPE = "BODY-FIXED ROTATING"
  EASTERNMOST_LONGITUDE = 65.16970000000001
  FIRST_STANDARD_PARALLEL = "N/A"
  LINE_FIRST_PIXEL = 1
  LINE_LAST_PIXEL = 23590
  LINE_PROJECTION_OFFSET = -21290.25
  MAP_PROJECTION_ROTATION = 0.0
  MAP_PROJECTION_TYPE = SINUSOIDAL
  MAP_RESOLUTION = 2370.85521546667
  MAP_SCALE = 0.025
  MAXIMUM_LATITUDE = -9.006259999999999
  MINIMUM_LATITUDE = -18.951
  POSITIVE_LONGITUDE_DIRECTION = EAST
  REFERENCE_LATITUDE = "N/A"
  REFERENCE_LONGITUDE = "N/A"
  SAMPLE_FIRST_PIXEL = 1
  SAMPLE_LAST_PIXEL = 3150
  SAMPLE_PROJECTION_OFFSET = 333.75
  SECOND_STANDARD_PARALLEL = "N/A"
  WESTERNMOST_LONGITUDE = 63.8528
END_OBJECT = IMAGE_MAP_PROJECTION
/* The JPEG2000 image data file associated with this label. */
OBJECT = COMPRESSED_FILE
  FILE_NAME = "HI757_0000_P23.JP2"
  RECORD_TYPE = UNDEFINED
  FILE_RECORDS = UNK
  ENCODING_TYPE = "JP2"
  INTERCHANGE_FORMAT = BINARY
  UNCOMPRESSED_FILE_NAME = "HI757_0000_P23.IMG"
  REQUIRED_STORAGE_BYTES = "74333700"
  ^DESCRIPTION = "JP2INFO.TXT"
END_OBJECT = COMPRESSED_FILE
END
