PDS_VERSION_ID = PDS3
/* FILE DATA ELEMENTS */
RECORD_TYPE = STREAM
/* POINTERS TO DATA OBJECTS */
^COMPRESSED_FILE = "HI761_0000_S23.JP2"
/* IDENTIFICATION DATA ELEMENTS */
DATA_SET_ID = "MEX-M-HRSC-5-REFDR-MAPPROJECTED-V3.0"
DATA_SET_NAME = "MARS EXPRESS HRSC MAP PROJECTED REFDR V3.0"
DETECTOR_ID = MEX_HRSC_S2
EVENT_TYPE = "MARS-REGIONAL-MAPPING-Im-Fl"
INSTRUMENT_HOST_ID = MEX
INSTRUMENT_HOST_NAME = "MARS EXPRESS"
INSTRUMENT_ID = HRSC
INSTRUMENT_NAME = "HIGH RESOLUTION STEREO CAMERA"
MISSION_NAME = "MARS EXPRESS"
MISSION_PHASE_NAME = ME_Phase_39
PROCESSING_LEVEL_ID = 3
PRODUCT_CREATION_TIME = 2019-02-21T11:58:24.000Z
PRODUCT_ID = "HI761_0000_S23.JP2"
RELEASE_ID = 0142
REVISION_ID = 0000
/* QUALITY DATA ELEMENTS */
DATA_QUALITY_ID = 1
DATA_QUALITY_DESC = "Data calculated based on original SPICE kernels"
/* TIME DATA ELEMENTS */
SPACECRAFT_CLOCK_START_COUNT = "1/0488986854.23993"
SPACECRAFT_CLOCK_STOP_COUNT = "1/0488987063.39818"
START_TIME = 2018-10-30T13:41:25.792Z
STOP_TIME = 2018-10-30T13:43:56.790Z
/* ORBITAL DATA ELEMENTS */
ASCENDING_NODE_LONGITUDE = 222.2
MAXIMUM_RESOLUTION = 28.6
FOOTPRINT_POINT_LATITUDE = (-19.468,-19.4763,-19.4915,-19.5024, -19.288,-19.0735,-18.8588,-18.6444, -18.4293,-18.2149,-17.9981,-17.7832, -17.5691,-17.3538,-17.1383,-16.9222, -16.7067,-16.4916,-16.2755,-16.0592, -15.843,-15.6275,-15.411,-15.0862, -14.8698,-14.6532,-14.4383,-14.2131, -13.995,-13.7793,-13.5682,-13.35, -13.1309,-12.9122,-12.6938,-12.3664, -12.0381,-11.8201,-11.6016,-11.2745, -11.0563,-10.8374,-10.5048,-10.2835, -10.0665,-9.84396,-9.62921,-9.40739, -9.06938,-8.84668,-8.62415,-8.59533, -8.58387,-8.5755,-8.55496,-8.88713, -9.10895,-9.33138,-9.66563,-9.88932, -10.1117,-10.3337,-10.5532,-10.8785, -11.0968,-11.3146,-11.5281,-11.7467, -11.9663,-12.1889,-12.4064,-12.625, -12.8414,-13.0615,-13.3859,-13.6053, -13.9313,-14.1519,-14.3689,-14.5855, -14.8031,-15.0208,-15.2388,-15.4561, -15.7797,-15.9958,-16.3196,-16.5357, -16.8592,-17.0749,-17.3987,-17.7206, -17.931,-18.2552,-18.4752,-18.6897, -18.9046,-19.1184,-19.3319,-19.468)
FOOTPRINT_POINT_LONGITUDE = (16.2269,16.0277,15.634,15.2537,15.2545 ,15.2552,15.256,15.2567,15.2573,15.258, 15.2586,15.2591,15.2597,15.2602,15.2607 ,15.2611,15.2616,15.262,15.2623,15.2627 ,15.263,15.2633,15.2635,15.2639,15.2641 ,15.2643,15.2644,15.2646,15.2648, 15.2648,15.2648,15.2649,15.2649,15.265, 15.2649,15.2649,15.2648,15.2647,15.2646 ,15.2644,15.2643,15.2641,15.2639, 15.2637,15.2635,15.2633,15.263,15.2627, 15.2625,15.2622,15.262,15.6089,15.9233, 16.1672,16.5203,16.5178,16.516,16.5138, 16.5102,16.5072,16.5049,16.5028,16.5021 ,16.5033,16.5031,16.5034,16.5061, 16.5059,16.5051,16.5024,16.5028,16.5024 ,16.5034,16.5022,16.5038,16.5029, 16.5035,16.5017,16.5022,16.503,16.5031, 16.5031,16.5028,16.503,16.5049,16.5059, 16.5076,16.5086,16.5104,16.5116,16.5131 ,16.516,16.5213,16.5224,16.5199,16.5218 ,16.5234,16.5259,16.5287,16.2269)
ORBIT_NUMBER = 18761
ORBITAL_ECCENTRICITY = 0.578
ORBITAL_INCLINATION = 86.94
ORBITAL_SEMIMAJOR_AXIS = 8845.22
PERIAPSIS_ALTITUDE = 339.36
PERIAPSIS_ARGUMENT_ANGLE = 346.32
PERIAPSIS_TIME = 2018-10-30T13:43:14.000Z
SPACECRAFT_ORIENTATION = (0.0,1.0,0.0)
^MEX_ORIENTATION_DESC = "MEX_ORIENTATION_DESC.TXT"
SPACECRAFT_POINTING_MODE = INERT
^MEX_POINTING_DESC = "MEX_POINTING_DESC.TXT"
RIGHT_ASCENSION = 74.7
DECLINATION = 35.156
OFFSET_ANGLE = -1e+32
SPACECRAFT_SOLAR_DISTANCE = 2.08712e+08
TARGET_NAME = MARS
/* CAMERA DATA ELEMENTS */
DETECTOR_TEMPERATURE = 19.1861
FOCAL_PLANE_TEMPERATURE = 10.4184
INST_CMPRS_NAME = "DISCRETE COSINE TRANSFORMATION (DCT)"
INST_CMPRS_RATIO = 11.6455
INST_CMPRS_QUALITY = 0
INST_CMPRS_QUANTZ_TBL_ID = 0
INSTRUMENT_TEMPERATURE = 11.4379
LENS_TEMPERATURE = 11.234
MACROPIXEL_SIZE = 2
MISSING_FRAMES = 0
PIXEL_SUBSAMPLING_FLAG = N
SIGNAL_CHAIN_ID = 1
/* RADIOMETRIC DATA ELEMENTS */
BANDWIDTH = 178.0
CENTER_FILTER_WAVELENGTH = 679.0
RADIANCE_OFFSET = 2.42525
RADIANCE_SCALING_FACTOR = 0.0104485
REFLECTANCE_SCALING_FACTOR = 0.000241032
MEX:REFLECTANCE_OFFSET = 0.0559471
/* IMAGE OBJECT DEFINITIONS */
OBJECT = IMAGE
  INTERCHANGE_FORMAT = BINARY
  LINES = 25930
  LINE_SAMPLES = 3158
  SAMPLE_TYPE = UNSIGNED_INTEGER
  SAMPLE_BITS = 8
  BANDS = 1
  BAND_STORAGE_TYPE = BAND_SEQUENTIAL
  MAXIMUM = 255
  MEAN = 95.5086
  MINIMUM = 1
  STANDARD_DEVIATION = 33.5493
END_OBJECT = IMAGE
/* MAP OBJECT DEFINITIONS */
OBJECT = IMAGE_MAP_PROJECTION
  ^DATA_SET_MAP_PROJECTION_CATALOG= "DSMAP.CAT"
  A_AXIS_RADIUS = 3396.0
  B_AXIS_RADIUS = 3396.0
  C_AXIS_RADIUS = 3396.0
  CENTER_LATITUDE = 0.0
  CENTER_LONGITUDE = 16.0
  COORDINATE_SYSTEM_NAME = PLANETOGRAPHIC
  COORDINATE_SYSTEM_TYPE = "BODY-FIXED ROTATING"
  EASTERNMOST_LONGITUDE = 16.5287
  FIRST_STANDARD_PARALLEL = "N/A"
  LINE_FIRST_PIXEL = 1
  LINE_LAST_PIXEL = 25930
  LINE_PROJECTION_OFFSET = -20303.75
  MAP_PROJECTION_ROTATION = 0.0
  MAP_PROJECTION_TYPE = SINUSOIDAL
  MAP_RESOLUTION = 2370.85521546667
  MAP_SCALE = 0.025
  MAXIMUM_LATITUDE = -8.554959999999999
  MINIMUM_LATITUDE = -19.5024
  POSITIVE_LONGITUDE_DIRECTION = EAST
  REFERENCE_LATITUDE = "N/A"
  REFERENCE_LONGITUDE = "N/A"
  SAMPLE_FIRST_PIXEL = 1
  SAMPLE_LAST_PIXEL = 3158
  SAMPLE_PROJECTION_OFFSET = 1722.75
  SECOND_STANDARD_PARALLEL = "N/A"
  WESTERNMOST_LONGITUDE = 15.2537
END_OBJECT = IMAGE_MAP_PROJECTION
/* The JPEG2000 image data file associated with this label. */
OBJECT = COMPRESSED_FILE
  FILE_NAME = "HI761_0000_S23.JP2"
  RECORD_TYPE = UNDEFINED
  FILE_RECORDS = UNK
  ENCODING_TYPE = "JP2"
  INTERCHANGE_FORMAT = BINARY
  UNCOMPRESSED_FILE_NAME = "HI761_0000_S23.IMG"
  REQUIRED_STORAGE_BYTES = "81909046"
  ^DESCRIPTION = "JP2INFO.TXT"
END_OBJECT = COMPRESSED_FILE
END
