PDS_VERSION_ID = PDS3
/* FILE DATA ELEMENTS */
RECORD_TYPE = STREAM
/* POINTERS TO DATA OBJECTS */
^COMPRESSED_FILE = "HI763_0000_S23.JP2"
/* IDENTIFICATION DATA ELEMENTS */
DATA_SET_ID = "MEX-M-HRSC-5-REFDR-MAPPROJECTED-V3.0"
DATA_SET_NAME = "MARS EXPRESS HRSC MAP PROJECTED REFDR V3.0"
DETECTOR_ID = MEX_HRSC_S2
EVENT_TYPE = "MARS-REGIONAL-MAPPING-Im-Fl-Mw"
INSTRUMENT_HOST_ID = MEX
INSTRUMENT_HOST_NAME = "MARS EXPRESS"
INSTRUMENT_ID = HRSC
INSTRUMENT_NAME = "HIGH RESOLUTION STEREO CAMERA"
MISSION_NAME = "MARS EXPRESS"
MISSION_PHASE_NAME = ME_Phase_39
PROCESSING_LEVEL_ID = 3
PRODUCT_CREATION_TIME = 2019-02-21T11:58:24.000Z
PRODUCT_ID = "HI763_0000_S23.JP2"
RELEASE_ID = 0142
REVISION_ID = 0000
/* QUALITY DATA ELEMENTS */
DATA_QUALITY_ID = 1
DATA_QUALITY_DESC = "Data calculated based on original SPICE kernels"
/* TIME DATA ELEMENTS */
SPACECRAFT_CLOCK_START_COUNT = "1/0489037131.25678"
SPACECRAFT_CLOCK_STOP_COUNT = "1/0489037320.32881"
START_TIME = 2018-10-31T03:39:22.796Z
STOP_TIME = 2018-10-31T03:41:33.953Z
/* ORBITAL DATA ELEMENTS */
ASCENDING_NODE_LONGITUDE = 222.15
MAXIMUM_RESOLUTION = 29.3
FOOTPRINT_POINT_LATITUDE = (-19.6764,-19.6771,-19.6773,-19.6771, -19.676,-19.4736,-19.287,-19.0084, -18.8214,-18.6336,-18.3537,-18.1669, -17.9806,-17.7935,-17.5107,-17.32, -17.1329,-16.9472,-16.6711,-16.4842, -16.2955,-16.1068,-15.9191,-15.7286, -15.4401,-15.2532,-15.0649,-14.8728, -14.683,-14.3989,-14.2094,-14.0195, -13.8304,-13.6466,-13.4525,-13.1673, -12.9746,-12.7846,-12.5001,-12.3125, -12.1186,-11.931,-11.7369,-11.4456, -11.2539,-11.0646,-10.8721,-10.6792, -10.4852,-10.2927,-10.1818,-10.1832, -10.1805,-10.1773,-10.1755,-10.4623, -10.6558,-10.9443,-11.1367,-11.3289, -11.5207,-11.7119,-11.9998,-12.1916, -12.3838,-12.5733,-12.765,-12.9535, -13.1455,-13.336,-13.6216,-13.8121, -14.0011,-14.1911,-14.4752,-14.6646, -14.8535,-15.043,-15.2319,-15.5147, -15.7045,-15.8933,-16.1804,-16.3702, -16.5542,-16.7433,-17.027,-17.2141, -17.3992,-17.5868,-17.7756,-18.0595, -18.2465,-18.5273,-18.8095,-19.0895, -19.2775,-19.4642,-19.6506,-19.6764)
FOOTPRINT_POINT_LONGITUDE = (171.325,171.127,170.916,170.718, 170.432,170.325,170.327,170.33,170.331, 170.332,170.335,170.336,170.338,170.339 ,170.34,170.34,170.342,170.343,170.347, 170.348,170.348,170.349,170.35,170.35, 170.349,170.35,170.351,170.35,170.35, 170.35,170.351,170.351,170.351,170.353, 170.352,170.351,170.351,170.351,170.35, 170.351,170.35,170.35,170.349,170.347, 170.347,170.346,170.346,170.345,170.343 ,170.343,170.539,170.725,171.021, 171.293,171.618,171.618,171.617,171.616 ,171.616,171.615,171.615,171.615, 171.614,171.614,171.613,171.613,171.613 ,171.613,171.613,171.612,171.612, 171.612,171.612,171.612,171.612,171.612 ,171.612,171.612,171.612,171.612, 171.612,171.612,171.611,171.61,171.612, 171.612,171.611,171.612,171.613,171.613 ,171.613,171.612,171.613,171.613, 171.613,171.613,171.613,171.613,171.614 ,171.325)
ORBIT_NUMBER = 18763
ORBITAL_ECCENTRICITY = 0.578
ORBITAL_INCLINATION = 86.96
ORBITAL_SEMIMAJOR_AXIS = 8839.02
PERIAPSIS_ALTITUDE = 339.32
PERIAPSIS_ARGUMENT_ANGLE = 345.99
PERIAPSIS_TIME = 2018-10-31T03:41:13.000Z
SPACECRAFT_ORIENTATION = (0.0,1.0,0.0)
^MEX_ORIENTATION_DESC = "MEX_ORIENTATION_DESC.TXT"
SPACECRAFT_POINTING_MODE = INERT
^MEX_POINTING_DESC = "MEX_POINTING_DESC.TXT"
RIGHT_ASCENSION = 74.389
DECLINATION = 35.429
OFFSET_ANGLE = -1e+32
SPACECRAFT_SOLAR_DISTANCE = 2.08765e+08
TARGET_NAME = MARS
/* CAMERA DATA ELEMENTS */
DETECTOR_TEMPERATURE = 19.1861
FOCAL_PLANE_TEMPERATURE = 10.4184
INST_CMPRS_NAME = "DISCRETE COSINE TRANSFORMATION (DCT)"
INST_CMPRS_RATIO = 9.926
INST_CMPRS_QUALITY = 0
INST_CMPRS_QUANTZ_TBL_ID = 0
INSTRUMENT_TEMPERATURE = 12.0496
LENS_TEMPERATURE = 11.234
MACROPIXEL_SIZE = 2
MISSING_FRAMES = 0
PIXEL_SUBSAMPLING_FLAG = N
SIGNAL_CHAIN_ID = 1
/* RADIOMETRIC DATA ELEMENTS */
BANDWIDTH = 178.0
CENTER_FILTER_WAVELENGTH = 679.0
RADIANCE_OFFSET = 3.62079
RADIANCE_SCALING_FACTOR = 0.0108503
REFLECTANCE_SCALING_FACTOR = 0.00025043
MEX:REFLECTANCE_OFFSET = 0.0835694
/* IMAGE OBJECT DEFINITIONS */
OBJECT = IMAGE
  INTERCHANGE_FORMAT = BINARY
  LINES = 22418
  LINE_SAMPLES = 3051
  SAMPLE_TYPE = UNSIGNED_INTEGER
  SAMPLE_BITS = 8
  BANDS = 1
  BAND_STORAGE_TYPE = BAND_SEQUENTIAL
  MAXIMUM = 255
  MEAN = 104.395
  MINIMUM = 1
  STANDARD_DEVIATION = 25.3508
END_OBJECT = IMAGE
/* MAP OBJECT DEFINITIONS */
OBJECT = IMAGE_MAP_PROJECTION
  ^DATA_SET_MAP_PROJECTION_CATALOG= "DSMAP.CAT"
  A_AXIS_RADIUS = 3396.0
  B_AXIS_RADIUS = 3396.0
  C_AXIS_RADIUS = 3396.0
  CENTER_LATITUDE = 0.0
  CENTER_LONGITUDE = 171.0
  COORDINATE_SYSTEM_NAME = PLANETOGRAPHIC
  COORDINATE_SYSTEM_TYPE = "BODY-FIXED ROTATING"
  EASTERNMOST_LONGITUDE = 171.618
  FIRST_STANDARD_PARALLEL = "N/A"
  LINE_FIRST_PIXEL = 1
  LINE_LAST_PIXEL = 22418
  LINE_PROJECTION_OFFSET = -24186.75
  MAP_PROJECTION_ROTATION = 0.0
  MAP_PROJECTION_TYPE = SINUSOIDAL
  MAP_RESOLUTION = 2370.85521546667
  MAP_SCALE = 0.025
  MAXIMUM_LATITUDE = -10.1755
  MINIMUM_LATITUDE = -19.6773
  POSITIVE_LONGITUDE_DIRECTION = EAST
  REFERENCE_LATITUDE = "N/A"
  REFERENCE_LONGITUDE = "N/A"
  SAMPLE_FIRST_PIXEL = 1
  SAMPLE_LAST_PIXEL = 3051
  SAMPLE_PROJECTION_OFFSET = 1555.75
  SECOND_STANDARD_PARALLEL = "N/A"
  WESTERNMOST_LONGITUDE = 170.325
END_OBJECT = IMAGE_MAP_PROJECTION
/* The JPEG2000 image data file associated with this label. */
OBJECT = COMPRESSED_FILE
  FILE_NAME = "HI763_0000_S23.JP2"
  RECORD_TYPE = UNDEFINED
  FILE_RECORDS = UNK
  ENCODING_TYPE = "JP2"
  INTERCHANGE_FORMAT = BINARY
  UNCOMPRESSED_FILE_NAME = "HI763_0000_S23.IMG"
  REQUIRED_STORAGE_BYTES = "68421726"
  ^DESCRIPTION = "JP2INFO.TXT"
END_OBJECT = COMPRESSED_FILE
END
