PDS_VERSION_ID = PDS3
/* FILE DATA ELEMENTS */
RECORD_TYPE = STREAM
/* POINTERS TO DATA OBJECTS */
^COMPRESSED_FILE = "HI778_0000_GR3.JP2"
/* IDENTIFICATION DATA ELEMENTS */
DATA_SET_ID = "MEX-M-HRSC-5-REFDR-MAPPROJECTED-V3.0"
DATA_SET_NAME = "MARS EXPRESS HRSC MAP PROJECTED REFDR V3.0"
DETECTOR_ID = MEX_HRSC_GREEN
EVENT_TYPE = "MARS-REGIONAL-MAPPING-Im-Fl-La"
INSTRUMENT_HOST_ID = MEX
INSTRUMENT_HOST_NAME = "MARS EXPRESS"
INSTRUMENT_ID = HRSC
INSTRUMENT_NAME = "HIGH RESOLUTION STEREO CAMERA"
MISSION_NAME = "MARS EXPRESS"
MISSION_PHASE_NAME = ME_Phase_39
PROCESSING_LEVEL_ID = 3
PRODUCT_CREATION_TIME = 2019-02-21T11:58:24.000Z
PRODUCT_ID = "HI778_0000_GR3.JP2"
RELEASE_ID = 0142
REVISION_ID = 0000
/* QUALITY DATA ELEMENTS */
DATA_QUALITY_ID = 1
DATA_QUALITY_DESC = "Data calculated based on original SPICE kernels"
/* TIME DATA ELEMENTS */
SPACECRAFT_CLOCK_START_COUNT = "1/0489414155.25682"
SPACECRAFT_CLOCK_STOP_COUNT = "1/0489414377.15277"
START_TIME = 2018-11-04T12:23:41.031Z
STOP_TIME = 2018-11-04T12:26:24.932Z
/* ORBITAL DATA ELEMENTS */
ASCENDING_NODE_LONGITUDE = 221.88
MAXIMUM_RESOLUTION = 53.8
FOOTPRINT_POINT_LATITUDE = (-25.0658,-25.0656,-25.0652,-25.0644, -25.0655,-24.832,-24.5986,-24.365, -24.0154,-23.7821,-23.549,-23.3159, -23.0829,-22.8498,-22.5003,-22.2673, -21.9177,-21.6847,-21.4518,-21.2188, -20.9858,-20.7529,-20.4033,-20.054, -19.6969,-19.3475,-19.1144,-18.765, -18.5319,-18.2987,-18.0657,-17.8326, -17.5995,-17.3663,-17.0166,-16.7834, -16.4335,-16.2001,-15.9669,-15.617, -15.2668,-15.0333,-14.6841,-14.4494, -14.2161,-13.9815,-13.6315,-13.3975, -13.3197,-13.3198,-13.3195,-13.3198, -13.3194,-13.3187,-13.5526,-13.7867, -14.0205,-14.2545,-14.6036,-14.8383, -15.0719,-15.3055,-15.5389,-15.889, -16.1225,-16.3563,-16.7059,-16.9393, -17.2889,-17.5221,-17.7554,-17.9886, -18.221,-18.5712,-18.8046,-19.0376, -19.2706,-19.5038,-19.7369,-19.9775, -20.3271,-20.5601,-20.7932,-21.1428, -21.3758,-21.6089,-21.842,-22.0751, -22.3082,-22.5414,-22.8911,-23.1243, -23.4739,-23.7075,-23.9408,-24.2908, -24.5236,-24.757,-24.9905,-25.0658)
FOOTPRINT_POINT_LONGITUDE = (79.521,79.2709,79.0836,78.8462,78.5102 ,78.5151,78.5202,78.5256,78.5317, 78.5362,78.5401,78.544,78.5475,78.5513, 78.5564,78.5599,78.5647,78.5681,78.5715 ,78.5743,78.5774,78.5804,78.5834, 78.5877,78.5912,78.5944,78.5964,78.5993 ,78.601,78.6025,78.6042,78.6057,78.6072 ,78.6084,78.6103,78.6115,78.613,78.6138 ,78.6147,78.616,78.6168,78.6173,78.6189 ,78.6182,78.6187,78.6181,78.6187, 78.6185,78.798,79.0797,79.2938,79.4741, 79.643,79.8278,79.8279,79.8278,79.828, 79.828,79.8298,79.829,79.8293,79.8295, 79.83,79.8307,79.8311,79.8309,79.8322, 79.8325,79.8338,79.8344,79.8349,79.8355 ,79.8377,79.8377,79.8378,79.8386, 79.8398,79.8402,79.8409,79.8417,79.8431 ,79.8442,79.845,79.8463,79.8478,79.8489 ,79.8499,79.8505,79.8518,79.8529, 79.8545,79.8555,79.8562,79.8587,79.8601 ,79.8617,79.8615,79.8629,79.8642, 79.521)
ORBIT_NUMBER = 18778
ORBITAL_ECCENTRICITY = 0.578
ORBITAL_INCLINATION = 86.96
ORBITAL_SEMIMAJOR_AXIS = 8845.39
PERIAPSIS_ALTITUDE = 337.03
PERIAPSIS_ARGUMENT_ANGLE = 343.37
PERIAPSIS_TIME = 2018-11-04T12:25:46.000Z
SPACECRAFT_ORIENTATION = (0.0,1.0,0.0)
^MEX_ORIENTATION_DESC = "MEX_ORIENTATION_DESC.TXT"
SPACECRAFT_POINTING_MODE = INERT
^MEX_POINTING_DESC = "MEX_POINTING_DESC.TXT"
RIGHT_ASCENSION = 72.129
DECLINATION = 37.37
OFFSET_ANGLE = -1e+32
SPACECRAFT_SOLAR_DISTANCE = 2.09185e+08
TARGET_NAME = MARS
/* CAMERA DATA ELEMENTS */
DETECTOR_TEMPERATURE = 18.9822
FOCAL_PLANE_TEMPERATURE = 10.8262
INST_CMPRS_NAME = "DISCRETE COSINE TRANSFORMATION (DCT)"
INST_CMPRS_RATIO = 8.42397
INST_CMPRS_QUALITY = 0
INST_CMPRS_QUANTZ_TBL_ID = 0
INSTRUMENT_TEMPERATURE = 12.6613
LENS_TEMPERATURE = 10.8262
MACROPIXEL_SIZE = 4
MISSING_FRAMES = 1
PIXEL_SUBSAMPLING_FLAG = N
SIGNAL_CHAIN_ID = 2
/* RADIOMETRIC DATA ELEMENTS */
BANDWIDTH = 88.0
CENTER_FILTER_WAVELENGTH = 538.0
RADIANCE_OFFSET = 1.13774
RADIANCE_SCALING_FACTOR = 0.00353722
REFLECTANCE_SCALING_FACTOR = 0.000133263
MEX:REFLECTANCE_OFFSET = 0.0428636
/* IMAGE OBJECT DEFINITIONS */
OBJECT = IMAGE
  INTERCHANGE_FORMAT = BINARY
  LINES = 13934
  LINE_SAMPLES = 1586
  SAMPLE_TYPE = UNSIGNED_INTEGER
  SAMPLE_BITS = 8
  BANDS = 1
  BAND_STORAGE_TYPE = BAND_SEQUENTIAL
  MAXIMUM = 255
  MEAN = 123.744
  MINIMUM = 1
  STANDARD_DEVIATION = 34.85
END_OBJECT = IMAGE
/* MAP OBJECT DEFINITIONS */
OBJECT = IMAGE_MAP_PROJECTION
  ^DATA_SET_MAP_PROJECTION_CATALOG= "DSMAP.CAT"
  A_AXIS_RADIUS = 3396.0
  B_AXIS_RADIUS = 3396.0
  C_AXIS_RADIUS = 3396.0
  CENTER_LATITUDE = 0.0
  CENTER_LONGITUDE = 79.0
  COORDINATE_SYSTEM_NAME = PLANETOGRAPHIC
  COORDINATE_SYSTEM_TYPE = "BODY-FIXED ROTATING"
  EASTERNMOST_LONGITUDE = 79.8642
  FIRST_STANDARD_PARALLEL = "N/A"
  LINE_FIRST_PIXEL = 1
  LINE_LAST_PIXEL = 13934
  LINE_PROJECTION_OFFSET = -15793.125
  MAP_PROJECTION_ROTATION = 0.0
  MAP_PROJECTION_TYPE = SINUSOIDAL
  MAP_RESOLUTION = 1185.42760773333
  MAP_SCALE = 0.05
  MAXIMUM_LATITUDE = -13.3187
  MINIMUM_LATITUDE = -25.0658
  POSITIVE_LONGITUDE_DIRECTION = EAST
  REFERENCE_LATITUDE = "N/A"
  REFERENCE_LONGITUDE = "N/A"
  SAMPLE_FIRST_PIXEL = 1
  SAMPLE_LAST_PIXEL = 1586
  SAMPLE_PROJECTION_OFFSET = 574.125
  SECOND_STANDARD_PARALLEL = "N/A"
  WESTERNMOST_LONGITUDE = 78.5102
END_OBJECT = IMAGE_MAP_PROJECTION
/* The JPEG2000 image data file associated with this label. */
OBJECT = COMPRESSED_FILE
  FILE_NAME = "HI778_0000_GR3.JP2"
  RECORD_TYPE = UNDEFINED
  FILE_RECORDS = UNK
  ENCODING_TYPE = "JP2"
  INTERCHANGE_FORMAT = BINARY
  UNCOMPRESSED_FILE_NAME = "HI778_0000_GR3.IMG"
  REQUIRED_STORAGE_BYTES = "22118356"
  ^DESCRIPTION = "JP2INFO.TXT"
END_OBJECT = COMPRESSED_FILE
END
