PDS_VERSION_ID = PDS3
/* FILE DATA ELEMENTS */
RECORD_TYPE = STREAM
/* POINTERS TO DATA OBJECTS */
^COMPRESSED_FILE = "HI785_0000_GR3.JP2"
/* IDENTIFICATION DATA ELEMENTS */
DATA_SET_ID = "MEX-M-HRSC-5-REFDR-MAPPROJECTED-V3.0"
DATA_SET_NAME = "MARS EXPRESS HRSC MAP PROJECTED REFDR V3.0"
DETECTOR_ID = MEX_HRSC_GREEN
EVENT_TYPE = "MARS-REGIONAL-MAPPING-Vo-Im-Fl"
INSTRUMENT_HOST_ID = MEX
INSTRUMENT_HOST_NAME = "MARS EXPRESS"
INSTRUMENT_ID = HRSC
INSTRUMENT_NAME = "HIGH RESOLUTION STEREO CAMERA"
MISSION_NAME = "MARS EXPRESS"
MISSION_PHASE_NAME = ME_Phase_39
PROCESSING_LEVEL_ID = 3
PRODUCT_CREATION_TIME = 2019-02-21T11:58:24.000Z
PRODUCT_ID = "HI785_0000_GR3.JP2"
RELEASE_ID = 0142
REVISION_ID = 0000
/* QUALITY DATA ELEMENTS */
DATA_QUALITY_ID = 1
DATA_QUALITY_DESC = "Data calculated based on original SPICE kernels"
/* TIME DATA ELEMENTS */
SPACECRAFT_CLOCK_START_COUNT = "1/0489590105.24886"
SPACECRAFT_CLOCK_STOP_COUNT = "1/0489590354.49884"
START_TIME = 2018-11-06T13:16:11.535Z
STOP_TIME = 2018-11-06T13:19:22.209Z
/* ORBITAL DATA ELEMENTS */
ASCENDING_NODE_LONGITUDE = 221.75
MAXIMUM_RESOLUTION = 53.4
FOOTPRINT_POINT_LATITUDE = (-28.2205,-28.2132,-28.2032,-28.1931, -28.1827,-28.1723,-28.1616,-28.1599, -28.015,-27.7406,-27.459,-27.048, -26.7738,-26.4994,-26.2255,-25.8139, -25.4033,-25.1297,-24.8561,-24.4458, -24.0356,-23.7623,-23.4889,-23.2154, -22.9422,-22.5324,-22.2592,-21.9861, -21.5767,-21.3036,-21.0305,-20.7574, -20.4845,-20.0749,-19.8015,-19.5284, -19.2556,-18.8465,-18.4372,-18.1641, -17.7545,-17.4815,-17.2084,-16.9357, -16.6625,-16.3902,-16.1157,-15.7045, -15.2967,-15.023,-14.7495,-14.4773, -14.4905,-14.5074,-14.5217,-14.5303, -14.5385,-14.8119,-15.0854,-15.359, -15.6326,-15.906,-16.1774,-16.4517, -16.8622,-17.1353,-17.4083,-17.8179, -18.2276,-18.6373,-19.1835,-19.5932, -19.8663,-20.1394,-20.5492,-20.8225, -21.2324,-21.5057,-21.779,-22.0519, -22.3253,-22.5987,-22.8723,-23.1459, -23.4192,-23.6933,-24.1036,-24.3773, -24.7881,-25.0625,-25.4734,-25.7475, -26.0209,-26.2959,-26.7077,-26.9828, -27.2574,-27.6699,-27.9524,-28.2205)
FOOTPRINT_POINT_LONGITUDE = (85.8086,85.6445,85.4278,85.2128, 84.9999,84.7889,84.5796,84.3828,84.3841 ,84.3865,84.3889,84.3923,84.3944, 84.3964,84.3984,84.4011,84.4038,84.4055 ,84.4071,84.4094,84.4116,84.413,84.4143 ,84.4154,84.4166,84.4184,84.4194, 84.4203,84.4222,84.4235,84.4239,84.4247 ,84.4249,84.4263,84.4274,84.4279, 84.4283,84.4287,84.4293,84.4298,84.4303 ,84.4306,84.4309,84.431,84.4313,84.4312 ,84.4318,84.4324,84.4319,84.4321, 84.4321,84.4323,84.7,85.0157,85.3143, 85.5,85.656,85.6565,85.6569,85.6567, 85.6568,85.6572,85.6649,85.6623,85.6615 ,85.6634,85.6655,85.6688,85.6717, 85.6743,85.6797,85.6836,85.6864,85.6889 ,85.6916,85.7007,85.7061,85.7092, 85.7122,85.711,85.7152,85.7197,85.7249, 85.7293,85.7325,85.7398,85.7454,85.7502 ,85.7575,85.7644,85.7719,85.7772, 85.7804,85.7883,85.7976,85.805,85.811, 85.8213,85.8279,85.8086)
ORBIT_NUMBER = 18785
ORBITAL_ECCENTRICITY = 0.578
ORBITAL_INCLINATION = 86.96
ORBITAL_SEMIMAJOR_AXIS = 8844.55
PERIAPSIS_ALTITUDE = 336.44
PERIAPSIS_ARGUMENT_ANGLE = 342.15
PERIAPSIS_TIME = 2018-11-06T13:18:40.000Z
SPACECRAFT_ORIENTATION = (0.0,1.0,0.0)
^MEX_ORIENTATION_DESC = "MEX_ORIENTATION_DESC.TXT"
SPACECRAFT_POINTING_MODE = INERT
^MEX_POINTING_DESC = "MEX_POINTING_DESC.TXT"
RIGHT_ASCENSION = 71.068
DECLINATION = 38.226
OFFSET_ANGLE = -1e+32
SPACECRAFT_SOLAR_DISTANCE = 2.09392e+08
TARGET_NAME = MARS
/* CAMERA DATA ELEMENTS */
DETECTOR_TEMPERATURE = 19.39
FOCAL_PLANE_TEMPERATURE = 11.8457
INST_CMPRS_NAME = "DISCRETE COSINE TRANSFORMATION (DCT)"
INST_CMPRS_RATIO = 11.0927
INST_CMPRS_QUALITY = 0
INST_CMPRS_QUANTZ_TBL_ID = 0
INSTRUMENT_TEMPERATURE = 13.0691
LENS_TEMPERATURE = 12.0496
MACROPIXEL_SIZE = 4
MISSING_FRAMES = 2
PIXEL_SUBSAMPLING_FLAG = N
SIGNAL_CHAIN_ID = 2
/* RADIOMETRIC DATA ELEMENTS */
BANDWIDTH = 88.0
CENTER_FILTER_WAVELENGTH = 538.0
RADIANCE_OFFSET = 1.05101
RADIANCE_SCALING_FACTOR = 0.0040071
REFLECTANCE_SCALING_FACTOR = 0.000151265
MEX:REFLECTANCE_OFFSET = 0.0396747
/* IMAGE OBJECT DEFINITIONS */
OBJECT = IMAGE
  INTERCHANGE_FORMAT = BINARY
  LINES = 16312
  LINE_SAMPLES = 1596
  SAMPLE_TYPE = UNSIGNED_INTEGER
  SAMPLE_BITS = 8
  BANDS = 1
  BAND_STORAGE_TYPE = BAND_SEQUENTIAL
  MAXIMUM = 255
  MEAN = 141.167
  MINIMUM = 1
  STANDARD_DEVIATION = 33.8204
END_OBJECT = IMAGE
/* MAP OBJECT DEFINITIONS */
OBJECT = IMAGE_MAP_PROJECTION
  ^DATA_SET_MAP_PROJECTION_CATALOG= "DSMAP.CAT"
  A_AXIS_RADIUS = 3396.0
  B_AXIS_RADIUS = 3396.0
  C_AXIS_RADIUS = 3396.0
  CENTER_LATITUDE = 0.0
  CENTER_LONGITUDE = 85.0
  COORDINATE_SYSTEM_NAME = PLANETOGRAPHIC
  COORDINATE_SYSTEM_TYPE = "BODY-FIXED ROTATING"
  EASTERNMOST_LONGITUDE = 85.8279
  FIRST_STANDARD_PARALLEL = "N/A"
  LINE_FIRST_PIXEL = 1
  LINE_LAST_PIXEL = 16312
  LINE_PROJECTION_OFFSET = -17146.875
  MAP_PROJECTION_ROTATION = 0.0
  MAP_PROJECTION_TYPE = SINUSOIDAL
  MAP_RESOLUTION = 1185.42760773333
  MAP_SCALE = 0.05
  MAXIMUM_LATITUDE = -14.4773
  MINIMUM_LATITUDE = -28.2205
  POSITIVE_LONGITUDE_DIRECTION = EAST
  REFERENCE_LATITUDE = "N/A"
  REFERENCE_LONGITUDE = "N/A"
  SAMPLE_FIRST_PIXEL = 1
  SAMPLE_LAST_PIXEL = 1596
  SAMPLE_PROJECTION_OFFSET = 637.375
  SECOND_STANDARD_PARALLEL = "N/A"
  WESTERNMOST_LONGITUDE = 84.3828
END_OBJECT = IMAGE_MAP_PROJECTION
/* The JPEG2000 image data file associated with this label. */
OBJECT = COMPRESSED_FILE
  FILE_NAME = "HI785_0000_GR3.JP2"
  RECORD_TYPE = UNDEFINED
  FILE_RECORDS = UNK
  ENCODING_TYPE = "JP2"
  INTERCHANGE_FORMAT = BINARY
  UNCOMPRESSED_FILE_NAME = "HI785_0000_GR3.IMG"
  REQUIRED_STORAGE_BYTES = "26053104"
  ^DESCRIPTION = "JP2INFO.TXT"
END_OBJECT = COMPRESSED_FILE
END
