PDS_VERSION_ID = PDS3
/* FILE DATA ELEMENTS */
RECORD_TYPE = STREAM
/* POINTERS TO DATA OBJECTS */
^COMPRESSED_FILE = "HI788_0000_P13.JP2"
/* IDENTIFICATION DATA ELEMENTS */
DATA_SET_ID = "MEX-M-HRSC-5-REFDR-MAPPROJECTED-V3.0"
DATA_SET_NAME = "MARS EXPRESS HRSC MAP PROJECTED REFDR V3.0"
DETECTOR_ID = MEX_HRSC_P1
EVENT_TYPE = "MARS-LOCAL-MAPPING-Im-Lc-La"
INSTRUMENT_HOST_ID = MEX
INSTRUMENT_HOST_NAME = "MARS EXPRESS"
INSTRUMENT_ID = HRSC
INSTRUMENT_NAME = "HIGH RESOLUTION STEREO CAMERA"
MISSION_NAME = "MARS EXPRESS"
MISSION_PHASE_NAME = ME_Phase_39
PROCESSING_LEVEL_ID = 3
PRODUCT_CREATION_TIME = 2019-02-21T11:58:24.000Z
PRODUCT_ID = "HI788_0000_P13.JP2"
RELEASE_ID = 0142
REVISION_ID = 0000
/* QUALITY DATA ELEMENTS */
DATA_QUALITY_ID = 1
DATA_QUALITY_DESC = "Data calculated based on original SPICE kernels"
/* TIME DATA ELEMENTS */
SPACECRAFT_CLOCK_START_COUNT = "1/0489665771.25700"
SPACECRAFT_CLOCK_STOP_COUNT = "1/0489665956.25839"
START_TIME = 2018-11-07T10:17:29.484Z
STOP_TIME = 2018-11-07T10:19:35.709Z
/* ORBITAL DATA ELEMENTS */
ASCENDING_NODE_LONGITUDE = 221.69
MAXIMUM_RESOLUTION = 27.8
FOOTPRINT_POINT_LATITUDE = (-11.8269,-11.814,-11.7977,-11.7877, -11.7775,-11.6839,-11.5178,-11.3516, -11.1871,-11.0211,-10.8541,-10.6883, -10.5226,-10.357,-10.1912,-10.0255, -9.85992,-9.6944,-9.52872,-9.36306, -9.11457,-8.86633,-8.70078,-8.53154, -8.366,-8.20052,-7.95226,-7.78678, -7.62164,-7.45559,-7.29011,-7.12456, -6.93634,-6.7387,-6.44225,-6.24461, -5.94791,-5.65117,-5.45336,-5.15642, -4.95837,-4.76046,-4.56269,-4.36534, -4.06891,-3.87112,-3.57466,-3.27819, -3.0799,-2.88282,-2.79984,-2.81229, -2.82406,-2.83563,-2.85512,-3.15242, -3.3495,-3.64585,-3.84339,-4.13996, -4.33789,-4.53501,-4.73254,-4.93024, -5.12809,-5.32581,-5.62225,-5.8199, -6.01747,-6.21508,-6.41246,-6.60955, -6.80723,-7.00476,-7.19264,-7.35807, -7.52345,-7.77155,-7.93689,-8.10228, -8.2676,-8.43273,-8.59886,-8.76873, -8.9344,-9.10002,-9.34845,-9.51409, -9.67977,-9.84528,-10.0933,-10.2574, -10.4229,-10.5888,-10.7545,-11.0031, -11.252,-11.418,-11.5839,-11.8269)
FOOTPRINT_POINT_LONGITUDE = (138.322,138.076,137.772,137.585, 137.398,137.232,137.232,137.232,137.229 ,137.229,137.23,137.23,137.229,137.228, 137.227,137.227,137.225,137.224,137.223 ,137.223,137.221,137.219,137.218, 137.217,137.215,137.214,137.211,137.21, 137.206,137.207,137.205,137.203,137.201 ,137.2,137.196,137.191,137.187,137.184, 137.182,137.178,137.174,137.172,137.171 ,137.17,137.168,137.166,137.163,137.16, 137.156,137.155,137.445,137.675,137.892 ,138.109,138.471,138.467,138.467, 138.466,138.466,138.464,138.461,138.463 ,138.464,138.463,138.46,138.458,138.458 ,138.457,138.455,138.454,138.452, 138.448,138.448,138.448,138.447,138.446 ,138.446,138.444,138.444,138.443, 138.442,138.441,138.442,138.443,138.443 ,138.442,138.442,138.442,138.441, 138.441,138.44,138.438,138.437,138.437, 138.437,138.437,138.437,138.437,138.437 ,138.322)
ORBIT_NUMBER = 18788
ORBITAL_ECCENTRICITY = 0.578
ORBITAL_INCLINATION = 86.94
ORBITAL_SEMIMAJOR_AXIS = 8840.75
PERIAPSIS_ALTITUDE = 337.25
PERIAPSIS_ARGUMENT_ANGLE = 341.68
PERIAPSIS_TIME = 2018-11-07T10:15:42.000Z
SPACECRAFT_ORIENTATION = (0.0,1.0,0.0)
^MEX_ORIENTATION_DESC = "MEX_ORIENTATION_DESC.TXT"
SPACECRAFT_POINTING_MODE = INERT
^MEX_POINTING_DESC = "MEX_POINTING_DESC.TXT"
RIGHT_ASCENSION = 70.608
DECLINATION = 38.574
OFFSET_ANGLE = -1e+32
SPACECRAFT_SOLAR_DISTANCE = 2.09484e+08
TARGET_NAME = MARS
/* CAMERA DATA ELEMENTS */
DETECTOR_TEMPERATURE = 18.3705
FOCAL_PLANE_TEMPERATURE = 11.4379
INST_CMPRS_NAME = "DISCRETE COSINE TRANSFORMATION (DCT)"
INST_CMPRS_RATIO = 8.21411
INST_CMPRS_QUALITY = 0
INST_CMPRS_QUANTZ_TBL_ID = 0
INSTRUMENT_TEMPERATURE = 12.2535
LENS_TEMPERATURE = 11.8457
MACROPIXEL_SIZE = 2
MISSING_FRAMES = 1
PIXEL_SUBSAMPLING_FLAG = N
SIGNAL_CHAIN_ID = 3
/* RADIOMETRIC DATA ELEMENTS */
BANDWIDTH = 174.0
CENTER_FILTER_WAVELENGTH = 675.0
RADIANCE_OFFSET = 2.69102
RADIANCE_SCALING_FACTOR = 0.0118722
REFLECTANCE_SCALING_FACTOR = 0.00028023
MEX:REFLECTANCE_OFFSET = 0.0635189
/* IMAGE OBJECT DEFINITIONS */
OBJECT = IMAGE
  INTERCHANGE_FORMAT = BINARY
  LINES = 21458
  LINE_SAMPLES = 3347
  SAMPLE_TYPE = UNSIGNED_INTEGER
  SAMPLE_BITS = 8
  BANDS = 1
  BAND_STORAGE_TYPE = BAND_SEQUENTIAL
  MAXIMUM = 255
  MEAN = 95.2155
  MINIMUM = 1
  STANDARD_DEVIATION = 41.7285
END_OBJECT = IMAGE
/* MAP OBJECT DEFINITIONS */
OBJECT = IMAGE_MAP_PROJECTION
  ^DATA_SET_MAP_PROJECTION_CATALOG= "DSMAP.CAT"
  A_AXIS_RADIUS = 3396.0
  B_AXIS_RADIUS = 3396.0
  C_AXIS_RADIUS = 3396.0
  CENTER_LATITUDE = 0.0
  CENTER_LONGITUDE = 138.0
  COORDINATE_SYSTEM_NAME = PLANETOGRAPHIC
  COORDINATE_SYSTEM_TYPE = "BODY-FIXED ROTATING"
  EASTERNMOST_LONGITUDE = 138.471
  FIRST_STANDARD_PARALLEL = "N/A"
  LINE_FIRST_PIXEL = 1
  LINE_LAST_PIXEL = 21458
  LINE_PROJECTION_OFFSET = -6604.25
  MAP_PROJECTION_ROTATION = 0.0
  MAP_PROJECTION_TYPE = SINUSOIDAL
  MAP_RESOLUTION = 2370.85521546667
  MAP_SCALE = 0.025
  MAXIMUM_LATITUDE = -2.79984
  MINIMUM_LATITUDE = -11.8269
  POSITIVE_LONGITUDE_DIRECTION = EAST
  REFERENCE_LATITUDE = "N/A"
  REFERENCE_LONGITUDE = "N/A"
  SAMPLE_FIRST_PIXEL = 1
  SAMPLE_LAST_PIXEL = 3347
  SAMPLE_PROJECTION_OFFSET = 1914.75
  SECOND_STANDARD_PARALLEL = "N/A"
  WESTERNMOST_LONGITUDE = 137.155
END_OBJECT = IMAGE_MAP_PROJECTION
/* The JPEG2000 image data file associated with this label. */
OBJECT = COMPRESSED_FILE
  FILE_NAME = "HI788_0000_P13.JP2"
  RECORD_TYPE = UNDEFINED
  FILE_RECORDS = UNK
  ENCODING_TYPE = "JP2"
  INTERCHANGE_FORMAT = BINARY
  UNCOMPRESSED_FILE_NAME = "HI788_0000_P13.IMG"
  REQUIRED_STORAGE_BYTES = "71843355"
  ^DESCRIPTION = "JP2INFO.TXT"
END_OBJECT = COMPRESSED_FILE
END
