PDS_VERSION_ID = PDS3
/* FILE DATA ELEMENTS */
RECORD_TYPE = STREAM
/* POINTERS TO DATA OBJECTS */
^COMPRESSED_FILE = "HI788_0000_P23.JP2"
/* IDENTIFICATION DATA ELEMENTS */
DATA_SET_ID = "MEX-M-HRSC-5-REFDR-MAPPROJECTED-V3.0"
DATA_SET_NAME = "MARS EXPRESS HRSC MAP PROJECTED REFDR V3.0"
DETECTOR_ID = MEX_HRSC_P2
EVENT_TYPE = "MARS-LOCAL-MAPPING-Im-Lc-La"
INSTRUMENT_HOST_ID = MEX
INSTRUMENT_HOST_NAME = "MARS EXPRESS"
INSTRUMENT_ID = HRSC
INSTRUMENT_NAME = "HIGH RESOLUTION STEREO CAMERA"
MISSION_NAME = "MARS EXPRESS"
MISSION_PHASE_NAME = ME_Phase_39
PROCESSING_LEVEL_ID = 3
PRODUCT_CREATION_TIME = 2019-02-21T11:58:24.000Z
PRODUCT_ID = "HI788_0000_P23.JP2"
RELEASE_ID = 0142
REVISION_ID = 0000
/* QUALITY DATA ELEMENTS */
DATA_QUALITY_ID = 1
DATA_QUALITY_DESC = "Data calculated based on original SPICE kernels"
/* TIME DATA ELEMENTS */
SPACECRAFT_CLOCK_START_COUNT = "1/0489665771.25700"
SPACECRAFT_CLOCK_STOP_COUNT = "1/0489665956.25839"
START_TIME = 2018-11-07T10:16:52.712Z
STOP_TIME = 2018-11-07T10:18:53.462Z
/* ORBITAL DATA ELEMENTS */
ASCENDING_NODE_LONGITUDE = 221.69
MAXIMUM_RESOLUTION = 28.7
FOOTPRINT_POINT_LATITUDE = (-11.8224,-11.8071,-11.7882,-11.7773, -11.6846,-11.5135,-11.3387,-11.161, -10.9891,-10.6534,-10.3941,-10.2211, -10.0487,-9.87579,-9.70266,-9.44318, -9.27057,-9.09472,-8.91994,-8.65796, -8.3957,-8.22091,-7.95596,-7.77785, -7.51594,-7.34106,-7.165,-6.98947, -6.81281,-6.54452,-6.35868,-6.17779, -6.0,-5.82308,-5.64686,-5.47695, -5.30031,-5.12132,-4.93586,-4.75389, -4.5777,-4.40482,-4.23522,-4.04739, -3.73059,-3.51901,-3.20094,-2.99121, -2.77354,-2.78852,-2.80102,-2.81545, -2.82457,-2.84533,-3.06145,-3.2753, -3.48713,-3.69543,-4.00855,-4.31035, -4.4892,-4.65766,-4.82751,-5.00234, -5.17911,-5.36043,-5.53979,-5.80709, -5.98597,-6.16461,-6.34714,-6.52963, -6.70354,-6.87854,-7.14009,-7.31507, -7.49078,-7.66801,-7.93305,-8.10893, -8.36961,-8.54602,-8.7128,-8.97211, -9.23224,-9.40554,-9.57919,-9.75336, -9.92856,-10.1057,-10.2828,-10.5415, -10.714,-10.8856,-11.0576,-11.2293, -11.401,-11.5725,-11.8299,-11.8224)
FOOTPRINT_POINT_LONGITUDE = (138.376,138.074,137.725,137.532, 137.359,137.359,137.358,137.355,137.355 ,137.355,137.354,137.353,137.352, 137.351,137.35,137.348,137.347,137.345, 137.344,137.342,137.339,137.338,137.335 ,137.332,137.33,137.328,137.327,137.325 ,137.323,137.319,137.315,137.312,137.31 ,137.308,137.306,137.306,137.304, 137.301,137.298,137.295,137.293,137.291 ,137.291,137.289,137.285,137.283, 137.279,137.276,137.437,137.698,137.903 ,138.192,138.384,138.689,138.686, 138.682,138.68,138.678,138.676,138.671, 138.668,138.669,138.669,138.668,138.666 ,138.662,138.659,138.656,138.653,138.65 ,138.646,138.643,138.641,138.64,138.638 ,138.636,138.634,138.632,138.629, 138.627,138.625,138.623,138.624,138.623 ,138.621,138.62,138.619,138.617,138.616 ,138.613,138.61,138.609,138.608,138.608 ,138.607,138.606,138.606,138.605, 138.604,138.376)
ORBIT_NUMBER = 18788
ORBITAL_ECCENTRICITY = 0.578
ORBITAL_INCLINATION = 86.94
ORBITAL_SEMIMAJOR_AXIS = 8840.75
PERIAPSIS_ALTITUDE = 337.25
PERIAPSIS_ARGUMENT_ANGLE = 341.68
PERIAPSIS_TIME = 2018-11-07T10:15:42.000Z
SPACECRAFT_ORIENTATION = (0.0,1.0,0.0)
^MEX_ORIENTATION_DESC = "MEX_ORIENTATION_DESC.TXT"
SPACECRAFT_POINTING_MODE = INERT
^MEX_POINTING_DESC = "MEX_POINTING_DESC.TXT"
RIGHT_ASCENSION = 70.608
DECLINATION = 38.574
OFFSET_ANGLE = -1e+32
SPACECRAFT_SOLAR_DISTANCE = 2.09484e+08
TARGET_NAME = MARS
/* CAMERA DATA ELEMENTS */
DETECTOR_TEMPERATURE = 19.7978
FOCAL_PLANE_TEMPERATURE = 11.4379
INST_CMPRS_NAME = "DISCRETE COSINE TRANSFORMATION (DCT)"
INST_CMPRS_RATIO = 6.27011
INST_CMPRS_QUALITY = 0
INST_CMPRS_QUANTZ_TBL_ID = 0
INSTRUMENT_TEMPERATURE = 12.2535
LENS_TEMPERATURE = 11.8457
MACROPIXEL_SIZE = 2
MISSING_FRAMES = 0
PIXEL_SUBSAMPLING_FLAG = N
SIGNAL_CHAIN_ID = 3
/* RADIOMETRIC DATA ELEMENTS */
BANDWIDTH = 177.0
CENTER_FILTER_WAVELENGTH = 676.5
RADIANCE_OFFSET = 2.78147
RADIANCE_SCALING_FACTOR = 0.0121094
REFLECTANCE_SCALING_FACTOR = 0.000281761
MEX:REFLECTANCE_OFFSET = 0.064719
/* IMAGE OBJECT DEFINITIONS */
OBJECT = IMAGE
  INTERCHANGE_FORMAT = BINARY
  LINES = 21458
  LINE_SAMPLES = 3347
  SAMPLE_TYPE = UNSIGNED_INTEGER
  SAMPLE_BITS = 8
  BANDS = 1
  BAND_STORAGE_TYPE = BAND_SEQUENTIAL
  MAXIMUM = 255
  MEAN = 98.8652
  MINIMUM = 1
  STANDARD_DEVIATION = 42.5996
END_OBJECT = IMAGE
/* MAP OBJECT DEFINITIONS */
OBJECT = IMAGE_MAP_PROJECTION
  ^DATA_SET_MAP_PROJECTION_CATALOG= "DSMAP.CAT"
  A_AXIS_RADIUS = 3396.0
  B_AXIS_RADIUS = 3396.0
  C_AXIS_RADIUS = 3396.0
  CENTER_LATITUDE = 0.0
  CENTER_LONGITUDE = 138.0
  COORDINATE_SYSTEM_NAME = PLANETOGRAPHIC
  COORDINATE_SYSTEM_TYPE = "BODY-FIXED ROTATING"
  EASTERNMOST_LONGITUDE = 138.689
  FIRST_STANDARD_PARALLEL = "N/A"
  LINE_FIRST_PIXEL = 1
  LINE_LAST_PIXEL = 21458
  LINE_PROJECTION_OFFSET = -6604.25
  MAP_PROJECTION_ROTATION = 0.0
  MAP_PROJECTION_TYPE = SINUSOIDAL
  MAP_RESOLUTION = 2370.85521546667
  MAP_SCALE = 0.025
  MAXIMUM_LATITUDE = -2.77354
  MINIMUM_LATITUDE = -11.8299
  POSITIVE_LONGITUDE_DIRECTION = EAST
  REFERENCE_LATITUDE = "N/A"
  REFERENCE_LONGITUDE = "N/A"
  SAMPLE_FIRST_PIXEL = 1
  SAMPLE_LAST_PIXEL = 3347
  SAMPLE_PROJECTION_OFFSET = 1914.75
  SECOND_STANDARD_PARALLEL = "N/A"
  WESTERNMOST_LONGITUDE = 137.276
END_OBJECT = IMAGE_MAP_PROJECTION
/* The JPEG2000 image data file associated with this label. */
OBJECT = COMPRESSED_FILE
  FILE_NAME = "HI788_0000_P23.JP2"
  RECORD_TYPE = UNDEFINED
  FILE_RECORDS = UNK
  ENCODING_TYPE = "JP2"
  INTERCHANGE_FORMAT = BINARY
  UNCOMPRESSED_FILE_NAME = "HI788_0000_P23.IMG"
  REQUIRED_STORAGE_BYTES = "71843355"
  ^DESCRIPTION = "JP2INFO.TXT"
END_OBJECT = COMPRESSED_FILE
END
