PDS_VERSION_ID = PDS3
/* FILE DATA ELEMENTS */
RECORD_TYPE = STREAM
/* POINTERS TO DATA OBJECTS */
^COMPRESSED_FILE = "HI792_0000_P23.JP2"
/* IDENTIFICATION DATA ELEMENTS */
DATA_SET_ID = "MEX-M-HRSC-5-REFDR-MAPPROJECTED-V3.0"
DATA_SET_NAME = "MARS EXPRESS HRSC MAP PROJECTED REFDR V3.0"
DETECTOR_ID = MEX_HRSC_P2
EVENT_TYPE = "MARS-REGIONAL-MAPPING-Vo-Im-Fl"
INSTRUMENT_HOST_ID = MEX
INSTRUMENT_HOST_NAME = "MARS EXPRESS"
INSTRUMENT_ID = HRSC
INSTRUMENT_NAME = "HIGH RESOLUTION STEREO CAMERA"
MISSION_NAME = "MARS EXPRESS"
MISSION_PHASE_NAME = ME_Phase_39
PROCESSING_LEVEL_ID = 3
PRODUCT_CREATION_TIME = 2019-02-21T11:58:24.000Z
PRODUCT_ID = "HI792_0000_P23.JP2"
RELEASE_ID = 0142
REVISION_ID = 0000
/* QUALITY DATA ELEMENTS */
DATA_QUALITY_ID = 1
DATA_QUALITY_DESC = "Data calculated based on original SPICE kernels"
/* TIME DATA ELEMENTS */
SPACECRAFT_CLOCK_START_COUNT = "1/0489766415.25703"
SPACECRAFT_CLOCK_STOP_COUNT = "1/0489766624.25083"
START_TIME = 2018-11-08T14:14:17.097Z
STOP_TIME = 2018-11-08T14:16:34.231Z
/* ORBITAL DATA ELEMENTS */
ASCENDING_NODE_LONGITUDE = 221.62
MAXIMUM_RESOLUTION = 29.8
FOOTPRINT_POINT_LATITUDE = (-6.91839,-6.90149,-6.88409,-6.86612, -6.84758,-6.82846,-6.8243,-6.6502, -6.38837,-6.21213,-5.95224,-5.68872, -5.51343,-5.33821,-5.16158,-4.89843, -4.70124,-4.4882,-4.17214,-3.96433, -3.75331,-3.43713,-3.22592,-3.01324, -2.80158,-2.58912,-2.271,-1.95306, -1.74155,-1.52875,-1.31652,-1.10532, -0.888731,-0.672748,-0.352398, -0.0341222,0.178707,0.397375,0.723934, 0.940496,1.1559,1.47117,1.81229,2.03729 ,2.24342,2.46889,2.71431,2.93981, 3.28726,3.51701,3.51464,3.50068,3.47162 ,3.45379,3.42437,3.41025,3.38776,3.1555 ,2.92281,2.68041,2.3533,2.02118,1.68318 ,1.45642,1.25,1.03738,0.823232,0.608324 ,0.39235,0.177601,-0.0400971,-0.254223, -0.471005,-0.683053,-0.896056,-1.10882, -1.4286,-1.64212,-1.8521,-2.16757, -2.48509,-2.8035,-3.01647,-3.22538, -3.53972,-3.75224,-4.07025,-4.27659, -4.48453,-4.69146,-4.99784,-5.26526, -5.44348,-5.70368,-5.87677,-6.12981, -6.30393,-6.47761,-6.65296,-6.91839)
FOOTPRINT_POINT_LONGITUDE = (89.0302,88.8317,88.631,88.4279,88.2225 ,88.0145,87.8121,87.8081,87.8015, 87.7958,87.7907,87.7829,87.7779,87.773, 87.7671,87.7596,87.7536,87.7451,87.7347 ,87.7297,87.7226,87.7122,87.7049, 87.6967,87.6892,87.6812,87.6695,87.6579 ,87.6505,87.6423,87.6344,87.6272, 87.6167,87.6066,87.5936,87.5818,87.5735 ,87.562,87.5455,87.5351,87.5255,87.5153 ,87.492,87.48,87.4783,87.466,87.4432, 87.4311,87.4111,87.3995,87.6127,87.7588 ,88.0328,88.2999,88.6281,88.7978, 89.0331,89.0355,89.0379,89.0413,89.044, 89.0471,89.0505,89.0532,89.0545,89.0563 ,89.0582,89.0602,89.0622,89.0642, 89.0663,89.0683,89.0704,89.0721,89.074, 89.0758,89.0785,89.0804,89.082,89.0844, 89.0869,89.0896,89.0914,89.0928,89.0951 ,89.0969,89.0995,89.1006,89.102,89.1032 ,89.1054,89.1077,89.1092,89.1107, 89.1116,89.1123,89.1133,89.1143,89.1154 ,89.0302)
ORBIT_NUMBER = 18792
ORBITAL_ECCENTRICITY = 0.578
ORBITAL_INCLINATION = 86.95
ORBITAL_SEMIMAJOR_AXIS = 8843.53
PERIAPSIS_ALTITUDE = 335.84
PERIAPSIS_ARGUMENT_ANGLE = 340.95
PERIAPSIS_TIME = 2018-11-08T14:11:40.000Z
SPACECRAFT_ORIENTATION = (0.0,1.0,0.0)
^MEX_ORIENTATION_DESC = "MEX_ORIENTATION_DESC.TXT"
SPACECRAFT_POINTING_MODE = INERT
^MEX_POINTING_DESC = "MEX_POINTING_DESC.TXT"
RIGHT_ASCENSION = 69.954
DECLINATION = 39.1
OFFSET_ANGLE = -1e+32
SPACECRAFT_SOLAR_DISTANCE = 2.09607e+08
TARGET_NAME = MARS
/* CAMERA DATA ELEMENTS */
DETECTOR_TEMPERATURE = 19.5939
FOCAL_PLANE_TEMPERATURE = 10.6223
INST_CMPRS_NAME = "DISCRETE COSINE TRANSFORMATION (DCT)"
INST_CMPRS_RATIO = 5.58241
INST_CMPRS_QUALITY = 0
INST_CMPRS_QUANTZ_TBL_ID = 0
INSTRUMENT_TEMPERATURE = 12.0496
LENS_TEMPERATURE = 11.234
MACROPIXEL_SIZE = 2
MISSING_FRAMES = 0
PIXEL_SUBSAMPLING_FLAG = N
SIGNAL_CHAIN_ID = 3
/* RADIOMETRIC DATA ELEMENTS */
BANDWIDTH = 177.0
CENTER_FILTER_WAVELENGTH = 676.5
RADIANCE_OFFSET = 2.7579
RADIANCE_SCALING_FACTOR = 0.0116472
REFLECTANCE_SCALING_FACTOR = 0.000271328
MEX:REFLECTANCE_OFFSET = 0.0642466
/* IMAGE OBJECT DEFINITIONS */
OBJECT = IMAGE
  INTERCHANGE_FORMAT = BINARY
  LINES = 24703
  LINE_SAMPLES = 4105
  SAMPLE_TYPE = UNSIGNED_INTEGER
  SAMPLE_BITS = 8
  BANDS = 1
  BAND_STORAGE_TYPE = BAND_SEQUENTIAL
  MAXIMUM = 255
  MEAN = 137.131
  MINIMUM = 1
  STANDARD_DEVIATION = 28.1317
END_OBJECT = IMAGE
/* MAP OBJECT DEFINITIONS */
OBJECT = IMAGE_MAP_PROJECTION
  ^DATA_SET_MAP_PROJECTION_CATALOG= "DSMAP.CAT"
  A_AXIS_RADIUS = 3396.0
  B_AXIS_RADIUS = 3396.0
  C_AXIS_RADIUS = 3396.0
  CENTER_LATITUDE = 0.0
  CENTER_LONGITUDE = 88.0
  COORDINATE_SYSTEM_NAME = PLANETOGRAPHIC
  COORDINATE_SYSTEM_TYPE = "BODY-FIXED ROTATING"
  EASTERNMOST_LONGITUDE = 89.11539999999999
  FIRST_STANDARD_PARALLEL = "N/A"
  LINE_FIRST_PIXEL = 1
  LINE_LAST_PIXEL = 24703
  LINE_PROJECTION_OFFSET = 8344.25
  MAP_PROJECTION_ROTATION = 0.0
  MAP_PROJECTION_TYPE = SINUSOIDAL
  MAP_RESOLUTION = 2370.85521546667
  MAP_SCALE = 0.025
  MAXIMUM_LATITUDE = 3.51701
  MINIMUM_LATITUDE = -6.91839
  POSITIVE_LONGITUDE_DIRECTION = EAST
  REFERENCE_LATITUDE = "N/A"
  REFERENCE_LONGITUDE = "N/A"
  SAMPLE_FIRST_PIXEL = 1
  SAMPLE_LAST_PIXEL = 4105
  SAMPLE_PROJECTION_OFFSET = 1632.75
  SECOND_STANDARD_PARALLEL = "N/A"
  WESTERNMOST_LONGITUDE = 87.3995
END_OBJECT = IMAGE_MAP_PROJECTION
/* The JPEG2000 image data file associated with this label. */
OBJECT = COMPRESSED_FILE
  FILE_NAME = "HI792_0000_P23.JP2"
  RECORD_TYPE = UNDEFINED
  FILE_RECORDS = UNK
  ENCODING_TYPE = "JP2"
  INTERCHANGE_FORMAT = BINARY
  UNCOMPRESSED_FILE_NAME = "HI792_0000_P23.IMG"
  REQUIRED_STORAGE_BYTES = "101430445"
  ^DESCRIPTION = "JP2INFO.TXT"
END_OBJECT = COMPRESSED_FILE
END
