PDS_VERSION_ID = PDS3
/* FILE DATA ELEMENTS */
RECORD_TYPE = STREAM
/* POINTERS TO DATA OBJECTS */
^COMPRESSED_FILE = "HI798_0000_BL3.JP2"
/* IDENTIFICATION DATA ELEMENTS */
DATA_SET_ID = "MEX-M-HRSC-5-REFDR-MAPPROJECTED-V3.0"
DATA_SET_NAME = "MARS EXPRESS HRSC MAP PROJECTED REFDR V3.0"
DETECTOR_ID = MEX_HRSC_BLUE
EVENT_TYPE = "MARS-REGIONAL-MAPPING-Te-Im"
INSTRUMENT_HOST_ID = MEX
INSTRUMENT_HOST_NAME = "MARS EXPRESS"
INSTRUMENT_ID = HRSC
INSTRUMENT_NAME = "HIGH RESOLUTION STEREO CAMERA"
MISSION_NAME = "MARS EXPRESS"
MISSION_PHASE_NAME = ME_Phase_39
PROCESSING_LEVEL_ID = 3
PRODUCT_CREATION_TIME = 2019-02-21T11:58:24.000Z
PRODUCT_ID = "HI798_0000_BL3.JP2"
RELEASE_ID = 0142
REVISION_ID = 0000
/* QUALITY DATA ELEMENTS */
DATA_QUALITY_ID = 1
DATA_QUALITY_DESC = "Data calculated based on original SPICE kernels"
/* TIME DATA ELEMENTS */
SPACECRAFT_CLOCK_START_COUNT = "1/0489916986.23950"
SPACECRAFT_CLOCK_STOP_COUNT = "1/0489917210.24075"
START_TIME = 2018-11-10T08:04:00.871Z
STOP_TIME = 2018-11-10T08:06:46.994Z
/* ORBITAL DATA ELEMENTS */
ASCENDING_NODE_LONGITUDE = 221.51
MAXIMUM_RESOLUTION = 53.8
FOOTPRINT_POINT_LATITUDE = (-27.3542,-27.3426,-27.3307,-27.3185, -27.3061,-27.2932,-27.1607,-26.9227, -26.6842,-26.4467,-26.211,-25.9737, -25.6167,-25.2601,-25.0223,-24.7846, -24.5469,-24.3093,-24.0712,-23.7149, -23.4776,-23.2401,-23.003,-22.7657, -22.5284,-22.1725,-21.8166,-21.5792, -21.2237,-20.9865,-20.7493,-20.512, -20.2749,-20.0377,-19.8005,-19.5634, -19.2077,-18.8519,-18.6147,-18.3776, -18.1405,-17.7849,-17.548,-17.3107, -17.0733,-16.7175,-16.4802,-16.2429, -16.0054,-15.6493,-15.4121,-15.3787, -15.3903,-15.4065,-15.4332,-15.6706, -15.9079,-16.145,-16.3822,-16.6194, -16.9752,-17.2125,-17.4497,-17.6868, -17.924,-18.2799,-18.5172,-18.7545, -18.9918,-19.2291,-19.5847,-19.822, -20.178,-20.4158,-20.771,-21.1267, -21.364,-21.7197,-21.9571,-22.1947, -22.5511,-22.7899,-23.0272,-23.2637, -23.5015,-23.7392,-24.0953,-24.3327, -24.5715,-24.8095,-25.0478,-25.286, -25.5242,-25.7624,-25.9997,-26.2348, -26.5936,-26.8324,-27.071,-27.3542)
FOOTPRINT_POINT_LONGITUDE = (196.254,196.053,195.85,195.645,195.438 ,195.229,194.973,194.982,194.992,195.0, 195.004,195.011,195.024,195.035,195.043 ,195.051,195.058,195.065,195.074, 195.084,195.089,195.096,195.1,195.106, 195.111,195.118,195.125,195.131,195.136 ,195.139,195.144,195.147,195.151, 195.154,195.158,195.161,195.163,195.164 ,195.169,195.172,195.175,195.18,195.184 ,195.184,195.183,195.185,195.185, 195.186,195.185,195.185,195.185,195.532 ,195.72,195.998,196.435,196.435,196.435 ,196.435,196.434,196.434,196.433, 196.433,196.432,196.431,196.431,196.429 ,196.429,196.428,196.427,196.426, 196.425,196.424,196.422,196.42,196.419, 196.417,196.416,196.413,196.412,196.41, 196.407,196.404,196.403,196.401,196.399 ,196.397,196.393,196.391,196.388, 196.385,196.383,196.38,196.377,196.374, 196.371,196.369,196.364,196.36,196.357, 196.254)
ORBIT_NUMBER = 18798
ORBITAL_ECCENTRICITY = 0.578
ORBITAL_INCLINATION = 86.96
ORBITAL_SEMIMAJOR_AXIS = 8834.29
PERIAPSIS_ALTITUDE = 336.18
PERIAPSIS_ARGUMENT_ANGLE = 339.95
PERIAPSIS_TIME = 2018-11-10T08:05:41.000Z
SPACECRAFT_ORIENTATION = (0.0,1.0,0.0)
^MEX_ORIENTATION_DESC = "MEX_ORIENTATION_DESC.TXT"
SPACECRAFT_POINTING_MODE = INERT
^MEX_POINTING_DESC = "MEX_POINTING_DESC.TXT"
RIGHT_ASCENSION = 69.023
DECLINATION = 39.803
OFFSET_ANGLE = -1e+32
SPACECRAFT_SOLAR_DISTANCE = 2.09798e+08
TARGET_NAME = MARS
/* CAMERA DATA ELEMENTS */
DETECTOR_TEMPERATURE = 18.7783
FOCAL_PLANE_TEMPERATURE = 11.234
INST_CMPRS_NAME = "DISCRETE COSINE TRANSFORMATION (DCT)"
INST_CMPRS_RATIO = 5.18447
INST_CMPRS_QUALITY = 0
INST_CMPRS_QUANTZ_TBL_ID = 0
INSTRUMENT_TEMPERATURE = 12.4574
LENS_TEMPERATURE = 12.0496
MACROPIXEL_SIZE = 4
MISSING_FRAMES = 0
PIXEL_SUBSAMPLING_FLAG = N
SIGNAL_CHAIN_ID = 2
/* RADIOMETRIC DATA ELEMENTS */
BANDWIDTH = 76.0
CENTER_FILTER_WAVELENGTH = 444.0
RADIANCE_OFFSET = 0.52427
RADIANCE_SCALING_FACTOR = 0.00171764
REFLECTANCE_SCALING_FACTOR = 7.76763e-05
MEX:REFLECTANCE_OFFSET = 0.0237089
/* IMAGE OBJECT DEFINITIONS */
OBJECT = IMAGE
  INTERCHANGE_FORMAT = BINARY
  LINES = 14219
  LINE_SAMPLES = 1703
  SAMPLE_TYPE = UNSIGNED_INTEGER
  SAMPLE_BITS = 8
  BANDS = 1
  BAND_STORAGE_TYPE = BAND_SEQUENTIAL
  MAXIMUM = 255
  MEAN = 137.395
  MINIMUM = 1
  STANDARD_DEVIATION = 24.5379
END_OBJECT = IMAGE
/* MAP OBJECT DEFINITIONS */
OBJECT = IMAGE_MAP_PROJECTION
  ^DATA_SET_MAP_PROJECTION_CATALOG= "DSMAP.CAT"
  A_AXIS_RADIUS = 3396.0
  B_AXIS_RADIUS = 3396.0
  C_AXIS_RADIUS = 3396.0
  CENTER_LATITUDE = 0.0
  CENTER_LONGITUDE = 196.0
  COORDINATE_SYSTEM_NAME = PLANETOGRAPHIC
  COORDINATE_SYSTEM_TYPE = "BODY-FIXED ROTATING"
  EASTERNMOST_LONGITUDE = 196.435
  FIRST_STANDARD_PARALLEL = "N/A"
  LINE_FIRST_PIXEL = 1
  LINE_LAST_PIXEL = 14219
  LINE_PROJECTION_OFFSET = -18211.125
  MAP_PROJECTION_ROTATION = 0.0
  MAP_PROJECTION_TYPE = SINUSOIDAL
  MAP_RESOLUTION = 1185.42760773333
  MAP_SCALE = 0.05
  MAXIMUM_LATITUDE = -15.3787
  MINIMUM_LATITUDE = -27.3542
  POSITIVE_LONGITUDE_DIRECTION = EAST
  REFERENCE_LATITUDE = "N/A"
  REFERENCE_LONGITUDE = "N/A"
  SAMPLE_FIRST_PIXEL = 1
  SAMPLE_LAST_PIXEL = 1703
  SAMPLE_PROJECTION_OFFSET = 1222.375
  SECOND_STANDARD_PARALLEL = "N/A"
  WESTERNMOST_LONGITUDE = 194.973
END_OBJECT = IMAGE_MAP_PROJECTION
/* The JPEG2000 image data file associated with this label. */
OBJECT = COMPRESSED_FILE
  FILE_NAME = "HI798_0000_BL3.JP2"
  RECORD_TYPE = UNDEFINED
  FILE_RECORDS = UNK
  ENCODING_TYPE = "JP2"
  INTERCHANGE_FORMAT = BINARY
  UNCOMPRESSED_FILE_NAME = "HI798_0000_BL3.IMG"
  REQUIRED_STORAGE_BYTES = "24235393"
  ^DESCRIPTION = "JP2INFO.TXT"
END_OBJECT = COMPRESSED_FILE
END
