PDS_VERSION_ID = PDS3
/* FILE DATA ELEMENTS */
RECORD_TYPE = STREAM
/* POINTERS TO DATA OBJECTS */
^COMPRESSED_FILE = "HI802_0000_BL3.JP2"
/* IDENTIFICATION DATA ELEMENTS */
DATA_SET_ID = "MEX-M-HRSC-5-REFDR-MAPPROJECTED-V3.0"
DATA_SET_NAME = "MARS EXPRESS HRSC MAP PROJECTED REFDR V3.0"
DETECTOR_ID = MEX_HRSC_BLUE
EVENT_TYPE = "MARS-REGIONAL-MAPPING-Vo-Im-Fl"
INSTRUMENT_HOST_ID = MEX
INSTRUMENT_HOST_NAME = "MARS EXPRESS"
INSTRUMENT_ID = HRSC
INSTRUMENT_NAME = "HIGH RESOLUTION STEREO CAMERA"
MISSION_NAME = "MARS EXPRESS"
MISSION_PHASE_NAME = ME_Phase_39
PROCESSING_LEVEL_ID = 3
PRODUCT_CREATION_TIME = 2019-02-22T11:38:04.000Z
PRODUCT_ID = "HI802_0000_BL3.JP2"
RELEASE_ID = 0143
REVISION_ID = 0000
/* QUALITY DATA ELEMENTS */
DATA_QUALITY_ID = 1
DATA_QUALITY_DESC = "Data calculated based on original SPICE kernels"
/* TIME DATA ELEMENTS */
SPACECRAFT_CLOCK_START_COUNT = "1/0490017637.24930"
SPACECRAFT_CLOCK_STOP_COUNT = "1/0490017845.23300"
START_TIME = 2018-11-11T12:01:31.243Z
STOP_TIME = 2018-11-11T12:04:02.043Z
/* ORBITAL DATA ELEMENTS */
ASCENDING_NODE_LONGITUDE = 221.43
MAXIMUM_RESOLUTION = 53.6
FOOTPRINT_POINT_LATITUDE = (-21.2724,-21.2619,-21.2463,-21.2345, -21.2153,-20.9931,-20.782,-20.5711, -20.3603,-20.1488,-19.8324,-19.6208, -19.4096,-19.1983,-18.9871,-18.7756, -18.5637,-18.3523,-18.1416,-17.9316, -17.7201,-17.5073,-17.1883,-16.9769, -16.767,-16.5551,-16.3391,-16.0107, -15.7916,-15.5723,-15.3524,-15.1336, -14.9146,-14.586,-14.3667,-14.0379, -13.709,-13.4896,-13.1599,-12.8296, -12.499,-12.1678,-11.9471,-11.7264, -11.5054,-11.1738,-10.9518,-10.6185, -10.3966,-10.3421,-10.3562,-10.3766, -10.386,-10.3955,-10.5125,-10.7343, -11.0663,-11.2871,-11.5079,-11.7267, -11.9486,-12.2809,-12.5022,-12.7228, -12.9428,-13.1626,-13.3825,-13.6024, -13.822,-14.0413,-14.2604,-14.5889, -14.9172,-15.1361,-15.3557,-15.6848, -15.9045,-16.1243,-16.3436,-16.5588, -16.8761,-17.0879,-17.2996,-17.5112, -17.723,-18.0416,-18.2539,-18.4649, -18.6763,-18.8874,-19.0986,-19.3102, -19.6273,-19.839,-20.0496,-20.2605, -20.5772,-20.894,-21.1051,-21.2724)
FOOTPRINT_POINT_LONGITUDE = (148.73,148.522,148.22,148.001,147.653, 147.489,147.491,147.493,147.495,147.496 ,147.499,147.499,147.501,147.502, 147.503,147.504,147.505,147.506,147.507 ,147.51,147.511,147.51,147.51,147.51, 147.512,147.513,147.513,147.513,147.513 ,147.513,147.512,147.513,147.513, 147.513,147.512,147.512,147.511,147.511 ,147.51,147.509,147.507,147.505,147.504 ,147.503,147.501,147.499,147.497, 147.494,147.493,147.657,147.905,148.284 ,148.461,148.651,148.76,148.759,148.757 ,148.755,148.754,148.754,148.752,148.75 ,148.748,148.747,148.746,148.745, 148.744,148.743,148.743,148.742,148.742 ,148.741,148.741,148.74,148.74,148.738, 148.737,148.736,148.735,148.738,148.737 ,148.737,148.737,148.736,148.736, 148.734,148.733,148.733,148.733,148.733 ,148.733,148.733,148.732,148.731, 148.732,148.733,148.733,148.733,148.733 ,148.73)
ORBIT_NUMBER = 18802
ORBITAL_ECCENTRICITY = 0.578
ORBITAL_INCLINATION = 86.94
ORBITAL_SEMIMAJOR_AXIS = 8836.48
PERIAPSIS_ALTITUDE = 336.29
PERIAPSIS_ARGUMENT_ANGLE = 339.28
PERIAPSIS_TIME = 2018-11-11T12:01:44.000Z
SPACECRAFT_ORIENTATION = (0.0,1.0,0.0)
^MEX_ORIENTATION_DESC = "MEX_ORIENTATION_DESC.TXT"
SPACECRAFT_POINTING_MODE = INERT
^MEX_POINTING_DESC = "MEX_POINTING_DESC.TXT"
RIGHT_ASCENSION = 68.403
DECLINATION = 40.244
OFFSET_ANGLE = -1e+32
SPACECRAFT_SOLAR_DISTANCE = 2.09928e+08
TARGET_NAME = MARS
/* CAMERA DATA ELEMENTS */
DETECTOR_TEMPERATURE = 18.5744
FOCAL_PLANE_TEMPERATURE = 10.2145
INST_CMPRS_NAME = "DISCRETE COSINE TRANSFORMATION (DCT)"
INST_CMPRS_RATIO = 5.1734
INST_CMPRS_QUALITY = 0
INST_CMPRS_QUANTZ_TBL_ID = 0
INSTRUMENT_TEMPERATURE = 11.8457
LENS_TEMPERATURE = 10.4184
MACROPIXEL_SIZE = 4
MISSING_FRAMES = 0
PIXEL_SUBSAMPLING_FLAG = N
SIGNAL_CHAIN_ID = 2
/* RADIOMETRIC DATA ELEMENTS */
BANDWIDTH = 76.0
CENTER_FILTER_WAVELENGTH = 444.0
RADIANCE_OFFSET = 0.431361
RADIANCE_SCALING_FACTOR = 0.00174366
REFLECTANCE_SCALING_FACTOR = 7.8951e-05
MEX:REFLECTANCE_OFFSET = 0.0195315
/* IMAGE OBJECT DEFINITIONS */
OBJECT = IMAGE
  INTERCHANGE_FORMAT = BINARY
  LINES = 12949
  LINE_SAMPLES = 1568
  SAMPLE_TYPE = UNSIGNED_INTEGER
  SAMPLE_BITS = 8
  BANDS = 1
  BAND_STORAGE_TYPE = BAND_SEQUENTIAL
  MAXIMUM = 255
  MEAN = 138.258
  MINIMUM = 1
  STANDARD_DEVIATION = 21.2264
END_OBJECT = IMAGE
/* MAP OBJECT DEFINITIONS */
OBJECT = IMAGE_MAP_PROJECTION
  ^DATA_SET_MAP_PROJECTION_CATALOG= "DSMAP.CAT"
  A_AXIS_RADIUS = 3396.0
  B_AXIS_RADIUS = 3396.0
  C_AXIS_RADIUS = 3396.0
  CENTER_LATITUDE = 0.0
  CENTER_LONGITUDE = 148.0
  COORDINATE_SYSTEM_NAME = PLANETOGRAPHIC
  COORDINATE_SYSTEM_TYPE = "BODY-FIXED ROTATING"
  EASTERNMOST_LONGITUDE = 148.76
  FIRST_STANDARD_PARALLEL = "N/A"
  LINE_FIRST_PIXEL = 1
  LINE_LAST_PIXEL = 12949
  LINE_PROJECTION_OFFSET = -12266.375
  MAP_PROJECTION_ROTATION = 0.0
  MAP_PROJECTION_TYPE = SINUSOIDAL
  MAP_RESOLUTION = 1185.42760773333
  MAP_SCALE = 0.05
  MAXIMUM_LATITUDE = -10.3421
  MINIMUM_LATITUDE = -21.2724
  POSITIVE_LONGITUDE_DIRECTION = EAST
  REFERENCE_LATITUDE = "N/A"
  REFERENCE_LONGITUDE = "N/A"
  SAMPLE_FIRST_PIXEL = 1
  SAMPLE_LAST_PIXEL = 1568
  SAMPLE_PROJECTION_OFFSET = 660.125
  SECOND_STANDARD_PARALLEL = "N/A"
  WESTERNMOST_LONGITUDE = 147.489
END_OBJECT = IMAGE_MAP_PROJECTION
/* The JPEG2000 image data file associated with this label. */
OBJECT = COMPRESSED_FILE
  FILE_NAME = "HI802_0000_BL3.JP2"
  RECORD_TYPE = UNDEFINED
  FILE_RECORDS = UNK
  ENCODING_TYPE = "JP2"
  INTERCHANGE_FORMAT = BINARY
  UNCOMPRESSED_FILE_NAME = "HI802_0000_BL3.IMG"
  REQUIRED_STORAGE_BYTES = "20324416"
  ^DESCRIPTION = "JP2INFO.TXT"
END_OBJECT = COMPRESSED_FILE
END
