PDS_VERSION_ID = PDS3
/* FILE DATA ELEMENTS */
RECORD_TYPE = STREAM
/* POINTERS TO DATA OBJECTS */
^COMPRESSED_FILE = "HI810_0000_IR3.JP2"
/* IDENTIFICATION DATA ELEMENTS */
DATA_SET_ID = "MEX-M-HRSC-5-REFDR-MAPPROJECTED-V3.0"
DATA_SET_NAME = "MARS EXPRESS HRSC MAP PROJECTED REFDR V3.0"
DETECTOR_ID = MEX_HRSC_IR
EVENT_TYPE = "MARS-REGIONAL-MAPPING-Im-Fl-Gl"
INSTRUMENT_HOST_ID = MEX
INSTRUMENT_HOST_NAME = "MARS EXPRESS"
INSTRUMENT_ID = HRSC
INSTRUMENT_NAME = "HIGH RESOLUTION STEREO CAMERA"
MISSION_NAME = "MARS EXPRESS"
MISSION_PHASE_NAME = ME_Phase_39
PROCESSING_LEVEL_ID = 3
PRODUCT_CREATION_TIME = 2019-02-22T11:38:04.000Z
PRODUCT_ID = "HI810_0000_IR3.JP2"
RELEASE_ID = 0143
REVISION_ID = 0000
/* QUALITY DATA ELEMENTS */
DATA_QUALITY_ID = 1
DATA_QUALITY_DESC = "Data calculated based on original SPICE kernels"
/* TIME DATA ELEMENTS */
SPACECRAFT_CLOCK_START_COUNT = "1/0490218621.24926"
SPACECRAFT_CLOCK_STOP_COUNT = "1/0490218873.32569"
START_TIME = 2018-11-13T19:51:46.015Z
STOP_TIME = 2018-11-13T19:54:58.559Z
/* ORBITAL DATA ELEMENTS */
ASCENDING_NODE_LONGITUDE = 221.28
MAXIMUM_RESOLUTION = 54.9
FOOTPRINT_POINT_LATITUDE = (-31.7713,-31.7592,-31.7448,-31.7325, -31.7131,-31.5978,-31.3046,-31.0123, -30.7166,-30.275,-29.9849,-29.5502, -29.2606,-28.9815,-28.5514,-28.2647, -27.8313,-27.5357,-27.2493,-26.9644, -26.688,-26.4099,-26.1285,-25.8564, -25.5896,-25.3148,-25.0403,-24.7647, -24.4896,-24.078,-23.8022,-23.3864, -23.1054,-22.8336,-22.5606,-22.1507, -21.7414,-21.4687,-21.0595,-20.7867, -20.3806,-20.1088,-19.8334,-19.5623, -19.2959,-19.0214,-18.7417,-18.4614, -18.1797,-17.7563,-17.7393,-17.7501, -17.7705,-17.7866,-17.7972,-18.0775, -18.3575,-18.6379,-18.9181,-19.1969, -19.4702,-19.741,-20.0132,-20.4216, -20.8305,-21.103,-21.5127,-21.7858, -22.0595,-22.3329,-22.6062,-22.8789, -23.1519,-23.4241,-23.6974,-23.9716, -24.2523,-24.5199,-24.9343,-25.2116, -25.4879,-25.7678,-26.1848,-26.4612, -26.7323,-27.0151,-27.3048,-27.5925, -28.0225,-28.4511,-28.7375,-29.1783, -29.6116,-29.9013,-30.3327,-30.6176, -30.9158,-31.3547,-31.6453,-31.7713)
FOOTPRINT_POINT_LONGITUDE = (51.5279,51.3077,51.0462,50.8264, 50.4834,50.2218,50.233,50.2438,50.2556, 50.2724,50.2819,50.2956,50.3046,50.3093 ,50.3206,50.3279,50.34,50.3505,50.3573, 50.3634,50.3693,50.376,50.3839,50.3879, 50.3895,50.3944,50.3991,50.4041,50.4088 ,50.4153,50.4201,50.4282,50.4352, 50.4381,50.4413,50.4463,50.4508,50.4536 ,50.4578,50.4606,50.4629,50.465,50.4689 ,50.4705,50.4694,50.4716,50.4728, 50.4742,50.4765,50.4803,50.6815,50.8721 ,51.2203,51.5129,51.6858,51.6862, 51.6863,51.6866,51.6868,51.687,51.6882, 51.688,51.6884,51.689,51.6897,51.6901, 51.6909,51.6914,51.692,51.6925,51.6929, 51.6929,51.6931,51.6929,51.693,51.6934, 51.6963,51.6941,51.6956,51.6969,51.6977 ,51.6997,51.7015,51.7021,51.7008, 51.7034,51.7052,51.7061,51.7069,51.7071 ,51.7073,51.7108,51.7118,51.7126, 51.7128,51.7121,51.715,51.7167,51.7173, 51.5279)
ORBIT_NUMBER = 18810
ORBITAL_ECCENTRICITY = 0.578
ORBITAL_INCLINATION = 86.96
ORBITAL_SEMIMAJOR_AXIS = 8838.93
PERIAPSIS_ALTITUDE = 335.15
PERIAPSIS_ARGUMENT_ANGLE = 337.9
PERIAPSIS_TIME = 2018-11-13T19:53:38.000Z
SPACECRAFT_ORIENTATION = (0.0,1.0,0.0)
^MEX_ORIENTATION_DESC = "MEX_ORIENTATION_DESC.TXT"
SPACECRAFT_POINTING_MODE = INERT
^MEX_POINTING_DESC = "MEX_POINTING_DESC.TXT"
RIGHT_ASCENSION = 67.088
DECLINATION = 41.204
OFFSET_ANGLE = -1e+32
SPACECRAFT_SOLAR_DISTANCE = 2.10194e+08
TARGET_NAME = MARS
/* CAMERA DATA ELEMENTS */
DETECTOR_TEMPERATURE = 18.3705
FOCAL_PLANE_TEMPERATURE = 11.8457
INST_CMPRS_NAME = "DISCRETE COSINE TRANSFORMATION (DCT)"
INST_CMPRS_RATIO = 8.68344
INST_CMPRS_QUALITY = 0
INST_CMPRS_QUANTZ_TBL_ID = 0
INSTRUMENT_TEMPERATURE = 12.8652
LENS_TEMPERATURE = 12.0496
MACROPIXEL_SIZE = 4
MISSING_FRAMES = 0
PIXEL_SUBSAMPLING_FLAG = N
SIGNAL_CHAIN_ID = 2
/* RADIOMETRIC DATA ELEMENTS */
BANDWIDTH = 81.0
CENTER_FILTER_WAVELENGTH = 955.5
RADIANCE_OFFSET = 0.636011
RADIANCE_SCALING_FACTOR = 0.00464598
REFLECTANCE_SCALING_FACTOR = 0.000442841
MEX:REFLECTANCE_OFFSET = 0.0606227
/* IMAGE OBJECT DEFINITIONS */
OBJECT = IMAGE
  INTERCHANGE_FORMAT = BINARY
  LINES = 16684
  LINE_SAMPLES = 1644
  SAMPLE_TYPE = UNSIGNED_INTEGER
  SAMPLE_BITS = 8
  BANDS = 1
  BAND_STORAGE_TYPE = BAND_SEQUENTIAL
  MAXIMUM = 255
  MEAN = 111.424
  MINIMUM = 1
  STANDARD_DEVIATION = 46.5988
END_OBJECT = IMAGE
/* MAP OBJECT DEFINITIONS */
OBJECT = IMAGE_MAP_PROJECTION
  ^DATA_SET_MAP_PROJECTION_CATALOG= "DSMAP.CAT"
  A_AXIS_RADIUS = 3396.0
  B_AXIS_RADIUS = 3396.0
  C_AXIS_RADIUS = 3396.0
  CENTER_LATITUDE = 0.0
  CENTER_LONGITUDE = 51.0
  COORDINATE_SYSTEM_NAME = PLANETOGRAPHIC
  COORDINATE_SYSTEM_TYPE = "BODY-FIXED ROTATING"
  EASTERNMOST_LONGITUDE = 51.7173
  FIRST_STANDARD_PARALLEL = "N/A"
  LINE_FIRST_PIXEL = 1
  LINE_LAST_PIXEL = 16684
  LINE_PROJECTION_OFFSET = -21037.625
  MAP_PROJECTION_ROTATION = 0.0
  MAP_PROJECTION_TYPE = SINUSOIDAL
  MAP_RESOLUTION = 1185.42760773333
  MAP_SCALE = 0.05
  MAXIMUM_LATITUDE = -17.7393
  MINIMUM_LATITUDE = -31.7713
  POSITIVE_LONGITUDE_DIRECTION = EAST
  REFERENCE_LATITUDE = "N/A"
  REFERENCE_LONGITUDE = "N/A"
  SAMPLE_FIRST_PIXEL = 1
  SAMPLE_LAST_PIXEL = 1644
  SAMPLE_PROJECTION_OFFSET = 703.125
  SECOND_STANDARD_PARALLEL = "N/A"
  WESTERNMOST_LONGITUDE = 50.2218
END_OBJECT = IMAGE_MAP_PROJECTION
/* The JPEG2000 image data file associated with this label. */
OBJECT = COMPRESSED_FILE
  FILE_NAME = "HI810_0000_IR3.JP2"
  RECORD_TYPE = UNDEFINED
  FILE_RECORDS = UNK
  ENCODING_TYPE = "JP2"
  INTERCHANGE_FORMAT = BINARY
  UNCOMPRESSED_FILE_NAME = "HI810_0000_IR3.IMG"
  REQUIRED_STORAGE_BYTES = "27448224"
  ^DESCRIPTION = "JP2INFO.TXT"
END_OBJECT = COMPRESSED_FILE
END
