PDS_VERSION_ID = PDS3
/* FILE DATA ELEMENTS */
RECORD_TYPE = STREAM
/* POINTERS TO DATA OBJECTS */
^COMPRESSED_FILE = "HI812_0000_S23.JP2"
/* IDENTIFICATION DATA ELEMENTS */
DATA_SET_ID = "MEX-M-HRSC-5-REFDR-MAPPROJECTED-V3.0"
DATA_SET_NAME = "MARS EXPRESS HRSC MAP PROJECTED REFDR V3.0"
DETECTOR_ID = MEX_HRSC_S2
EVENT_TYPE = "MARS-REGIONAL-MAPPING-Te-Im"
INSTRUMENT_HOST_ID = MEX
INSTRUMENT_HOST_NAME = "MARS EXPRESS"
INSTRUMENT_ID = HRSC
INSTRUMENT_NAME = "HIGH RESOLUTION STEREO CAMERA"
MISSION_NAME = "MARS EXPRESS"
MISSION_PHASE_NAME = ME_Phase_39
PROCESSING_LEVEL_ID = 3
PRODUCT_CREATION_TIME = 2019-02-22T11:38:04.000Z
PRODUCT_ID = "HI812_0000_S23.JP2"
RELEASE_ID = 0143
REVISION_ID = 0000
/* QUALITY DATA ELEMENTS */
DATA_QUALITY_ID = 1
DATA_QUALITY_DESC = "Data calculated based on original SPICE kernels"
/* TIME DATA ELEMENTS */
SPACECRAFT_CLOCK_START_COUNT = "1/0490268851.25685"
SPACECRAFT_CLOCK_STOP_COUNT = "1/0490269068.33385"
START_TIME = 2018-11-14T09:48:02.925Z
STOP_TIME = 2018-11-14T09:50:43.644Z
/* ORBITAL DATA ELEMENTS */
ASCENDING_NODE_LONGITUDE = 221.25
MAXIMUM_RESOLUTION = 27.9
FOOTPRINT_POINT_LATITUDE = (-35.4489,-35.4352,-35.4209,-35.4061, -35.3908,-35.3749,-35.3505,-35.0953, -34.8389,-34.583,-34.3267,-34.0705, -33.8141,-33.5579,-33.1729,-32.7882, -32.5316,-32.2752,-32.0185,-31.7769, -31.5617,-31.3464,-31.0239,-30.7009, -30.4849,-30.2691,-30.0532,-29.8375, -29.6218,-29.2983,-29.0819,-28.8657, -28.5411,-28.3241,-28.1098,-27.8931, -27.6774,-27.4623,-27.2462,-27.0311, -26.814,-26.4879,-26.2703,-26.0516, -25.7235,-25.3975,-25.0711,-24.8533, -24.6352,-24.4157,-24.1932,-23.9447, -23.9649,-23.9807,-24.0072,-24.0238, -24.2401,-24.4577,-24.676,-25.0033, -25.2217,-25.5487,-25.8757,-26.0943, -26.3116,-26.6372,-26.9619,-27.1788, -27.3959,-27.6136,-27.8308,-28.1562, -28.3731,-28.5889,-28.8038,-29.0191, -29.2354,-29.5597,-29.7759,-29.992, -30.2075,-30.4242,-30.64,-30.856, -31.0719,-31.3959,-31.7193,-31.9357, -32.3192,-32.5762,-32.8335,-33.0901, -33.3471,-33.6039,-33.9893,-34.3744, -34.6311,-34.888,-35.1447,-35.4489)
FOOTPRINT_POINT_LONGITUDE = (207.187,206.955,206.723,206.491, 206.258,206.025,205.786,205.799,205.811 ,205.823,205.834,205.845,205.856, 205.867,205.882,205.897,205.907,205.917 ,205.926,205.935,205.942,205.95,205.961 ,205.972,205.978,205.984,205.99,205.997 ,206.003,206.012,206.018,206.023, 206.031,206.036,206.043,206.048,206.053 ,206.059,206.064,206.07,206.074,206.08, 206.084,206.087,206.091,206.097,206.102 ,206.106,206.109,206.111,206.112, 206.275,206.558,206.753,207.131,207.377 ,207.377,207.376,207.375,207.374, 207.373,207.371,207.37,207.368,207.367, 207.366,207.365,207.364,207.363,207.362 ,207.36,207.359,207.358,207.357,207.356 ,207.356,207.355,207.353,207.352, 207.351,207.35,207.348,207.347,207.346, 207.344,207.342,207.34,207.338,207.335, 207.334,207.332,207.33,207.328,207.326, 207.323,207.32,207.318,207.316,207.313, 207.187)
ORBIT_NUMBER = 18812
ORBITAL_ECCENTRICITY = 0.578
ORBITAL_INCLINATION = 86.96
ORBITAL_SEMIMAJOR_AXIS = 8832.72
PERIAPSIS_ALTITUDE = 335.11
PERIAPSIS_ARGUMENT_ANGLE = 337.53
PERIAPSIS_TIME = 2018-11-14T09:51:30.000Z
SPACECRAFT_ORIENTATION = (0.0,1.0,0.0)
^MEX_ORIENTATION_DESC = "MEX_ORIENTATION_DESC.TXT"
SPACECRAFT_POINTING_MODE = INERT
^MEX_POINTING_DESC = "MEX_POINTING_DESC.TXT"
RIGHT_ASCENSION = 66.715
DECLINATION = 41.475
OFFSET_ANGLE = -1e+32
SPACECRAFT_SOLAR_DISTANCE = 2.10262e+08
TARGET_NAME = MARS
/* CAMERA DATA ELEMENTS */
DETECTOR_TEMPERATURE = 19.1861
FOCAL_PLANE_TEMPERATURE = 10.6223
INST_CMPRS_NAME = "DISCRETE COSINE TRANSFORMATION (DCT)"
INST_CMPRS_RATIO = 10.7697
INST_CMPRS_QUALITY = 0
INST_CMPRS_QUANTZ_TBL_ID = 0
INSTRUMENT_TEMPERATURE = 12.2535
LENS_TEMPERATURE = 11.4379
MACROPIXEL_SIZE = 2
MISSING_FRAMES = 0
PIXEL_SUBSAMPLING_FLAG = N
SIGNAL_CHAIN_ID = 1
/* RADIOMETRIC DATA ELEMENTS */
BANDWIDTH = 178.0
CENTER_FILTER_WAVELENGTH = 679.0
RADIANCE_OFFSET = 3.28273
RADIANCE_SCALING_FACTOR = 0.0207782
REFLECTANCE_SCALING_FACTOR = 0.000486471
MEX:REFLECTANCE_OFFSET = 0.0768571
/* IMAGE OBJECT DEFINITIONS */
OBJECT = IMAGE
  INTERCHANGE_FORMAT = BINARY
  LINES = 27194
  LINE_SAMPLES = 3400
  SAMPLE_TYPE = UNSIGNED_INTEGER
  SAMPLE_BITS = 8
  BANDS = 1
  BAND_STORAGE_TYPE = BAND_SEQUENTIAL
  MAXIMUM = 255
  MEAN = 99.8087
  MINIMUM = 1
  STANDARD_DEVIATION = 28.3837
END_OBJECT = IMAGE
/* MAP OBJECT DEFINITIONS */
OBJECT = IMAGE_MAP_PROJECTION
  ^DATA_SET_MAP_PROJECTION_CATALOG= "DSMAP.CAT"
  A_AXIS_RADIUS = 3396.0
  B_AXIS_RADIUS = 3396.0
  C_AXIS_RADIUS = 3396.0
  CENTER_LATITUDE = 0.0
  CENTER_LONGITUDE = 207.0
  COORDINATE_SYSTEM_NAME = PLANETOGRAPHIC
  COORDINATE_SYSTEM_TYPE = "BODY-FIXED ROTATING"
  EASTERNMOST_LONGITUDE = 207.377
  FIRST_STANDARD_PARALLEL = "N/A"
  LINE_FIRST_PIXEL = 1
  LINE_LAST_PIXEL = 27194
  LINE_PROJECTION_OFFSET = -56731.25
  MAP_PROJECTION_ROTATION = 0.0
  MAP_PROJECTION_TYPE = SINUSOIDAL
  MAP_RESOLUTION = 2370.85521546667
  MAP_SCALE = 0.025
  MAXIMUM_LATITUDE = -23.9447
  MINIMUM_LATITUDE = -35.4489
  POSITIVE_LONGITUDE_DIRECTION = EAST
  REFERENCE_LATITUDE = "N/A"
  REFERENCE_LONGITUDE = "N/A"
  SAMPLE_FIRST_PIXEL = 1
  SAMPLE_LAST_PIXEL = 3400
  SAMPLE_PROJECTION_OFFSET = 2744.75
  SECOND_STANDARD_PARALLEL = "N/A"
  WESTERNMOST_LONGITUDE = 205.786
END_OBJECT = IMAGE_MAP_PROJECTION
/* The JPEG2000 image data file associated with this label. */
OBJECT = COMPRESSED_FILE
  FILE_NAME = "HI812_0000_S23.JP2"
  RECORD_TYPE = UNDEFINED
  FILE_RECORDS = UNK
  ENCODING_TYPE = "JP2"
  INTERCHANGE_FORMAT = BINARY
  UNCOMPRESSED_FILE_NAME = "HI812_0000_S23.IMG"
  REQUIRED_STORAGE_BYTES = "92483400"
  ^DESCRIPTION = "JP2INFO.TXT"
END_OBJECT = COMPRESSED_FILE
END
