PDS_VERSION_ID = PDS3
/* FILE DATA ELEMENTS */
RECORD_TYPE = STREAM
/* POINTERS TO DATA OBJECTS */
^COMPRESSED_FILE = "HI813_0000_P23.JP2"
/* IDENTIFICATION DATA ELEMENTS */
DATA_SET_ID = "MEX-M-HRSC-5-REFDR-MAPPROJECTED-V3.0"
DATA_SET_NAME = "MARS EXPRESS HRSC MAP PROJECTED REFDR V3.0"
DETECTOR_ID = MEX_HRSC_P2
EVENT_TYPE = "MARS-REGIONAL-MAPPING-Vo-Im"
INSTRUMENT_HOST_ID = MEX
INSTRUMENT_HOST_NAME = "MARS EXPRESS"
INSTRUMENT_ID = HRSC
INSTRUMENT_NAME = "HIGH RESOLUTION STEREO CAMERA"
MISSION_NAME = "MARS EXPRESS"
MISSION_PHASE_NAME = ME_Phase_39
PROCESSING_LEVEL_ID = 3
PRODUCT_CREATION_TIME = 2019-02-22T11:38:04.000Z
PRODUCT_ID = "HI813_0000_P23.JP2"
RELEASE_ID = 0143
REVISION_ID = 0000
/* QUALITY DATA ELEMENTS */
DATA_QUALITY_ID = 1
DATA_QUALITY_DESC = "Data calculated based on original SPICE kernels"
/* TIME DATA ELEMENTS */
SPACECRAFT_CLOCK_START_COUNT = "1/0490294123.25683"
SPACECRAFT_CLOCK_STOP_COUNT = "1/0490294281.27023"
START_TIME = 2018-11-14T16:49:24.162Z
STOP_TIME = 2018-11-14T16:51:05.884Z
/* ORBITAL DATA ELEMENTS */
ASCENDING_NODE_LONGITUDE = 221.22
MAXIMUM_RESOLUTION = 27.5
FOOTPRINT_POINT_LATITUDE = (-25.9034,-25.8962,-25.8886,-25.8807, -25.8723,-25.8636,-25.8486,-25.6994, -25.5501,-25.4006,-25.2512,-25.1017, -24.9524,-24.8029,-24.6536,-24.508, -24.2184,-24.0736,-23.7844,-23.639, -23.4938,-23.3482,-23.2025,-23.0568, -22.9116,-22.6939,-22.4762,-22.3309, -22.1852,-22.0391,-21.8204,-21.6745, -21.4556,-21.3089,-21.1633,-21.0175, -20.8722,-20.7245,-20.5776,-20.4299, -20.2844,-20.1377,-19.918,-19.7712, -19.6242,-19.4774,-19.3304,-19.1101, -18.9633,-18.8168,-18.6695,-18.5222, -18.5279,-18.5361,-18.5432,-18.5536, -18.5612,-18.6424,-18.7893,-18.9362, -19.0839,-19.2308,-19.3775,-19.5974, -19.7438,-19.8917,-20.0386,-20.1864, -20.4065,-20.5533,-20.6997,-20.8463, -20.9932,-21.1393,-21.2862,-21.4322, -21.5783,-21.7971,-21.9432,-22.0887, -22.3071,-22.5977,-22.7433,-22.9615, -23.1794,-23.325,-23.6142,-23.7592, -23.9042,-24.0492,-24.1943,-24.4115, -24.7014,-24.851,-25.0007,-25.1505, -25.3749,-25.5245,-25.6742,-25.9034)
FOOTPRINT_POINT_LONGITUDE = (105.615,105.412,105.21,105.009,104.808 ,104.608,104.416,104.418,104.42,104.422 ,104.423,104.425,104.427,104.429,104.43 ,104.432,104.435,104.437,104.44,104.441 ,104.442,104.444,104.445,104.446, 104.447,104.449,104.451,104.452,104.453 ,104.454,104.456,104.457,104.458, 104.459,104.46,104.461,104.462,104.462, 104.463,104.464,104.464,104.465,104.466 ,104.467,104.467,104.468,104.468, 104.469,104.47,104.47,104.471,104.471, 104.665,104.859,105.042,105.312,105.521 ,105.735,105.735,105.734,105.733, 105.732,105.732,105.731,105.731,105.729 ,105.729,105.727,105.726,105.725, 105.725,105.724,105.723,105.723,105.722 ,105.722,105.721,105.721,105.72,105.72, 105.72,105.72,105.72,105.719,105.719, 105.719,105.72,105.72,105.72,105.72, 105.72,105.72,105.721,105.721,105.721, 105.722,105.722,105.722,105.722, 105.615)
ORBIT_NUMBER = 18813
ORBITAL_ECCENTRICITY = 0.578
ORBITAL_INCLINATION = 86.95
ORBITAL_SEMIMAJOR_AXIS = 8838.88
PERIAPSIS_ALTITUDE = 334.59
PERIAPSIS_ARGUMENT_ANGLE = 337.35
PERIAPSIS_TIME = 2018-11-14T16:50:31.000Z
SPACECRAFT_ORIENTATION = (0.0,1.0,0.0)
^MEX_ORIENTATION_DESC = "MEX_ORIENTATION_DESC.TXT"
SPACECRAFT_POINTING_MODE = INERT
^MEX_POINTING_DESC = "MEX_POINTING_DESC.TXT"
RIGHT_ASCENSION = 66.525
DECLINATION = 41.599
OFFSET_ANGLE = -1e+32
SPACECRAFT_SOLAR_DISTANCE = 2.10296e+08
TARGET_NAME = MARS
/* CAMERA DATA ELEMENTS */
DETECTOR_TEMPERATURE = 18.3705
FOCAL_PLANE_TEMPERATURE = 12.4574
INST_CMPRS_NAME = "DISCRETE COSINE TRANSFORMATION (DCT)"
INST_CMPRS_RATIO = 6.1552
INST_CMPRS_QUALITY = 0
INST_CMPRS_QUANTZ_TBL_ID = 0
INSTRUMENT_TEMPERATURE = 13.0691
LENS_TEMPERATURE = 12.8652
MACROPIXEL_SIZE = 2
MISSING_FRAMES = 0
PIXEL_SUBSAMPLING_FLAG = N
SIGNAL_CHAIN_ID = 3
/* RADIOMETRIC DATA ELEMENTS */
BANDWIDTH = 177.0
CENTER_FILTER_WAVELENGTH = 676.5
RADIANCE_OFFSET = 2.92262
RADIANCE_SCALING_FACTOR = 0.0139733
REFLECTANCE_SCALING_FACTOR = 0.000327657
MEX:REFLECTANCE_OFFSET = 0.0685318
/* IMAGE OBJECT DEFINITIONS */
OBJECT = IMAGE
  INTERCHANGE_FORMAT = BINARY
  LINES = 17567
  LINE_SAMPLES = 3021
  SAMPLE_TYPE = UNSIGNED_INTEGER
  SAMPLE_BITS = 8
  BANDS = 1
  BAND_STORAGE_TYPE = BAND_SEQUENTIAL
  MAXIMUM = 255
  MEAN = 110.745
  MINIMUM = 1
  STANDARD_DEVIATION = 21.2141
END_OBJECT = IMAGE
/* MAP OBJECT DEFINITIONS */
OBJECT = IMAGE_MAP_PROJECTION
  ^DATA_SET_MAP_PROJECTION_CATALOG= "DSMAP.CAT"
  A_AXIS_RADIUS = 3396.0
  B_AXIS_RADIUS = 3396.0
  C_AXIS_RADIUS = 3396.0
  CENTER_LATITUDE = 0.0
  CENTER_LONGITUDE = 105.0
  COORDINATE_SYSTEM_NAME = PLANETOGRAPHIC
  COORDINATE_SYSTEM_TYPE = "BODY-FIXED ROTATING"
  EASTERNMOST_LONGITUDE = 105.735
  FIRST_STANDARD_PARALLEL = "N/A"
  LINE_FIRST_PIXEL = 1
  LINE_LAST_PIXEL = 17567
  LINE_PROJECTION_OFFSET = -43818.25
  MAP_PROJECTION_ROTATION = 0.0
  MAP_PROJECTION_TYPE = SINUSOIDAL
  MAP_RESOLUTION = 2370.85521546667
  MAP_SCALE = 0.025
  MAXIMUM_LATITUDE = -18.5222
  MINIMUM_LATITUDE = -25.9034
  POSITIVE_LONGITUDE_DIRECTION = EAST
  REFERENCE_LATITUDE = "N/A"
  REFERENCE_LONGITUDE = "N/A"
  SAMPLE_FIRST_PIXEL = 1
  SAMPLE_LAST_PIXEL = 3021
  SAMPLE_PROJECTION_OFFSET = 1437.75
  SECOND_STANDARD_PARALLEL = "N/A"
  WESTERNMOST_LONGITUDE = 104.416
END_OBJECT = IMAGE_MAP_PROJECTION
/* The JPEG2000 image data file associated with this label. */
OBJECT = COMPRESSED_FILE
  FILE_NAME = "HI813_0000_P23.JP2"
  RECORD_TYPE = UNDEFINED
  FILE_RECORDS = UNK
  ENCODING_TYPE = "JP2"
  INTERCHANGE_FORMAT = BINARY
  UNCOMPRESSED_FILE_NAME = "HI813_0000_P23.IMG"
  REQUIRED_STORAGE_BYTES = "53094075"
  ^DESCRIPTION = "JP2INFO.TXT"
END_OBJECT = COMPRESSED_FILE
END
