PDS_VERSION_ID = PDS3
/* FILE DATA ELEMENTS */
RECORD_TYPE = STREAM
/* POINTERS TO DATA OBJECTS */
^COMPRESSED_FILE = "HI814_0000_RE3.JP2"
/* IDENTIFICATION DATA ELEMENTS */
DATA_SET_ID = "MEX-M-HRSC-5-REFDR-MAPPROJECTED-V3.0"
DATA_SET_NAME = "MARS EXPRESS HRSC MAP PROJECTED REFDR V3.0"
DETECTOR_ID = MEX_HRSC_RED
EVENT_TYPE = "MARS-REGIONAL-MAPPING-Im-Fl"
INSTRUMENT_HOST_ID = MEX
INSTRUMENT_HOST_NAME = "MARS EXPRESS"
INSTRUMENT_ID = HRSC
INSTRUMENT_NAME = "HIGH RESOLUTION STEREO CAMERA"
MISSION_NAME = "MARS EXPRESS"
MISSION_PHASE_NAME = ME_Phase_39
PROCESSING_LEVEL_ID = 3
PRODUCT_CREATION_TIME = 2019-02-22T11:38:04.000Z
PRODUCT_ID = "HI814_0000_RE3.JP2"
RELEASE_ID = 0143
REVISION_ID = 0000
/* QUALITY DATA ELEMENTS */
DATA_QUALITY_ID = 1
DATA_QUALITY_DESC = "Data calculated based on original SPICE kernels"
/* TIME DATA ELEMENTS */
SPACECRAFT_CLOCK_START_COUNT = "1/0490319063.25669"
SPACECRAFT_CLOCK_STOP_COUNT = "1/0490319290.42828"
START_TIME = 2018-11-14T23:45:00.100Z
STOP_TIME = 2018-11-14T23:47:48.581Z
/* ORBITAL DATA ELEMENTS */
ASCENDING_NODE_LONGITUDE = 221.21
MAXIMUM_RESOLUTION = 55.7
FOOTPRINT_POINT_LATITUDE = (-40.5609,-40.5444,-40.5274,-40.5097, -40.4915,-40.4726,-40.2725,-40.0805, -39.7939,-39.6028,-39.4118,-39.1266, -38.9405,-38.7543,-38.5681,-38.382, -38.1958,-38.011,-37.8297,-37.6485, -37.4672,-37.286,-37.1048,-36.9235, -36.6517,-36.4704,-36.2891,-36.0172, -35.836,-35.6549,-35.4737,-35.2018, -35.0205,-34.8393,-34.5674,-31.2009, -30.8962,-30.6683,-30.3639,-30.1365, -29.9817,-29.8277,-29.6749,-29.5222, -29.3697,-29.0686,-28.8399,-28.6872, -28.5344,-28.5343,-28.5511,-28.5777, -28.5905,-28.6023,-28.7608,-28.9137, -29.0665,-29.2193,-29.3721,-29.5248, -29.6775,-29.83,-29.9826,-30.2114, -30.364,-30.5165,-30.7452,-31.0502, -31.2789,-34.6494,-34.831,-35.0127, -35.1944,-35.467,-35.6487,-35.9213, -36.103,-36.2848,-36.4665,-36.6483, -36.83,-37.1026,-37.2844,-37.5571, -37.8298,-38.0116,-38.1941,-38.3808, -38.5676,-38.7543,-38.9411,-39.1279, -39.3152,-39.508,-39.6999,-39.8917, -40.0819,-40.2739,-40.4685,-40.5609)
FOOTPRINT_POINT_LONGITUDE = (2.48158,2.22257,1.96262,1.70218, 1.44101,1.17857,1.05044,1.06533,1.0868, 1.10078,1.11453,1.13495,1.14802,1.16105 ,1.17395,1.18659,1.19912,1.21135, 1.22315,1.23482,1.24657,1.25809,1.2696, 1.28087,1.29646,1.30696,1.31682,1.3319, 1.34245,1.35349,1.3634,1.37762,1.38702, 1.39676,1.41061,1.55516,1.56548,1.57418 ,1.58484,1.59381,1.59516,1.59786, 1.60208,1.60654,1.61117,1.62514,1.63181 ,1.63599,1.63989,1.87606,2.11178, 2.50689,2.70353,2.88742,2.96389,2.96272 ,2.96152,2.96037,2.95914,2.95793, 2.95672,2.95555,2.95437,2.95251,2.95124 ,2.94999,2.94807,2.9454,2.94334,2.9078, 2.90586,2.90368,2.90135,2.89772,2.89523 ,2.89127,2.88906,2.88653,2.88399, 2.88137,2.87871,2.87443,2.87174,2.86745 ,2.86309,2.86009,2.85708,2.85389, 2.85068,2.84736,2.84407,2.84067,2.83713 ,2.83476,2.83114,2.82738,2.82199, 2.81832,2.81423,2.48158)
ORBIT_NUMBER = 18814
ORBITAL_ECCENTRICITY = 0.578
ORBITAL_INCLINATION = 86.95
ORBITAL_SEMIMAJOR_AXIS = 8834.26
PERIAPSIS_ALTITUDE = 335.31
PERIAPSIS_ARGUMENT_ANGLE = 337.19
PERIAPSIS_TIME = 2018-11-14T23:49:29.000Z
SPACECRAFT_ORIENTATION = (0.0,1.0,0.0)
^MEX_ORIENTATION_DESC = "MEX_ORIENTATION_DESC.TXT"
SPACECRAFT_POINTING_MODE = INERT
^MEX_POINTING_DESC = "MEX_POINTING_DESC.TXT"
RIGHT_ASCENSION = 66.357
DECLINATION = 41.722
OFFSET_ANGLE = -1e+32
SPACECRAFT_SOLAR_DISTANCE = 2.10331e+08
TARGET_NAME = MARS
/* CAMERA DATA ELEMENTS */
DETECTOR_TEMPERATURE = 19.7978
FOCAL_PLANE_TEMPERATURE = 12.6613
INST_CMPRS_NAME = "DISCRETE COSINE TRANSFORMATION (DCT)"
INST_CMPRS_RATIO = 12.5218
INST_CMPRS_QUALITY = 0
INST_CMPRS_QUANTZ_TBL_ID = 0
INSTRUMENT_TEMPERATURE = 13.0691
LENS_TEMPERATURE = 12.6613
MACROPIXEL_SIZE = 4
MISSING_FRAMES = 390
PIXEL_SUBSAMPLING_FLAG = N
SIGNAL_CHAIN_ID = 2
/* RADIOMETRIC DATA ELEMENTS */
BANDWIDTH = 48.0
CENTER_FILTER_WAVELENGTH = 748.0
RADIANCE_OFFSET = 0.85508
RADIANCE_SCALING_FACTOR = 0.00510972
REFLECTANCE_SCALING_FACTOR = 0.000515855
MEX:REFLECTANCE_OFFSET = 0.0863251
/* IMAGE OBJECT DEFINITIONS */
OBJECT = IMAGE
  INTERCHANGE_FORMAT = BINARY
  LINES = 14243
  LINE_SAMPLES = 1984
  SAMPLE_TYPE = UNSIGNED_INTEGER
  SAMPLE_BITS = 8
  BANDS = 1
  BAND_STORAGE_TYPE = BAND_SEQUENTIAL
  MAXIMUM = 255
  MEAN = 125.183
  MINIMUM = 1
  STANDARD_DEVIATION = 39.0684
END_OBJECT = IMAGE
/* MAP OBJECT DEFINITIONS */
OBJECT = IMAGE_MAP_PROJECTION
  ^DATA_SET_MAP_PROJECTION_CATALOG= "DSMAP.CAT"
  A_AXIS_RADIUS = 3396.0
  B_AXIS_RADIUS = 3396.0
  C_AXIS_RADIUS = 3396.0
  CENTER_LATITUDE = 0.0
  CENTER_LONGITUDE = 2.0
  COORDINATE_SYSTEM_NAME = PLANETOGRAPHIC
  COORDINATE_SYSTEM_TYPE = "BODY-FIXED ROTATING"
  EASTERNMOST_LONGITUDE = 2.96389
  FIRST_STANDARD_PARALLEL = "N/A"
  LINE_FIRST_PIXEL = 1
  LINE_LAST_PIXEL = 14243
  LINE_PROJECTION_OFFSET = -33827.625
  MAP_PROJECTION_ROTATION = 0.0
  MAP_PROJECTION_TYPE = SINUSOIDAL
  MAP_RESOLUTION = 1185.42760773333
  MAP_SCALE = 0.05
  MAXIMUM_LATITUDE = -28.5343
  MINIMUM_LATITUDE = -40.5609
  POSITIVE_LONGITUDE_DIRECTION = EAST
  REFERENCE_LATITUDE = "N/A"
  REFERENCE_LONGITUDE = "N/A"
  SAMPLE_FIRST_PIXEL = 1
  SAMPLE_LAST_PIXEL = 1984
  SAMPLE_PROJECTION_OFFSET = 1048.125
  SECOND_STANDARD_PARALLEL = "N/A"
  WESTERNMOST_LONGITUDE = 1.05044
END_OBJECT = IMAGE_MAP_PROJECTION
/* The JPEG2000 image data file associated with this label. */
OBJECT = COMPRESSED_FILE
  FILE_NAME = "HI814_0000_RE3.JP2"
  RECORD_TYPE = UNDEFINED
  FILE_RECORDS = UNK
  ENCODING_TYPE = "JP2"
  INTERCHANGE_FORMAT = BINARY
  UNCOMPRESSED_FILE_NAME = "HI814_0000_RE3.IMG"
  REQUIRED_STORAGE_BYTES = "28277952"
  ^DESCRIPTION = "JP2INFO.TXT"
END_OBJECT = COMPRESSED_FILE
END
