PDS_VERSION_ID = PDS3
/* FILE DATA ELEMENTS */
RECORD_TYPE = STREAM
/* POINTERS TO DATA OBJECTS */
^COMPRESSED_FILE = "HI815_0000_S13.JP2"
/* IDENTIFICATION DATA ELEMENTS */
DATA_SET_ID = "MEX-M-HRSC-5-REFDR-MAPPROJECTED-V3.0"
DATA_SET_NAME = "MARS EXPRESS HRSC MAP PROJECTED REFDR V3.0"
DETECTOR_ID = MEX_HRSC_S1
EVENT_TYPE = "MARS-REGIONAL-STEREO-Vo-Te"
INSTRUMENT_HOST_ID = MEX
INSTRUMENT_HOST_NAME = "MARS EXPRESS"
INSTRUMENT_ID = HRSC
INSTRUMENT_NAME = "HIGH RESOLUTION STEREO CAMERA"
MISSION_NAME = "MARS EXPRESS"
MISSION_PHASE_NAME = ME_Phase_39
PROCESSING_LEVEL_ID = 3
PRODUCT_CREATION_TIME = 2019-02-22T11:38:04.000Z
PRODUCT_ID = "HI815_0000_S13.JP2"
RELEASE_ID = 0143
REVISION_ID = 0000
/* QUALITY DATA ELEMENTS */
DATA_QUALITY_ID = 1
DATA_QUALITY_DESC = "Data calculated based on original SPICE kernels"
/* TIME DATA ELEMENTS */
SPACECRAFT_CLOCK_START_COUNT = "1/0490344411.25692"
SPACECRAFT_CLOCK_STOP_COUNT = "1/0490344559.26693"
START_TIME = 2018-11-15T06:48:17.768Z
STOP_TIME = 2018-11-15T06:49:48.886Z
/* ORBITAL DATA ELEMENTS */
ASCENDING_NODE_LONGITUDE = 221.19
MAXIMUM_RESOLUTION = 13.9
FOOTPRINT_POINT_LATITUDE = (-26.1246,-26.1172,-26.1097,-26.1022, -26.0946,-26.0869,-25.9918,-25.8592, -25.6602,-25.4607,-25.3283,-25.1956, -24.9968,-24.8641,-24.6656,-24.4673, -24.335,-24.1368,-24.0047,-23.8727, -23.6752,-23.5435,-23.4115,-23.2799, -23.1483,-23.0168,-22.8853,-22.754, -22.6229,-22.4257,-22.2946,-22.0979, -21.9669,-21.7706,-21.6397,-21.5089, -21.3128,-21.1164,-20.9858,-20.79, -20.6593,-20.5286,-20.3981,-20.2675, -20.1373,-20.0067,-19.8764,-19.6776, -19.543,-19.4721,-19.4771,-19.4812, -19.4895,-19.4952,-19.5021,-19.5071, -19.5141,-19.6488,-19.8499,-19.9801, -20.1106,-20.3061,-20.5021,-20.6983, -20.8944,-21.0251,-21.156,-21.2867, -21.4176,-21.5486,-21.745,-21.9418, -22.073,-22.204,-22.3353,-22.5323, -22.6638,-22.7951,-22.9265,-23.0579, -23.1896,-23.3211,-23.4529,-23.6506, -23.7824,-23.9143,-24.0467,-24.2449, -24.3772,-24.5094,-24.6418,-24.8407, -24.9734,-25.1058,-25.3051,-25.4378, -25.571,-25.77,-25.9028,-26.1246)
FOOTPRINT_POINT_LONGITUDE = (260.591,260.382,260.173,259.963, 259.753,259.541,259.321,259.324,259.329 ,259.335,259.338,259.342,259.347,259.35 ,259.355,259.36,259.363,259.367,259.37, 259.373,259.377,259.38,259.382,259.385, 259.388,259.39,259.392,259.395,259.397, 259.401,259.403,259.406,259.408,259.411 ,259.413,259.415,259.417,259.42,259.422 ,259.424,259.426,259.428,259.429, 259.431,259.432,259.434,259.435,259.437 ,259.439,259.537,259.67,259.779,260.009 ,260.165,260.345,260.476,260.661, 260.661,260.661,260.66,260.66,260.66, 260.66,260.659,260.659,260.659,260.658, 260.658,260.658,260.658,260.657,260.657 ,260.656,260.656,260.656,260.655, 260.655,260.654,260.654,260.654,260.653 ,260.653,260.652,260.652,260.651, 260.651,260.65,260.649,260.649,260.648, 260.648,260.647,260.647,260.646,260.645 ,260.645,260.644,260.643,260.642, 260.591)
ORBIT_NUMBER = 18815
ORBITAL_ECCENTRICITY = 0.578
ORBITAL_INCLINATION = 86.95
ORBITAL_SEMIMAJOR_AXIS = 8843.49
PERIAPSIS_ALTITUDE = 334.62
PERIAPSIS_ARGUMENT_ANGLE = 337.02
PERIAPSIS_TIME = 2018-11-15T06:48:31.000Z
SPACECRAFT_ORIENTATION = (0.0,1.0,0.0)
^MEX_ORIENTATION_DESC = "MEX_ORIENTATION_DESC.TXT"
SPACECRAFT_POINTING_MODE = INERT
^MEX_POINTING_DESC = "MEX_POINTING_DESC.TXT"
RIGHT_ASCENSION = 66.204
DECLINATION = 41.816
OFFSET_ANGLE = -1e+32
SPACECRAFT_SOLAR_DISTANCE = 2.10365e+08
TARGET_NAME = MARS
/* CAMERA DATA ELEMENTS */
DETECTOR_TEMPERATURE = 19.7978
FOCAL_PLANE_TEMPERATURE = 11.0301
INST_CMPRS_NAME = "DISCRETE COSINE TRANSFORMATION (DCT)"
INST_CMPRS_RATIO = 5.65934
INST_CMPRS_QUALITY = 0
INST_CMPRS_QUANTZ_TBL_ID = 0
INSTRUMENT_TEMPERATURE = 12.2535
LENS_TEMPERATURE = 10.8262
MACROPIXEL_SIZE = 1
MISSING_FRAMES = 0
PIXEL_SUBSAMPLING_FLAG = N
SIGNAL_CHAIN_ID = 2
/* RADIOMETRIC DATA ELEMENTS */
BANDWIDTH = 180.0
CENTER_FILTER_WAVELENGTH = 677.0
RADIANCE_OFFSET = 2.88436
RADIANCE_SCALING_FACTOR = 0.0203602
REFLECTANCE_SCALING_FACTOR = 0.000470079
MEX:REFLECTANCE_OFFSET = 0.0665945
/* IMAGE OBJECT DEFINITIONS */
OBJECT = IMAGE
  INTERCHANGE_FORMAT = BINARY
  LINES = 31663
  LINE_SAMPLES = 6195
  SAMPLE_TYPE = UNSIGNED_INTEGER
  SAMPLE_BITS = 8
  BANDS = 1
  BAND_STORAGE_TYPE = BAND_SEQUENTIAL
  MAXIMUM = 255
  MEAN = 137.372
  MINIMUM = 1
  STANDARD_DEVIATION = 22.8035
END_OBJECT = IMAGE
/* MAP OBJECT DEFINITIONS */
OBJECT = IMAGE_MAP_PROJECTION
  ^DATA_SET_MAP_PROJECTION_CATALOG= "DSMAP.CAT"
  A_AXIS_RADIUS = 3396.0
  B_AXIS_RADIUS = 3396.0
  C_AXIS_RADIUS = 3396.0
  CENTER_LATITUDE = 0.0
  CENTER_LONGITUDE = 260.0
  COORDINATE_SYSTEM_NAME = PLANETOGRAPHIC
  COORDINATE_SYSTEM_TYPE = "BODY-FIXED ROTATING"
  EASTERNMOST_LONGITUDE = 260.661
  FIRST_STANDARD_PARALLEL = "N/A"
  LINE_FIRST_PIXEL = 1
  LINE_LAST_PIXEL = 31663
  LINE_PROJECTION_OFFSET = -92439.0
  MAP_PROJECTION_ROTATION = 0.0
  MAP_PROJECTION_TYPE = SINUSOIDAL
  MAP_RESOLUTION = 4741.71043093333
  MAP_SCALE = 0.0125
  MAXIMUM_LATITUDE = -19.4721
  MINIMUM_LATITUDE = -26.1246
  POSITIVE_LONGITUDE_DIRECTION = EAST
  REFERENCE_LATITUDE = "N/A"
  REFERENCE_LONGITUDE = "N/A"
  SAMPLE_FIRST_PIXEL = 1
  SAMPLE_LAST_PIXEL = 6195
  SAMPLE_PROJECTION_OFFSET = 2667.0
  SECOND_STANDARD_PARALLEL = "N/A"
  WESTERNMOST_LONGITUDE = 259.321
END_OBJECT = IMAGE_MAP_PROJECTION
/* The JPEG2000 image data file associated with this label. */
OBJECT = COMPRESSED_FILE
  FILE_NAME = "HI815_0000_S13.JP2"
  RECORD_TYPE = UNDEFINED
  FILE_RECORDS = UNK
  ENCODING_TYPE = "JP2"
  INTERCHANGE_FORMAT = BINARY
  UNCOMPRESSED_FILE_NAME = "HI815_0000_S13.IMG"
  REQUIRED_STORAGE_BYTES = "196183260"
  ^DESCRIPTION = "JP2INFO.TXT"
END_OBJECT = COMPRESSED_FILE
END
