PDS_VERSION_ID = PDS3
/* FILE DATA ELEMENTS */
RECORD_TYPE = STREAM
/* POINTERS TO DATA OBJECTS */
^COMPRESSED_FILE = "HI820_0000_ND3.JP2"
/* IDENTIFICATION DATA ELEMENTS */
DATA_SET_ID = "MEX-M-HRSC-5-REFDR-MAPPROJECTED-V3.0"
DATA_SET_NAME = "MARS EXPRESS HRSC MAP PROJECTED REFDR V3.0"
DETECTOR_ID = MEX_HRSC_NADIR
EVENT_TYPE = "MARS-REGIONAL-MAPPING-Vo-Im-Pf"
INSTRUMENT_HOST_ID = MEX
INSTRUMENT_HOST_NAME = "MARS EXPRESS"
INSTRUMENT_ID = HRSC
INSTRUMENT_NAME = "HIGH RESOLUTION STEREO CAMERA"
MISSION_NAME = "MARS EXPRESS"
MISSION_PHASE_NAME = ME_Phase_39
PROCESSING_LEVEL_ID = 3
PRODUCT_CREATION_TIME = 2019-02-22T11:38:04.000Z
PRODUCT_ID = "HI820_0000_ND3.JP2"
RELEASE_ID = 0143
REVISION_ID = 0000
/* QUALITY DATA ELEMENTS */
DATA_QUALITY_ID = 1
DATA_QUALITY_DESC = "Data calculated based on original SPICE kernels"
/* TIME DATA ELEMENTS */
SPACECRAFT_CLOCK_START_COUNT = "1/0490469982.23988"
SPACECRAFT_CLOCK_STOP_COUNT = "1/0490470192.05290"
START_TIME = 2018-11-16T17:40:43.384Z
STOP_TIME = 2018-11-16T17:43:15.372Z
/* ORBITAL DATA ELEMENTS */
ASCENDING_NODE_LONGITUDE = 221.09
MAXIMUM_RESOLUTION = 13.4
FOOTPRINT_POINT_LATITUDE = (-33.9415,-33.9396,-33.9376,-33.9352, -33.9315,-33.8212,-33.4928,-33.274, -33.0552,-32.8364,-32.5081,-32.2894, -32.0706,-31.7424,-31.5234,-31.3045, -31.0859,-30.758,-30.5391,-30.2108, -29.992,-29.7731,-29.5543,-29.3354, -29.1164,-28.8974,-28.6785,-28.4595, -28.2407,-28.0216,-27.8026,-27.5836, -27.3645,-27.1456,-26.8169,-26.5976, -26.3785,-26.0519,-25.8397,-25.6275, -25.4152,-25.203,-24.9908,-24.7782, -24.4594,-24.2471,-24.0345,-23.716, -23.5025,-23.2904,-23.0571,-23.0596, -23.0605,-23.0612,-23.0612,-23.1677, -23.3799,-23.5937,-23.8064,-24.1256, -24.3382,-24.5509,-24.8698,-25.1888, -25.4012,-25.7197,-25.9321,-26.255, -26.5839,-26.9127,-27.1319,-27.3512, -27.5704,-27.8991,-28.1184,-28.3376, -28.5567,-28.7759,-29.1045,-29.3236, -29.5427,-29.7618,-29.9808,-30.3093, -30.5283,-30.7474,-31.0758,-31.2948, -31.5138,-31.8421,-32.0612,-32.2802, -32.4992,-32.7182,-32.9372,-33.2658, -33.4849,-33.704,-33.9231,-33.9415)
FOOTPRINT_POINT_LONGITUDE = (110.383,110.047,109.798,109.55,109.243 ,109.04,109.053,109.061,109.069,109.077 ,109.088,109.096,109.103,109.113, 109.117,109.124,109.132,109.144,109.149 ,109.158,109.164,109.17,109.175,109.18, 109.185,109.191,109.196,109.201,109.206 ,109.21,109.215,109.22,109.224,109.228, 109.235,109.238,109.242,109.248,109.252 ,109.255,109.258,109.262,109.265, 109.268,109.272,109.275,109.277,109.281 ,109.283,109.286,109.363,109.728, 109.929,110.243,110.445,110.564,110.564 ,110.563,110.562,110.562,110.561, 110.561,110.56,110.559,110.558,110.558, 110.557,110.557,110.556,110.556,110.555 ,110.555,110.554,110.554,110.553, 110.553,110.552,110.551,110.551,110.55, 110.549,110.549,110.548,110.548,110.547 ,110.546,110.545,110.545,110.544, 110.545,110.543,110.543,110.542,110.542 ,110.541,110.54,110.54,110.539,110.539, 110.383)
ORBIT_NUMBER = 18820
ORBITAL_ECCENTRICITY = 0.578
ORBITAL_INCLINATION = 86.95
ORBITAL_SEMIMAJOR_AXIS = 8836.96
PERIAPSIS_ALTITUDE = 334.28
PERIAPSIS_ARGUMENT_ANGLE = 336.15
PERIAPSIS_TIME = 2018-11-16T17:43:16.000Z
SPACECRAFT_ORIENTATION = (0.0,1.0,0.0)
^MEX_ORIENTATION_DESC = "MEX_ORIENTATION_DESC.TXT"
SPACECRAFT_POINTING_MODE = INERT
^MEX_POINTING_DESC = "MEX_POINTING_DESC.TXT"
RIGHT_ASCENSION = 65.333
DECLINATION = 42.409
OFFSET_ANGLE = -1e+32
SPACECRAFT_SOLAR_DISTANCE = 2.1054e+08
TARGET_NAME = MARS
/* CAMERA DATA ELEMENTS */
DETECTOR_TEMPERATURE = 18.9822
FOCAL_PLANE_TEMPERATURE = 11.4379
INST_CMPRS_NAME = "DISCRETE COSINE TRANSFORMATION (DCT)"
INST_CMPRS_RATIO = 5.97312
INST_CMPRS_QUALITY = 0
INST_CMPRS_QUANTZ_TBL_ID = 0
INSTRUMENT_TEMPERATURE = 12.4574
LENS_TEMPERATURE = 11.0301
MACROPIXEL_SIZE = 1
MISSING_FRAMES = 0
PIXEL_SUBSAMPLING_FLAG = N
SIGNAL_CHAIN_ID = 0
/* RADIOMETRIC DATA ELEMENTS */
BANDWIDTH = 177.0
CENTER_FILTER_WAVELENGTH = 677.5
RADIANCE_OFFSET = 2.85485
RADIANCE_SCALING_FACTOR = 0.0205684
REFLECTANCE_SCALING_FACTOR = 0.000484344
MEX:REFLECTANCE_OFFSET = 0.0672257
/* IMAGE OBJECT DEFINITIONS */
OBJECT = IMAGE
  INTERCHANGE_FORMAT = BINARY
  LINES = 51869
  LINE_SAMPLES = 6521
  SAMPLE_TYPE = UNSIGNED_INTEGER
  SAMPLE_BITS = 8
  BANDS = 1
  BAND_STORAGE_TYPE = BAND_SEQUENTIAL
  MAXIMUM = 255
  MEAN = 100.278
  MINIMUM = 1
  STANDARD_DEVIATION = 31.2603
END_OBJECT = IMAGE
/* MAP OBJECT DEFINITIONS */
OBJECT = IMAGE_MAP_PROJECTION
  ^DATA_SET_MAP_PROJECTION_CATALOG= "DSMAP.CAT"
  A_AXIS_RADIUS = 3396.0
  B_AXIS_RADIUS = 3396.0
  C_AXIS_RADIUS = 3396.0
  CENTER_LATITUDE = 0.0
  CENTER_LONGITUDE = 110.0
  COORDINATE_SYSTEM_NAME = PLANETOGRAPHIC
  COORDINATE_SYSTEM_TYPE = "BODY-FIXED ROTATING"
  EASTERNMOST_LONGITUDE = 110.564
  FIRST_STANDARD_PARALLEL = "N/A"
  LINE_FIRST_PIXEL = 1
  LINE_LAST_PIXEL = 51869
  LINE_PROJECTION_OFFSET = -109078.0
  MAP_PROJECTION_ROTATION = 0.0
  MAP_PROJECTION_TYPE = SINUSOIDAL
  MAP_RESOLUTION = 4741.71043093333
  MAP_SCALE = 0.0125
  MAXIMUM_LATITUDE = -23.0571
  MINIMUM_LATITUDE = -33.9415
  POSITIVE_LONGITUDE_DIRECTION = EAST
  REFERENCE_LATITUDE = "N/A"
  REFERENCE_LONGITUDE = "N/A"
  SAMPLE_FIRST_PIXEL = 1
  SAMPLE_LAST_PIXEL = 6521
  SAMPLE_PROJECTION_OFFSET = 3896.0
  SECOND_STANDARD_PARALLEL = "N/A"
  WESTERNMOST_LONGITUDE = 109.04
END_OBJECT = IMAGE_MAP_PROJECTION
/* The JPEG2000 image data file associated with this label. */
OBJECT = COMPRESSED_FILE
  FILE_NAME = "HI820_0000_ND3.JP2"
  RECORD_TYPE = UNDEFINED
  FILE_RECORDS = UNK
  ENCODING_TYPE = "JP2"
  INTERCHANGE_FORMAT = BINARY
  UNCOMPRESSED_FILE_NAME = "HI820_0000_ND3.IMG"
  REQUIRED_STORAGE_BYTES = "338270354"
  ^DESCRIPTION = "JP2INFO.TXT"
END_OBJECT = COMPRESSED_FILE
END
