PDS_VERSION_ID = PDS3
/* FILE DATA ELEMENTS */
RECORD_TYPE = STREAM
/* POINTERS TO DATA OBJECTS */
^COMPRESSED_FILE = "HI822_0001_P13.JP2"
/* IDENTIFICATION DATA ELEMENTS */
DATA_SET_ID = "MEX-M-HRSC-5-REFDR-MAPPROJECTED-V3.0"
DATA_SET_NAME = "MARS EXPRESS HRSC MAP PROJECTED REFDR V3.0"
DETECTOR_ID = MEX_HRSC_P1
EVENT_TYPE = "MARS-REGIONAL-MAPPING-Te-Im"
INSTRUMENT_HOST_ID = MEX
INSTRUMENT_HOST_NAME = "MARS EXPRESS"
INSTRUMENT_ID = HRSC
INSTRUMENT_NAME = "HIGH RESOLUTION STEREO CAMERA"
MISSION_NAME = "MARS EXPRESS"
MISSION_PHASE_NAME = ME_Phase_39
PROCESSING_LEVEL_ID = 3
PRODUCT_CREATION_TIME = 2019-02-22T11:38:04.000Z
PRODUCT_ID = "HI822_0001_P13.JP2"
RELEASE_ID = 0143
REVISION_ID = 0000
/* QUALITY DATA ELEMENTS */
DATA_QUALITY_ID = 1
DATA_QUALITY_DESC = "Data calculated based on original SPICE kernels"
/* TIME DATA ELEMENTS */
SPACECRAFT_CLOCK_START_COUNT = "1/0490520339.25683"
SPACECRAFT_CLOCK_STOP_COUNT = "1/0490520597.65393"
START_TIME = 2018-11-17T07:40:16.970Z
STOP_TIME = 2018-11-17T07:43:05.412Z
/* ORBITAL DATA ELEMENTS */
ASCENDING_NODE_LONGITUDE = 221.06
MAXIMUM_RESOLUTION = 53.7
FOOTPRINT_POINT_LATITUDE = (-29.6981,-29.6829,-29.6646,-29.6537, -29.6418,-29.5044,-29.2541,-29.0039, -28.7577,-28.5158,-28.274,-28.0325, -27.7908,-27.5496,-27.3085,-26.9471, -26.7063,-26.4657,-26.2251,-25.9847, -25.7445,-25.3845,-25.1444,-24.9048, -24.6651,-24.3056,-24.0663,-23.8267, -23.5874,-23.3482,-23.1091,-22.8702, -22.5118,-22.1536,-21.9149,-21.6764, -21.438,-21.1998,-20.9614,-20.7233, -20.4852,-20.2471,-20.0091,-19.7657, -19.5199,-19.2742,-19.0287,-18.7831, -18.5377,-18.1696,-17.9244,-17.5566, -17.5288,-17.5415,-17.5559,-17.5712, -17.7013,-17.9465,-18.1919,-18.4372, -18.6826,-18.9281,-19.1737,-19.5423, -19.7881,-20.152,-20.3901,-20.7475, -20.9857,-21.224,-21.5818,-21.9395, -22.1782,-22.417,-22.7756,-23.0147, -23.3737,-23.613,-23.8527,-24.2121, -24.5718,-24.8117,-25.1718,-25.4119, -25.6521,-25.8924,-26.2534,-26.6145, -26.8554,-27.0966,-27.4584,-27.6997, -27.9412,-28.3041,-28.5462,-28.7885, -29.0336,-29.2843,-29.5352,-29.6981)
FOOTPRINT_POINT_LONGITUDE = (266.047,265.754,265.411,265.207, 264.991,264.814,264.821,264.828,264.834 ,264.84,264.847,264.852,264.858,264.864 ,264.869,264.877,264.882,264.887, 264.892,264.896,264.901,264.907,264.911 ,264.915,264.919,264.925,264.928, 264.931,264.935,264.938,264.941,264.944 ,264.948,264.952,264.954,264.957, 264.959,264.961,264.963,264.965,264.967 ,264.968,264.97,264.971,264.973,264.974 ,264.975,264.976,264.977,264.979,264.98 ,264.98,265.26,265.495,265.764,266.056, 266.183,266.183,266.183,266.182,266.182 ,266.182,266.182,266.181,266.181, 266.181,266.181,266.181,266.18,266.18, 266.18,266.18,266.179,266.179,266.179, 266.179,266.179,266.179,266.179,266.179 ,266.178,266.178,266.178,266.178, 266.178,266.177,266.177,266.177,266.177 ,266.177,266.176,266.176,266.176, 266.175,266.175,266.175,266.175,266.175 ,266.174,266.047)
ORBIT_NUMBER = 18822
ORBITAL_ECCENTRICITY = 0.578
ORBITAL_INCLINATION = 86.95
ORBITAL_SEMIMAJOR_AXIS = 8840.81
PERIAPSIS_ALTITUDE = 334.25
PERIAPSIS_ARGUMENT_ANGLE = 335.81
PERIAPSIS_TIME = 2018-11-17T07:41:16.000Z
SPACECRAFT_ORIENTATION = (0.0,1.0,0.0)
^MEX_ORIENTATION_DESC = "MEX_ORIENTATION_DESC.TXT"
SPACECRAFT_POINTING_MODE = INERT
^MEX_POINTING_DESC = "MEX_POINTING_DESC.TXT"
RIGHT_ASCENSION = 64.987
DECLINATION = 42.637
OFFSET_ANGLE = -1e+32
SPACECRAFT_SOLAR_DISTANCE = 2.10611e+08
TARGET_NAME = MARS
/* CAMERA DATA ELEMENTS */
DETECTOR_TEMPERATURE = 18.5744
FOCAL_PLANE_TEMPERATURE = 11.234
INST_CMPRS_NAME = "DISCRETE COSINE TRANSFORMATION (DCT)"
INST_CMPRS_RATIO = 6.35517
INST_CMPRS_QUALITY = 0
INST_CMPRS_QUANTZ_TBL_ID = 0
INSTRUMENT_TEMPERATURE = 12.4574
LENS_TEMPERATURE = 11.4379
MACROPIXEL_SIZE = 4
MISSING_FRAMES = 0
PIXEL_SUBSAMPLING_FLAG = N
SIGNAL_CHAIN_ID = 3
/* RADIOMETRIC DATA ELEMENTS */
BANDWIDTH = 174.0
CENTER_FILTER_WAVELENGTH = 675.0
RADIANCE_OFFSET = 2.79997
RADIANCE_SCALING_FACTOR = 0.0230909
REFLECTANCE_SCALING_FACTOR = 0.000550918
MEX:REFLECTANCE_OFFSET = 0.0668037
/* IMAGE OBJECT DEFINITIONS */
OBJECT = IMAGE
  INTERCHANGE_FORMAT = BINARY
  LINES = 16299
  LINE_SAMPLES = 1562
  SAMPLE_TYPE = UNSIGNED_INTEGER
  SAMPLE_BITS = 8
  BANDS = 1
  BAND_STORAGE_TYPE = BAND_SEQUENTIAL
  MAXIMUM = 255
  MEAN = 120.742
  MINIMUM = 1
  STANDARD_DEVIATION = 18.2827
END_OBJECT = IMAGE
/* MAP OBJECT DEFINITIONS */
OBJECT = IMAGE_MAP_PROJECTION
  ^DATA_SET_MAP_PROJECTION_CATALOG= "DSMAP.CAT"
  A_AXIS_RADIUS = 3396.0
  B_AXIS_RADIUS = 3396.0
  C_AXIS_RADIUS = 3396.0
  CENTER_LATITUDE = 0.0
  CENTER_LONGITUDE = 266.0
  COORDINATE_SYSTEM_NAME = PLANETOGRAPHIC
  COORDINATE_SYSTEM_TYPE = "BODY-FIXED ROTATING"
  EASTERNMOST_LONGITUDE = 266.183
  FIRST_STANDARD_PARALLEL = "N/A"
  LINE_FIRST_PIXEL = 1
  LINE_LAST_PIXEL = 16299
  LINE_PROJECTION_OFFSET = -18958.625
  MAP_PROJECTION_ROTATION = 0.0
  MAP_PROJECTION_TYPE = SINUSOIDAL
  MAP_RESOLUTION = 1185.42760773333
  MAP_SCALE = 0.05
  MAXIMUM_LATITUDE = -17.5288
  MINIMUM_LATITUDE = -29.6981
  POSITIVE_LONGITUDE_DIRECTION = EAST
  REFERENCE_LATITUDE = "N/A"
  REFERENCE_LONGITUDE = "N/A"
  SAMPLE_FIRST_PIXEL = 1
  SAMPLE_LAST_PIXEL = 1562
  SAMPLE_PROJECTION_OFFSET = 1193.125
  SECOND_STANDARD_PARALLEL = "N/A"
  WESTERNMOST_LONGITUDE = 264.814
END_OBJECT = IMAGE_MAP_PROJECTION
/* The JPEG2000 image data file associated with this label. */
OBJECT = COMPRESSED_FILE
  FILE_NAME = "HI822_0001_P13.JP2"
  RECORD_TYPE = UNDEFINED
  FILE_RECORDS = UNK
  ENCODING_TYPE = "JP2"
  INTERCHANGE_FORMAT = BINARY
  UNCOMPRESSED_FILE_NAME = "HI822_0001_P13.IMG"
  REQUIRED_STORAGE_BYTES = "25479344"
  ^DESCRIPTION = "JP2INFO.TXT"
END_OBJECT = COMPRESSED_FILE
END
