PDS_VERSION_ID = PDS3
/* FILE DATA ELEMENTS */
RECORD_TYPE = STREAM
/* POINTERS TO DATA OBJECTS */
^COMPRESSED_FILE = "HI823_0000_P13.JP2"
/* IDENTIFICATION DATA ELEMENTS */
DATA_SET_ID = "MEX-M-HRSC-5-REFDR-MAPPROJECTED-V3.0"
DATA_SET_NAME = "MARS EXPRESS HRSC MAP PROJECTED REFDR V3.0"
DETECTOR_ID = MEX_HRSC_P1
EVENT_TYPE = "MARS-REGIONAL-MAPPING-Im-Fl"
INSTRUMENT_HOST_ID = MEX
INSTRUMENT_HOST_NAME = "MARS EXPRESS"
INSTRUMENT_ID = HRSC
INSTRUMENT_NAME = "HIGH RESOLUTION STEREO CAMERA"
MISSION_NAME = "MARS EXPRESS"
MISSION_PHASE_NAME = ME_Phase_39
PROCESSING_LEVEL_ID = 3
PRODUCT_CREATION_TIME = 2019-02-22T11:38:04.000Z
PRODUCT_ID = "HI823_0000_P13.JP2"
RELEASE_ID = 0143
REVISION_ID = 0000
/* QUALITY DATA ELEMENTS */
DATA_QUALITY_ID = 1
DATA_QUALITY_DESC = "Data calculated based on original SPICE kernels"
/* TIME DATA ELEMENTS */
SPACECRAFT_CLOCK_START_COUNT = "1/0490545465.24943"
SPACECRAFT_CLOCK_STOP_COUNT = "1/0490545666.31951"
START_TIME = 2018-11-17T14:39:51.278Z
STOP_TIME = 2018-11-17T14:41:27.299Z
/* ORBITAL DATA ELEMENTS */
ASCENDING_NODE_LONGITUDE = 221.04
MAXIMUM_RESOLUTION = 27.3
FOOTPRINT_POINT_LATITUDE = (-27.1474,-27.1337,-27.1162,-27.1053, -27.0928,-26.959,-26.8213,-26.6834, -26.5455,-26.4074,-26.2005,-26.0642, -25.9247,-25.7871,-25.6482,-25.4414, -25.304,-25.1663,-25.0289,-24.8915, -24.754,-24.6167,-24.4792,-24.3419, -24.2045,-24.0671,-23.9296,-23.7916, -23.6544,-23.3869,-23.1813,-23.0442, -22.9072,-22.7701,-22.6329,-22.4931, -22.2872,-22.1516,-22.015,-21.8783, -21.7414,-21.6039,-21.4673,-21.3309, -21.1953,-21.0582,-20.9219,-20.781, -20.6404,-20.4997,-20.3586,-20.1965, -20.2094,-20.2249,-20.2393,-20.2492, -20.3303,-20.4714,-20.6122,-20.7531, -20.9645,-21.1019,-21.2386,-21.3754, -21.5103,-21.7157,-21.921,-22.058, -22.2632,-22.4002,-22.5372,-22.6741, -22.8112,-22.9484,-23.1531,-23.2896, -23.4286,-23.635,-23.772,-23.9072, -24.1084,-24.2464,-24.3856,-24.5907, -24.7284,-24.935,-25.0728,-25.2796, -25.4868,-25.6943,-25.9009,-26.0387, -26.1767,-26.3152,-26.4534,-26.6604, -26.7985,-26.9366,-27.0748,-27.1474)
FOOTPRINT_POINT_LONGITUDE = (163.94,163.673,163.343,163.14,162.912, 162.751,162.753,162.756,162.759,162.761 ,162.766,162.767,162.771,162.773, 162.776,162.78,162.783,162.785,162.787, 162.789,162.791,162.794,162.796,162.798 ,162.8,162.802,162.804,162.806,162.808, 162.807,162.809,162.811,162.813,162.814 ,162.816,162.82,162.822,162.823,162.824 ,162.825,162.826,162.828,162.829,162.83 ,162.83,162.832,162.833,162.834,162.834 ,162.835,162.836,162.884,163.113, 163.402,163.678,163.871,164.079,164.079 ,164.079,164.078,164.078,164.078, 164.078,164.078,164.076,164.076,164.076 ,164.076,164.076,164.076,164.076, 164.076,164.076,164.076,164.075,164.075 ,164.076,164.076,164.076,164.074, 164.072,164.072,164.073,164.072,164.072 ,164.072,164.072,164.073,164.073, 164.073,164.073,164.073,164.073,164.073 ,164.073,164.073,164.072,164.072, 164.072,163.94)
ORBIT_NUMBER = 18823
ORBITAL_ECCENTRICITY = 0.578
ORBITAL_INCLINATION = 86.96
ORBITAL_SEMIMAJOR_AXIS = 8829.29
PERIAPSIS_ALTITUDE = 335.01
PERIAPSIS_ARGUMENT_ANGLE = 335.67
PERIAPSIS_TIME = 2018-11-17T14:40:13.000Z
SPACECRAFT_ORIENTATION = (0.0,1.0,0.0)
^MEX_ORIENTATION_DESC = "MEX_ORIENTATION_DESC.TXT"
SPACECRAFT_POINTING_MODE = INERT
^MEX_POINTING_DESC = "MEX_POINTING_DESC.TXT"
RIGHT_ASCENSION = 64.818
DECLINATION = 42.75
OFFSET_ANGLE = -1e+32
SPACECRAFT_SOLAR_DISTANCE = 2.10646e+08
TARGET_NAME = MARS
/* CAMERA DATA ELEMENTS */
DETECTOR_TEMPERATURE = 17.7588
FOCAL_PLANE_TEMPERATURE = 11.0301
INST_CMPRS_NAME = "DISCRETE COSINE TRANSFORMATION (DCT)"
INST_CMPRS_RATIO = 7.40739
INST_CMPRS_QUALITY = 0
INST_CMPRS_QUANTZ_TBL_ID = 0
INSTRUMENT_TEMPERATURE = 12.4574
LENS_TEMPERATURE = 11.0301
MACROPIXEL_SIZE = 2
MISSING_FRAMES = 0
PIXEL_SUBSAMPLING_FLAG = N
SIGNAL_CHAIN_ID = 3
/* RADIOMETRIC DATA ELEMENTS */
BANDWIDTH = 174.0
CENTER_FILTER_WAVELENGTH = 675.0
RADIANCE_OFFSET = 3.38715
RADIANCE_SCALING_FACTOR = 0.0212847
REFLECTANCE_SCALING_FACTOR = 0.000507996
MEX:REFLECTANCE_OFFSET = 0.0808401
/* IMAGE OBJECT DEFINITIONS */
OBJECT = IMAGE
  INTERCHANGE_FORMAT = BINARY
  LINES = 13383
  LINE_SAMPLES = 2978
  SAMPLE_TYPE = UNSIGNED_INTEGER
  SAMPLE_BITS = 8
  BANDS = 1
  BAND_STORAGE_TYPE = BAND_SEQUENTIAL
  MAXIMUM = 255
  MEAN = 133.277
  MINIMUM = 7
  STANDARD_DEVIATION = 20.7439
END_OBJECT = IMAGE
/* MAP OBJECT DEFINITIONS */
OBJECT = IMAGE_MAP_PROJECTION
  ^DATA_SET_MAP_PROJECTION_CATALOG= "DSMAP.CAT"
  A_AXIS_RADIUS = 3396.0
  B_AXIS_RADIUS = 3396.0
  C_AXIS_RADIUS = 3396.0
  CENTER_LATITUDE = 0.0
  CENTER_LONGITUDE = 164.0
  COORDINATE_SYSTEM_NAME = PLANETOGRAPHIC
  COORDINATE_SYSTEM_TYPE = "BODY-FIXED ROTATING"
  EASTERNMOST_LONGITUDE = 164.079
  FIRST_STANDARD_PARALLEL = "N/A"
  LINE_FIRST_PIXEL = 1
  LINE_LAST_PIXEL = 13383
  LINE_PROJECTION_OFFSET = -47924.75
  MAP_PROJECTION_ROTATION = 0.0
  MAP_PROJECTION_TYPE = SINUSOIDAL
  MAP_RESOLUTION = 2370.85521546667
  MAP_SCALE = 0.025
  MAXIMUM_LATITUDE = -20.1965
  MINIMUM_LATITUDE = -27.1474
  POSITIVE_LONGITUDE_DIRECTION = EAST
  REFERENCE_LATITUDE = "N/A"
  REFERENCE_LONGITUDE = "N/A"
  SAMPLE_FIRST_PIXEL = 1
  SAMPLE_LAST_PIXEL = 2978
  SAMPLE_PROJECTION_OFFSET = 2544.25
  SECOND_STANDARD_PARALLEL = "N/A"
  WESTERNMOST_LONGITUDE = 162.751
END_OBJECT = IMAGE_MAP_PROJECTION
/* The JPEG2000 image data file associated with this label. */
OBJECT = COMPRESSED_FILE
  FILE_NAME = "HI823_0000_P13.JP2"
  RECORD_TYPE = UNDEFINED
  FILE_RECORDS = UNK
  ENCODING_TYPE = "JP2"
  INTERCHANGE_FORMAT = BINARY
  UNCOMPRESSED_FILE_NAME = "HI823_0000_P13.IMG"
  REQUIRED_STORAGE_BYTES = "39878398"
  ^DESCRIPTION = "JP2INFO.TXT"
END_OBJECT = COMPRESSED_FILE
END
