PDS_VERSION_ID = PDS3
/* FILE DATA ELEMENTS */
RECORD_TYPE = STREAM
/* POINTERS TO DATA OBJECTS */
^COMPRESSED_FILE = "HI823_0000_P23.JP2"
/* IDENTIFICATION DATA ELEMENTS */
DATA_SET_ID = "MEX-M-HRSC-5-REFDR-MAPPROJECTED-V3.0"
DATA_SET_NAME = "MARS EXPRESS HRSC MAP PROJECTED REFDR V3.0"
DETECTOR_ID = MEX_HRSC_P2
EVENT_TYPE = "MARS-REGIONAL-MAPPING-Im-Fl"
INSTRUMENT_HOST_ID = MEX
INSTRUMENT_HOST_NAME = "MARS EXPRESS"
INSTRUMENT_ID = HRSC
INSTRUMENT_NAME = "HIGH RESOLUTION STEREO CAMERA"
MISSION_NAME = "MARS EXPRESS"
MISSION_PHASE_NAME = ME_Phase_39
PROCESSING_LEVEL_ID = 3
PRODUCT_CREATION_TIME = 2019-02-22T11:38:04.000Z
PRODUCT_ID = "HI823_0000_P23.JP2"
RELEASE_ID = 0143
REVISION_ID = 0000
/* QUALITY DATA ELEMENTS */
DATA_QUALITY_ID = 1
DATA_QUALITY_DESC = "Data calculated based on original SPICE kernels"
/* TIME DATA ELEMENTS */
SPACECRAFT_CLOCK_START_COUNT = "1/0490545465.24943"
SPACECRAFT_CLOCK_STOP_COUNT = "1/0490545666.31951"
START_TIME = 2018-11-17T14:39:51.329Z
STOP_TIME = 2018-11-17T14:40:51.282Z
/* ORBITAL DATA ELEMENTS */
ASCENDING_NODE_LONGITUDE = 221.04
MAXIMUM_RESOLUTION = 27.3
FOOTPRINT_POINT_LATITUDE = (-24.6073,-24.6009,-24.5961,-24.5895, -24.5819,-24.5768,-24.5716,-24.5615, -24.556,-24.5504,-24.5432,-24.3603, -24.1893,-24.0185,-23.8486,-23.7629, -23.6751,-23.5858,-23.4977,-23.4114, -23.3256,-23.2398,-23.154,-23.0681, -22.9823,-22.8109,-22.6412,-22.5154, -22.3445,-22.2139,-22.1272,-22.0411, -21.955,-21.8689,-21.7399,-21.5693, -21.4832,-21.3538,-21.2654,-21.1342, -21.0069,-20.8351,-20.7043,-20.6173, -20.5305,-20.4438,-20.3573,-20.1971, -20.2058,-20.2114,-20.2206,-20.2278, -20.2362,-20.242,-20.2505,-20.2594, -20.2642,-20.3525,-20.4389,-20.5257, -20.6124,-20.699,-20.7853,-20.8715, -20.9583,-21.0451,-21.1315,-21.3025, -21.3887,-21.4761,-21.5636,-21.6494, -21.7356,-21.8215,-21.9074,-21.9933, -22.0792,-22.2083,-22.2944,-22.3803, -22.4662,-22.5521,-22.638,-22.7239, -22.8099,-22.8959,-22.9819,-23.068, -23.1539,-23.2398,-23.4119,-23.5812, -23.7523,-23.8383,-23.9246,-24.0127, -24.1003,-24.2729,-24.4431,-24.6073)
FOOTPRINT_POINT_LONGITUDE = (164.211,164.076,163.977,163.842, 163.694,163.596,163.498,163.313,163.215 ,163.117,162.993,162.938,162.94,162.942 ,162.945,162.946,162.946,162.945, 162.945,162.946,162.946,162.947,162.948 ,162.949,162.95,162.951,162.953,162.956 ,162.957,162.958,162.958,162.959, 162.959,162.96,162.961,162.962,162.963, 162.964,162.963,162.963,162.965,162.966 ,162.966,162.966,162.967,162.967, 162.967,162.968,163.127,163.225,163.385 ,163.508,163.667,163.778,163.937, 164.096,164.194,164.236,164.235,164.235 ,164.234,164.233,164.233,164.233, 164.232,164.231,164.231,164.231,164.23, 164.229,164.228,164.228,164.228,164.227 ,164.227,164.227,164.227,164.226, 164.226,164.225,164.225,164.225,164.224 ,164.224,164.224,164.223,164.223, 164.222,164.222,164.222,164.221,164.221 ,164.221,164.22,164.22,164.218,164.217, 164.215,164.215,164.211)
ORBIT_NUMBER = 18823
ORBITAL_ECCENTRICITY = 0.578
ORBITAL_INCLINATION = 86.96
ORBITAL_SEMIMAJOR_AXIS = 8829.29
PERIAPSIS_ALTITUDE = 335.01
PERIAPSIS_ARGUMENT_ANGLE = 335.67
PERIAPSIS_TIME = 2018-11-17T14:40:13.000Z
SPACECRAFT_ORIENTATION = (0.0,1.0,0.0)
^MEX_ORIENTATION_DESC = "MEX_ORIENTATION_DESC.TXT"
SPACECRAFT_POINTING_MODE = INERT
^MEX_POINTING_DESC = "MEX_POINTING_DESC.TXT"
RIGHT_ASCENSION = 64.818
DECLINATION = 42.75
OFFSET_ANGLE = -1e+32
SPACECRAFT_SOLAR_DISTANCE = 2.10646e+08
TARGET_NAME = MARS
/* CAMERA DATA ELEMENTS */
DETECTOR_TEMPERATURE = 19.39
FOCAL_PLANE_TEMPERATURE = 11.0301
INST_CMPRS_NAME = "DISCRETE COSINE TRANSFORMATION (DCT)"
INST_CMPRS_RATIO = 5.64904
INST_CMPRS_QUALITY = 0
INST_CMPRS_QUANTZ_TBL_ID = 0
INSTRUMENT_TEMPERATURE = 12.4574
LENS_TEMPERATURE = 11.0301
MACROPIXEL_SIZE = 2
MISSING_FRAMES = 0
PIXEL_SUBSAMPLING_FLAG = N
SIGNAL_CHAIN_ID = 3
/* RADIOMETRIC DATA ELEMENTS */
BANDWIDTH = 177.0
CENTER_FILTER_WAVELENGTH = 676.5
RADIANCE_OFFSET = 3.68195
RADIANCE_SCALING_FACTOR = 0.0201173
REFLECTANCE_SCALING_FACTOR = 0.000473297
MEX:REFLECTANCE_OFFSET = 0.0866249
/* IMAGE OBJECT DEFINITIONS */
OBJECT = IMAGE
  INTERCHANGE_FORMAT = BINARY
  LINES = 13383
  LINE_SAMPLES = 2978
  SAMPLE_TYPE = UNSIGNED_INTEGER
  SAMPLE_BITS = 8
  BANDS = 1
  BAND_STORAGE_TYPE = BAND_SEQUENTIAL
  MAXIMUM = 255
  MEAN = 134.193
  MINIMUM = 1
  STANDARD_DEVIATION = 22.0688
END_OBJECT = IMAGE
/* MAP OBJECT DEFINITIONS */
OBJECT = IMAGE_MAP_PROJECTION
  ^DATA_SET_MAP_PROJECTION_CATALOG= "DSMAP.CAT"
  A_AXIS_RADIUS = 3396.0
  B_AXIS_RADIUS = 3396.0
  C_AXIS_RADIUS = 3396.0
  CENTER_LATITUDE = 0.0
  CENTER_LONGITUDE = 164.0
  COORDINATE_SYSTEM_NAME = PLANETOGRAPHIC
  COORDINATE_SYSTEM_TYPE = "BODY-FIXED ROTATING"
  EASTERNMOST_LONGITUDE = 164.236
  FIRST_STANDARD_PARALLEL = "N/A"
  LINE_FIRST_PIXEL = 1
  LINE_LAST_PIXEL = 13383
  LINE_PROJECTION_OFFSET = -47924.75
  MAP_PROJECTION_ROTATION = 0.0
  MAP_PROJECTION_TYPE = SINUSOIDAL
  MAP_RESOLUTION = 2370.85521546667
  MAP_SCALE = 0.025
  MAXIMUM_LATITUDE = -20.1971
  MINIMUM_LATITUDE = -24.6073
  POSITIVE_LONGITUDE_DIRECTION = EAST
  REFERENCE_LATITUDE = "N/A"
  REFERENCE_LONGITUDE = "N/A"
  SAMPLE_FIRST_PIXEL = 1
  SAMPLE_LAST_PIXEL = 2978
  SAMPLE_PROJECTION_OFFSET = 2544.25
  SECOND_STANDARD_PARALLEL = "N/A"
  WESTERNMOST_LONGITUDE = 162.938
END_OBJECT = IMAGE_MAP_PROJECTION
/* The JPEG2000 image data file associated with this label. */
OBJECT = COMPRESSED_FILE
  FILE_NAME = "HI823_0000_P23.JP2"
  RECORD_TYPE = UNDEFINED
  FILE_RECORDS = UNK
  ENCODING_TYPE = "JP2"
  INTERCHANGE_FORMAT = BINARY
  UNCOMPRESSED_FILE_NAME = "HI823_0000_P23.IMG"
  REQUIRED_STORAGE_BYTES = "39878398"
  ^DESCRIPTION = "JP2INFO.TXT"
END_OBJECT = COMPRESSED_FILE
END
