PDS_VERSION_ID = PDS3
/* FILE DATA ELEMENTS */
RECORD_TYPE = STREAM
/* POINTERS TO DATA OBJECTS */
^COMPRESSED_FILE = "HI823_0000_S23.JP2"
/* IDENTIFICATION DATA ELEMENTS */
DATA_SET_ID = "MEX-M-HRSC-5-REFDR-MAPPROJECTED-V3.0"
DATA_SET_NAME = "MARS EXPRESS HRSC MAP PROJECTED REFDR V3.0"
DETECTOR_ID = MEX_HRSC_S2
EVENT_TYPE = "MARS-REGIONAL-MAPPING-Im-Fl"
INSTRUMENT_HOST_ID = MEX
INSTRUMENT_HOST_NAME = "MARS EXPRESS"
INSTRUMENT_ID = HRSC
INSTRUMENT_NAME = "HIGH RESOLUTION STEREO CAMERA"
MISSION_NAME = "MARS EXPRESS"
MISSION_PHASE_NAME = ME_Phase_39
PROCESSING_LEVEL_ID = 3
PRODUCT_CREATION_TIME = 2019-02-22T11:38:04.000Z
PRODUCT_ID = "HI823_0000_S23.JP2"
RELEASE_ID = 0143
REVISION_ID = 0000
/* QUALITY DATA ELEMENTS */
DATA_QUALITY_ID = 1
DATA_QUALITY_DESC = "Data calculated based on original SPICE kernels"
/* TIME DATA ELEMENTS */
SPACECRAFT_CLOCK_START_COUNT = "1/0490545465.24943"
SPACECRAFT_CLOCK_STOP_COUNT = "1/0490545666.31951"
START_TIME = 2018-11-17T14:39:51.278Z
STOP_TIME = 2018-11-17T14:40:41.758Z
/* ORBITAL DATA ELEMENTS */
ASCENDING_NODE_LONGITUDE = 221.04
MAXIMUM_RESOLUTION = 28.2
FOOTPRINT_POINT_LATITUDE = (-23.9538,-23.9498,-23.9439,-23.939, -23.934,-23.9264,-23.9211,-23.9157, -23.9102,-23.9046,-23.8981,-23.893, -23.8082,-23.6636,-23.5486,-23.4737, -23.4001,-23.2901,-23.1816,-23.0009, -22.9285,-22.7841,-22.6762,-22.5022, -22.3582,-22.2857,-22.2132,-22.1396, -22.0287,-21.9561,-21.8471,-21.7381, -21.5938,-21.4861,-21.3408,-21.2617, -21.1528,-21.0119,-20.9389,-20.8655, -20.7544,-20.6439,-20.5702,-20.4968, -20.4237,-20.3142,-20.2413,-20.206, -20.2131,-20.2182,-20.2232,-20.2286, -20.2335,-20.2388,-20.2434,-20.2501, -20.255,-20.2615,-20.2691,-20.4176, -20.4906,-20.5641,-20.6745,-20.7475, -20.8202,-20.93,-21.0029,-21.1496, -21.2568,-21.3293,-21.4024,-21.5149, -21.5873,-21.6962,-21.7688,-21.8412, -21.9135,-22.0222,-22.131,-22.2036, -22.2762,-22.3486,-22.421,-22.4934, -22.602,-22.7107,-22.7832,-22.892, -22.9644,-23.0371,-23.1096,-23.2181, -23.2915,-23.4347,-23.6125,-23.7207, -23.7932,-23.8663,-23.9421,-23.9538)
FOOTPRINT_POINT_LONGITUDE = (164.176,164.09,163.968,163.87,163.772, 163.625,163.527,163.43,163.332,163.234, 163.124,163.038,162.983,162.985,162.984 ,162.984,162.984,162.985,162.985, 162.987,162.988,162.989,162.99,162.993, 162.994,162.995,162.995,162.996,162.996 ,162.996,162.997,162.998,162.999,163.0, 163.001,163.0,163.0,163.002,163.002, 163.003,163.003,163.003,163.003,163.003 ,163.003,163.004,163.004,163.102, 163.226,163.312,163.398,163.484,163.57, 163.669,163.755,163.878,163.964,164.075 ,164.222,164.275,164.274,164.274, 164.273,164.272,164.272,164.271,164.271 ,164.27,164.27,164.269,164.269,164.267, 164.267,164.266,164.266,164.266,164.265 ,164.265,164.264,164.264,164.263, 164.263,164.263,164.262,164.262,164.261 ,164.261,164.26,164.26,164.259,164.259, 164.258,164.258,164.257,164.258,164.257 ,164.257,164.256,164.254,164.176)
ORBIT_NUMBER = 18823
ORBITAL_ECCENTRICITY = 0.578
ORBITAL_INCLINATION = 86.96
ORBITAL_SEMIMAJOR_AXIS = 8829.29
PERIAPSIS_ALTITUDE = 335.01
PERIAPSIS_ARGUMENT_ANGLE = 335.67
PERIAPSIS_TIME = 2018-11-17T14:40:13.000Z
SPACECRAFT_ORIENTATION = (0.0,1.0,0.0)
^MEX_ORIENTATION_DESC = "MEX_ORIENTATION_DESC.TXT"
SPACECRAFT_POINTING_MODE = INERT
^MEX_POINTING_DESC = "MEX_POINTING_DESC.TXT"
RIGHT_ASCENSION = 64.818
DECLINATION = 42.75
OFFSET_ANGLE = -1e+32
SPACECRAFT_SOLAR_DISTANCE = 2.10646e+08
TARGET_NAME = MARS
/* CAMERA DATA ELEMENTS */
DETECTOR_TEMPERATURE = 19.39
FOCAL_PLANE_TEMPERATURE = 11.0301
INST_CMPRS_NAME = "DISCRETE COSINE TRANSFORMATION (DCT)"
INST_CMPRS_RATIO = 9.1626
INST_CMPRS_QUALITY = 0
INST_CMPRS_QUANTZ_TBL_ID = 0
INSTRUMENT_TEMPERATURE = 12.4574
LENS_TEMPERATURE = 11.0301
MACROPIXEL_SIZE = 2
MISSING_FRAMES = 0
PIXEL_SUBSAMPLING_FLAG = N
SIGNAL_CHAIN_ID = 1
/* RADIOMETRIC DATA ELEMENTS */
BANDWIDTH = 178.0
CENTER_FILTER_WAVELENGTH = 679.0
RADIANCE_OFFSET = 4.11415
RADIANCE_SCALING_FACTOR = 0.0204626
REFLECTANCE_SCALING_FACTOR = 0.000480835
MEX:REFLECTANCE_OFFSET = 0.0966755
/* IMAGE OBJECT DEFINITIONS */
OBJECT = IMAGE
  INTERCHANGE_FORMAT = BINARY
  LINES = 13383
  LINE_SAMPLES = 2978
  SAMPLE_TYPE = UNSIGNED_INTEGER
  SAMPLE_BITS = 8
  BANDS = 1
  BAND_STORAGE_TYPE = BAND_SEQUENTIAL
  MAXIMUM = 255
  MEAN = 130.631
  MINIMUM = 1
  STANDARD_DEVIATION = 22.5578
END_OBJECT = IMAGE
/* MAP OBJECT DEFINITIONS */
OBJECT = IMAGE_MAP_PROJECTION
  ^DATA_SET_MAP_PROJECTION_CATALOG= "DSMAP.CAT"
  A_AXIS_RADIUS = 3396.0
  B_AXIS_RADIUS = 3396.0
  C_AXIS_RADIUS = 3396.0
  CENTER_LATITUDE = 0.0
  CENTER_LONGITUDE = 164.0
  COORDINATE_SYSTEM_NAME = PLANETOGRAPHIC
  COORDINATE_SYSTEM_TYPE = "BODY-FIXED ROTATING"
  EASTERNMOST_LONGITUDE = 164.275
  FIRST_STANDARD_PARALLEL = "N/A"
  LINE_FIRST_PIXEL = 1
  LINE_LAST_PIXEL = 13383
  LINE_PROJECTION_OFFSET = -47924.75
  MAP_PROJECTION_ROTATION = 0.0
  MAP_PROJECTION_TYPE = SINUSOIDAL
  MAP_RESOLUTION = 2370.85521546667
  MAP_SCALE = 0.025
  MAXIMUM_LATITUDE = -20.206
  MINIMUM_LATITUDE = -23.9538
  POSITIVE_LONGITUDE_DIRECTION = EAST
  REFERENCE_LATITUDE = "N/A"
  REFERENCE_LONGITUDE = "N/A"
  SAMPLE_FIRST_PIXEL = 1
  SAMPLE_LAST_PIXEL = 2978
  SAMPLE_PROJECTION_OFFSET = 2544.25
  SECOND_STANDARD_PARALLEL = "N/A"
  WESTERNMOST_LONGITUDE = 162.983
END_OBJECT = IMAGE_MAP_PROJECTION
/* The JPEG2000 image data file associated with this label. */
OBJECT = COMPRESSED_FILE
  FILE_NAME = "HI823_0000_S23.JP2"
  RECORD_TYPE = UNDEFINED
  FILE_RECORDS = UNK
  ENCODING_TYPE = "JP2"
  INTERCHANGE_FORMAT = BINARY
  UNCOMPRESSED_FILE_NAME = "HI823_0000_S23.IMG"
  REQUIRED_STORAGE_BYTES = "39878398"
  ^DESCRIPTION = "JP2INFO.TXT"
END_OBJECT = COMPRESSED_FILE
END
