PDS_VERSION_ID = PDS3
/* FILE DATA ELEMENTS */
RECORD_TYPE = STREAM
/* POINTERS TO DATA OBJECTS */
^COMPRESSED_FILE = "HI827_0000_S23.JP2"
/* IDENTIFICATION DATA ELEMENTS */
DATA_SET_ID = "MEX-M-HRSC-5-REFDR-MAPPROJECTED-V3.0"
DATA_SET_NAME = "MARS EXPRESS HRSC MAP PROJECTED REFDR V3.0"
DETECTOR_ID = MEX_HRSC_S2
EVENT_TYPE = "MARS-REGIONAL-MAPPING-Vo-Im"
INSTRUMENT_HOST_ID = MEX
INSTRUMENT_HOST_NAME = "MARS EXPRESS"
INSTRUMENT_ID = HRSC
INSTRUMENT_NAME = "HIGH RESOLUTION STEREO CAMERA"
MISSION_NAME = "MARS EXPRESS"
MISSION_PHASE_NAME = ME_Phase_39
PROCESSING_LEVEL_ID = 3
PRODUCT_CREATION_TIME = 2019-02-22T11:38:04.000Z
PRODUCT_ID = "HI827_0000_S23.JP2"
RELEASE_ID = 0143
REVISION_ID = 0000
/* QUALITY DATA ELEMENTS */
DATA_QUALITY_ID = 1
DATA_QUALITY_DESC = "Data calculated based on original SPICE kernels"
/* TIME DATA ELEMENTS */
SPACECRAFT_CLOCK_START_COUNT = "1/0490646039.25673"
SPACECRAFT_CLOCK_STOP_COUNT = "1/0490646202.10068"
START_TIME = 2018-11-18T18:34:30.926Z
STOP_TIME = 2018-11-18T18:36:17.532Z
/* ORBITAL DATA ELEMENTS */
ASCENDING_NODE_LONGITUDE = 220.96
MAXIMUM_RESOLUTION = 14
FOOTPRINT_POINT_LATITUDE = (-29.2524,-29.2419,-29.2224,-29.2106, -29.1983,-29.027,-28.8711,-28.7152, -28.5592,-28.3255,-28.169,-28.0129, -27.7787,-27.6224,-27.466,-27.2313, -27.0743,-26.923,-26.7714,-26.6197, -26.4683,-26.3167,-26.0139,-25.8621, -25.7097,-25.5576,-25.3295,-25.1772, -24.9489,-24.7208,-24.5682,-24.4154, -24.2629,-24.1102,-23.9573,-23.8047, -23.6516,-23.4983,-23.3453,-23.1923, -23.0391,-22.8856,-22.6554,-22.4257, -22.2722,-22.1192,-21.9655,-21.8107, -21.6566,-21.5037,-21.5194,-21.5383, -21.5507,-21.5686,-21.7222,-21.9527, -22.1065,-22.26,-22.4144,-22.645, -22.8749,-23.0278,-23.2573,-23.4112, -23.5643,-23.7169,-23.8697,-24.0226, -24.2518,-24.4046,-24.5567,-24.7098, -24.8622,-25.0144,-25.1667,-25.3187, -25.4708,-25.6232,-25.7754,-25.9276, -26.0797,-26.2311,-26.383,-26.5347, -26.7621,-26.9139,-27.1414,-27.2978, -27.4542,-27.6105,-27.7668,-28.0011, -28.1574,-28.3137,-28.5481,-28.7044, -28.8601,-29.0161,-29.2502,-29.2524)
FOOTPRINT_POINT_LONGITUDE = (115.486,115.278,114.915,114.708,114.5, 114.454,114.457,114.46,114.463,114.468, 114.471,114.473,114.478,114.481,114.483 ,114.487,114.49,114.492,114.495,114.497 ,114.499,114.502,114.506,114.509, 114.511,114.513,114.516,114.517,114.52, 114.523,114.525,114.526,114.528,114.53, 114.531,114.533,114.534,114.535,114.537 ,114.538,114.539,114.541,114.542, 114.544,114.545,114.547,114.548,114.548 ,114.549,114.625,114.887,115.199, 115.449,115.817,115.816,115.815,115.814 ,115.813,115.812,115.811,115.81,115.809 ,115.808,115.807,115.806,115.805, 115.804,115.803,115.802,115.801,115.801 ,115.8,115.799,115.798,115.798,115.797, 115.796,115.795,115.795,115.794,115.793 ,115.792,115.792,115.791,115.79,115.789 ,115.788,115.787,115.787,115.786, 115.785,115.784,115.783,115.783,115.781 ,115.781,115.78,115.779,115.778, 115.486)
ORBIT_NUMBER = 18827
ORBITAL_ECCENTRICITY = 0.578
ORBITAL_INCLINATION = 86.95
ORBITAL_SEMIMAJOR_AXIS = 8834.95
PERIAPSIS_ALTITUDE = 333.97
PERIAPSIS_ARGUMENT_ANGLE = 334.94
PERIAPSIS_TIME = 2018-11-18T18:35:57.000Z
SPACECRAFT_ORIENTATION = (0.0,1.0,0.0)
^MEX_ORIENTATION_DESC = "MEX_ORIENTATION_DESC.TXT"
SPACECRAFT_POINTING_MODE = INERT
^MEX_POINTING_DESC = "MEX_POINTING_DESC.TXT"
RIGHT_ASCENSION = 64.078
DECLINATION = 43.233
OFFSET_ANGLE = -1e+32
SPACECRAFT_SOLAR_DISTANCE = 2.1079e+08
TARGET_NAME = MARS
/* CAMERA DATA ELEMENTS */
DETECTOR_TEMPERATURE = 19.1861
FOCAL_PLANE_TEMPERATURE = 12.2535
INST_CMPRS_NAME = "DISCRETE COSINE TRANSFORMATION (DCT)"
INST_CMPRS_RATIO = 7.373
INST_CMPRS_QUALITY = 0
INST_CMPRS_QUANTZ_TBL_ID = 0
INSTRUMENT_TEMPERATURE = 13.0691
LENS_TEMPERATURE = 12.8652
MACROPIXEL_SIZE = 1
MISSING_FRAMES = 0
PIXEL_SUBSAMPLING_FLAG = N
SIGNAL_CHAIN_ID = 1
/* RADIOMETRIC DATA ELEMENTS */
BANDWIDTH = 178.0
CENTER_FILTER_WAVELENGTH = 679.0
RADIANCE_OFFSET = 3.44982
RADIANCE_SCALING_FACTOR = 0.0161593
REFLECTANCE_SCALING_FACTOR = 0.000380235
MEX:REFLECTANCE_OFFSET = 0.0811757
/* IMAGE OBJECT DEFINITIONS */
OBJECT = IMAGE
  INTERCHANGE_FORMAT = BINARY
  LINES = 36779
  LINE_SAMPLES = 6165
  SAMPLE_TYPE = UNSIGNED_INTEGER
  SAMPLE_BITS = 8
  BANDS = 1
  BAND_STORAGE_TYPE = BAND_SEQUENTIAL
  MAXIMUM = 255
  MEAN = 130.882
  MINIMUM = 1
  STANDARD_DEVIATION = 17.5344
END_OBJECT = IMAGE
/* MAP OBJECT DEFINITIONS */
OBJECT = IMAGE_MAP_PROJECTION
  ^DATA_SET_MAP_PROJECTION_CATALOG= "DSMAP.CAT"
  A_AXIS_RADIUS = 3396.0
  B_AXIS_RADIUS = 3396.0
  C_AXIS_RADIUS = 3396.0
  CENTER_LATITUDE = 0.0
  CENTER_LONGITUDE = 115.0
  COORDINATE_SYSTEM_NAME = PLANETOGRAPHIC
  COORDINATE_SYSTEM_TYPE = "BODY-FIXED ROTATING"
  EASTERNMOST_LONGITUDE = 115.817
  FIRST_STANDARD_PARALLEL = "N/A"
  LINE_FIRST_PIXEL = 1
  LINE_LAST_PIXEL = 36779
  LINE_PROJECTION_OFFSET = -101810.0
  MAP_PROJECTION_ROTATION = 0.0
  MAP_PROJECTION_TYPE = SINUSOIDAL
  MAP_RESOLUTION = 4741.71043093333
  MAP_SCALE = 0.0125
  MAXIMUM_LATITUDE = -21.5037
  MINIMUM_LATITUDE = -29.2524
  POSITIVE_LONGITUDE_DIRECTION = EAST
  REFERENCE_LATITUDE = "N/A"
  REFERENCE_LONGITUDE = "N/A"
  SAMPLE_FIRST_PIXEL = 1
  SAMPLE_LAST_PIXEL = 6165
  SAMPLE_PROJECTION_OFFSET = 2903.0
  SECOND_STANDARD_PARALLEL = "N/A"
  WESTERNMOST_LONGITUDE = 114.454
END_OBJECT = IMAGE_MAP_PROJECTION
/* The JPEG2000 image data file associated with this label. */
OBJECT = COMPRESSED_FILE
  FILE_NAME = "HI827_0000_S23.JP2"
  RECORD_TYPE = UNDEFINED
  FILE_RECORDS = UNK
  ENCODING_TYPE = "JP2"
  INTERCHANGE_FORMAT = BINARY
  UNCOMPRESSED_FILE_NAME = "HI827_0000_S23.IMG"
  REQUIRED_STORAGE_BYTES = "226773360"
  ^DESCRIPTION = "JP2INFO.TXT"
END_OBJECT = COMPRESSED_FILE
END
