PDS_VERSION_ID = PDS3
/* FILE DATA ELEMENTS */
RECORD_TYPE = STREAM
/* POINTERS TO DATA OBJECTS */
^COMPRESSED_FILE = "HI829_0000_S23.JP2"
/* IDENTIFICATION DATA ELEMENTS */
DATA_SET_ID = "MEX-M-HRSC-5-REFDR-MAPPROJECTED-V3.0"
DATA_SET_NAME = "MARS EXPRESS HRSC MAP PROJECTED REFDR V3.0"
DETECTOR_ID = MEX_HRSC_S2
EVENT_TYPE = "MARS-REGIONAL-MAPPING-Te-Im"
INSTRUMENT_HOST_ID = MEX
INSTRUMENT_HOST_NAME = "MARS EXPRESS"
INSTRUMENT_ID = HRSC
INSTRUMENT_NAME = "HIGH RESOLUTION STEREO CAMERA"
MISSION_NAME = "MARS EXPRESS"
MISSION_PHASE_NAME = ME_Phase_39
PROCESSING_LEVEL_ID = 3
PRODUCT_CREATION_TIME = 2019-02-22T11:38:04.000Z
PRODUCT_ID = "HI829_0000_S23.JP2"
RELEASE_ID = 0143
REVISION_ID = 0000
/* QUALITY DATA ELEMENTS */
DATA_QUALITY_ID = 1
DATA_QUALITY_DESC = "Data calculated based on original SPICE kernels"
/* TIME DATA ELEMENTS */
SPACECRAFT_CLOCK_START_COUNT = "1/0490696291.25675"
SPACECRAFT_CLOCK_STOP_COUNT = "1/0490696550.00151"
START_TIME = 2018-11-19T08:32:02.951Z
STOP_TIME = 2018-11-19T08:35:23.683Z
/* ORBITAL DATA ELEMENTS */
ASCENDING_NODE_LONGITUDE = 220.93
MAXIMUM_RESOLUTION = 27.7
FOOTPRINT_POINT_LATITUDE = (-31.6839,-31.6721,-31.659,-31.6361, -31.6086,-31.1716,-30.8801,-30.443, -30.0048,-29.7125,-29.2753,-28.9811, -28.6883,-28.3953,-28.1023,-27.8089, -27.5154,-27.0809,-26.654,-26.2266, -25.799,-25.371,-24.9424,-24.6567, -24.3702,-23.9404,-23.5102,-23.0793, -22.792,-22.5041,-22.2159,-21.7831, -21.4944,-21.2054,-20.7719,-20.3377, -20.0473,-19.6115,-19.3212,-19.0294, -18.7379,-18.446,-18.1539,-17.8586, -17.7071,-17.4046,-17.1023,-17.1197, -17.1323,-17.1432,-17.1548,-17.165, -17.1735,-17.331,-17.4827,-17.7852, -17.9365,-18.2319,-18.5234,-18.8145, -19.1063,-19.3979,-19.689,-19.979, -20.2693,-20.5589,-20.8489,-21.1379, -21.5716,-22.0046,-22.293,-22.5809, -23.0127,-23.4439,-23.731,-24.0175, -24.4465,-25.0198,-25.3056,-25.5915, -25.8769,-26.1625,-26.4479,-26.8748, -27.1593,-27.4472,-27.7411,-28.0349, -28.4723,-28.7686,-29.0615,-29.3544, -29.6472,-29.9396,-30.3781,-30.6704, -30.9624,-31.2542,-31.5459,-31.6839)
FOOTPRINT_POINT_LONGITUDE = (271.144,270.936,270.714,270.348, 270.001,270.013,270.022,270.034,270.045 ,270.052,270.063,270.069,270.075, 270.082,270.088,270.093,270.099,270.107 ,270.114,270.121,270.127,270.133, 270.139,270.143,270.146,270.151,270.155 ,270.159,270.161,270.164,270.166, 270.168,270.17,270.172,270.174,270.176, 270.176,270.177,270.178,270.178,270.179 ,270.179,270.179,270.178,270.178, 270.178,270.177,270.436,270.633,270.804 ,271.001,271.185,271.344,271.445, 271.444,271.442,271.441,271.439,271.437 ,271.436,271.434,271.432,271.43,271.428 ,271.426,271.425,271.423,271.421, 271.418,271.416,271.414,271.413,271.41, 271.407,271.406,271.404,271.402,271.399 ,271.397,271.395,271.394,271.392,271.39 ,271.388,271.386,271.384,271.382,271.38 ,271.379,271.376,271.374,271.372,271.37 ,271.368,271.365,271.363,271.36,271.358 ,271.356,271.144)
ORBIT_NUMBER = 18829
ORBITAL_ECCENTRICITY = 0.578
ORBITAL_INCLINATION = 86.95
ORBITAL_SEMIMAJOR_AXIS = 8837.99
PERIAPSIS_ALTITUDE = 333.88
PERIAPSIS_ARGUMENT_ANGLE = 334.61
PERIAPSIS_TIME = 2018-11-19T08:33:56.000Z
SPACECRAFT_ORIENTATION = (0.0,1.0,0.0)
^MEX_ORIENTATION_DESC = "MEX_ORIENTATION_DESC.TXT"
SPACECRAFT_POINTING_MODE = INERT
^MEX_POINTING_DESC = "MEX_POINTING_DESC.TXT"
RIGHT_ASCENSION = 63.726
DECLINATION = 43.457
OFFSET_ANGLE = -1e+32
SPACECRAFT_SOLAR_DISTANCE = 2.10863e+08
TARGET_NAME = MARS
/* CAMERA DATA ELEMENTS */
DETECTOR_TEMPERATURE = 19.1861
FOCAL_PLANE_TEMPERATURE = 11.8457
INST_CMPRS_NAME = "DISCRETE COSINE TRANSFORMATION (DCT)"
INST_CMPRS_RATIO = 8.83472
INST_CMPRS_QUALITY = 0
INST_CMPRS_QUANTZ_TBL_ID = 0
INSTRUMENT_TEMPERATURE = 13.0691
LENS_TEMPERATURE = 12.2535
MACROPIXEL_SIZE = 2
MISSING_FRAMES = 0
PIXEL_SUBSAMPLING_FLAG = N
SIGNAL_CHAIN_ID = 1
/* RADIOMETRIC DATA ELEMENTS */
BANDWIDTH = 178.0
CENTER_FILTER_WAVELENGTH = 679.0
RADIANCE_OFFSET = 3.15603
RADIANCE_SCALING_FACTOR = 0.0220874
REFLECTANCE_SCALING_FACTOR = 0.000520085
MEX:REFLECTANCE_OFFSET = 0.0743138
/* IMAGE OBJECT DEFINITIONS */
OBJECT = IMAGE
  INTERCHANGE_FORMAT = BINARY
  LINES = 34566
  LINE_SAMPLES = 3223
  SAMPLE_TYPE = UNSIGNED_INTEGER
  SAMPLE_BITS = 8
  BANDS = 1
  BAND_STORAGE_TYPE = BAND_SEQUENTIAL
  MAXIMUM = 255
  MEAN = 128.211
  MINIMUM = 1
  STANDARD_DEVIATION = 24.3007
END_OBJECT = IMAGE
/* MAP OBJECT DEFINITIONS */
OBJECT = IMAGE_MAP_PROJECTION
  ^DATA_SET_MAP_PROJECTION_CATALOG= "DSMAP.CAT"
  A_AXIS_RADIUS = 3396.0
  B_AXIS_RADIUS = 3396.0
  C_AXIS_RADIUS = 3396.0
  CENTER_LATITUDE = 0.0
  CENTER_LONGITUDE = 271.0
  COORDINATE_SYSTEM_NAME = PLANETOGRAPHIC
  COORDINATE_SYSTEM_TYPE = "BODY-FIXED ROTATING"
  EASTERNMOST_LONGITUDE = 271.445
  FIRST_STANDARD_PARALLEL = "N/A"
  LINE_FIRST_PIXEL = 1
  LINE_LAST_PIXEL = 34566
  LINE_PROJECTION_OFFSET = -40462.25
  MAP_PROJECTION_ROTATION = 0.0
  MAP_PROJECTION_TYPE = SINUSOIDAL
  MAP_RESOLUTION = 2370.85521546667
  MAP_SCALE = 0.025
  MAXIMUM_LATITUDE = -17.1023
  MINIMUM_LATITUDE = -31.6839
  POSITIVE_LONGITUDE_DIRECTION = EAST
  REFERENCE_LATITUDE = "N/A"
  REFERENCE_LONGITUDE = "N/A"
  SAMPLE_FIRST_PIXEL = 1
  SAMPLE_LAST_PIXEL = 3223
  SAMPLE_PROJECTION_OFFSET = 2396.25
  SECOND_STANDARD_PARALLEL = "N/A"
  WESTERNMOST_LONGITUDE = 270.001
END_OBJECT = IMAGE_MAP_PROJECTION
/* The JPEG2000 image data file associated with this label. */
OBJECT = COMPRESSED_FILE
  FILE_NAME = "HI829_0000_S23.JP2"
  RECORD_TYPE = UNDEFINED
  FILE_RECORDS = UNK
  ENCODING_TYPE = "JP2"
  INTERCHANGE_FORMAT = BINARY
  UNCOMPRESSED_FILE_NAME = "HI829_0000_S23.IMG"
  REQUIRED_STORAGE_BYTES = "111428779"
  ^DESCRIPTION = "JP2INFO.TXT"
END_OBJECT = COMPRESSED_FILE
END
