PDS_VERSION_ID = PDS3
/* FILE DATA ELEMENTS */
RECORD_TYPE = STREAM
/* POINTERS TO DATA OBJECTS */
^COMPRESSED_FILE = "HI832_0000_ND3.JP2"
/* IDENTIFICATION DATA ELEMENTS */
DATA_SET_ID = "MEX-M-HRSC-5-REFDR-MAPPROJECTED-V3.0"
DATA_SET_NAME = "MARS EXPRESS HRSC MAP PROJECTED REFDR V3.0"
DETECTOR_ID = MEX_HRSC_NADIR
EVENT_TYPE = "MARS-REGIONAL-MAPPING-Im-Fl"
INSTRUMENT_HOST_ID = MEX
INSTRUMENT_HOST_NAME = "MARS EXPRESS"
INSTRUMENT_ID = HRSC
INSTRUMENT_NAME = "HIGH RESOLUTION STEREO CAMERA"
MISSION_NAME = "MARS EXPRESS"
MISSION_PHASE_NAME = ME_Phase_39
PROCESSING_LEVEL_ID = 3
PRODUCT_CREATION_TIME = 2019-02-22T11:38:04.000Z
PRODUCT_ID = "HI832_0000_ND3.JP2"
RELEASE_ID = 0143
REVISION_ID = 0000
/* QUALITY DATA ELEMENTS */
DATA_QUALITY_ID = 1
DATA_QUALITY_DESC = "Data calculated based on original SPICE kernels"
/* TIME DATA ELEMENTS */
SPACECRAFT_CLOCK_START_COUNT = "1/0490771770.23967"
SPACECRAFT_CLOCK_STOP_COUNT = "1/0490772003.48461"
START_TIME = 2018-11-20T05:30:28.536Z
STOP_TIME = 2018-11-20T05:33:24.521Z
/* ORBITAL DATA ELEMENTS */
ASCENDING_NODE_LONGITUDE = 220.88
MAXIMUM_RESOLUTION = 13.4
FOOTPRINT_POINT_LATITUDE = (-27.2576,-27.2471,-27.2363,-27.2251, -27.2137,-27.2018,-26.9558,-26.7056, -26.458,-26.0863,-25.7148,-25.4671, -25.2195,-24.8482,-24.477,-24.2296, -23.9822,-23.7348,-23.4874,-23.1165, -22.8691,-22.6218,-22.3745,-22.1272, -21.7563,-21.5027,-21.247,-20.9915, -20.6082,-20.3527,-20.0971,-19.8415, -19.5858,-19.2024,-18.9468,-18.5628, -18.3066,-17.9243,-17.6684,-17.4127, -17.2838,-17.1549,-16.8989,-16.6449, -16.3888,-16.1327,-15.8763,-15.4917, -15.2351,-14.9787,-14.7225,-14.5858, -14.6003,-14.6107,-14.6221,-14.6324, -14.6422,-14.8986,-15.2815,-15.5396, -15.7956,-16.0517,-16.4357,-16.6916, -17.0754,-17.3312,-17.5871,-17.9709, -18.2266,-18.6102,-18.8658,-19.1214, -19.377,-19.6327,-19.8884,-20.2718, -20.527,-20.7826,-21.0383,-21.4216, -21.8039,-22.0513,-22.2986,-22.546, -22.9172,-23.2883,-23.5358,-23.7833, -24.1544,-24.4019,-24.6495,-25.0204, -25.3926,-25.7641,-26.1363,-26.3843, -26.6319,-26.8804,-27.1286,-27.2576)
FOOTPRINT_POINT_LONGITUDE = (324.238,324.033,323.826,323.617, 323.407,323.195,323.079,323.093,323.099 ,323.108,323.116,323.122,323.127, 323.135,323.141,323.145,323.15,323.154, 323.157,323.162,323.165,323.168,323.171 ,323.174,323.181,323.183,323.181, 323.182,323.185,323.186,323.187,323.188 ,323.188,323.189,323.19,323.187,323.185 ,323.19,323.189,323.188,323.185,323.181 ,323.18,323.184,323.183,323.181,323.178 ,323.175,323.172,323.169,323.167, 323.402,323.662,323.856,324.074,324.277 ,324.473,324.473,324.473,324.473, 324.473,324.473,324.472,324.472,324.472 ,324.471,324.471,324.47,324.47,324.469, 324.468,324.468,324.467,324.466,324.466 ,324.464,324.463,324.462,324.461,324.46 ,324.458,324.457,324.455,324.454, 324.452,324.45,324.448,324.446,324.444, 324.442,324.44,324.437,324.434,324.431, 324.427,324.425,324.423,324.42,324.417, 324.238)
ORBIT_NUMBER = 18832
ORBITAL_ECCENTRICITY = 0.578
ORBITAL_INCLINATION = 86.97
ORBITAL_SEMIMAJOR_AXIS = 8826.41
PERIAPSIS_ALTITUDE = 334.06
PERIAPSIS_ARGUMENT_ANGLE = 334.09
PERIAPSIS_TIME = 2018-11-20T05:30:41.000Z
SPACECRAFT_ORIENTATION = (0.0,1.0,0.0)
^MEX_ORIENTATION_DESC = "MEX_ORIENTATION_DESC.TXT"
SPACECRAFT_POINTING_MODE = INERT
^MEX_POINTING_DESC = "MEX_POINTING_DESC.TXT"
RIGHT_ASCENSION = 63.171
DECLINATION = 43.827
OFFSET_ANGLE = -1e+32
SPACECRAFT_SOLAR_DISTANCE = 2.10973e+08
TARGET_NAME = MARS
/* CAMERA DATA ELEMENTS */
DETECTOR_TEMPERATURE = 18.9822
FOCAL_PLANE_TEMPERATURE = 12.8652
INST_CMPRS_NAME = "DISCRETE COSINE TRANSFORMATION (DCT)"
INST_CMPRS_RATIO = 6.26031
INST_CMPRS_QUALITY = 0
INST_CMPRS_QUANTZ_TBL_ID = 0
INSTRUMENT_TEMPERATURE = 12.6613
LENS_TEMPERATURE = 12.6613
MACROPIXEL_SIZE = 1
MISSING_FRAMES = 0
PIXEL_SUBSAMPLING_FLAG = N
SIGNAL_CHAIN_ID = 0
/* RADIOMETRIC DATA ELEMENTS */
BANDWIDTH = 177.0
CENTER_FILTER_WAVELENGTH = 677.5
RADIANCE_OFFSET = 2.85272
RADIANCE_SCALING_FACTOR = 0.0125144
REFLECTANCE_SCALING_FACTOR = 0.000295903
MEX:REFLECTANCE_OFFSET = 0.0674523
/* IMAGE OBJECT DEFINITIONS */
OBJECT = IMAGE
  INTERCHANGE_FORMAT = BINARY
  LINES = 60171
  LINE_SAMPLES = 6377
  SAMPLE_TYPE = UNSIGNED_INTEGER
  SAMPLE_BITS = 8
  BANDS = 1
  BAND_STORAGE_TYPE = BAND_SEQUENTIAL
  MAXIMUM = 255
  MEAN = 108.443
  MINIMUM = 1
  STANDARD_DEVIATION = 26.9899
END_OBJECT = IMAGE
/* MAP OBJECT DEFINITIONS */
OBJECT = IMAGE_MAP_PROJECTION
  ^DATA_SET_MAP_PROJECTION_CATALOG= "DSMAP.CAT"
  A_AXIS_RADIUS = 3396.0
  B_AXIS_RADIUS = 3396.0
  C_AXIS_RADIUS = 3396.0
  CENTER_LATITUDE = 0.0
  CENTER_LONGITUDE = 324.0
  COORDINATE_SYSTEM_NAME = PLANETOGRAPHIC
  COORDINATE_SYSTEM_TYPE = "BODY-FIXED ROTATING"
  EASTERNMOST_LONGITUDE = 324.473
  FIRST_STANDARD_PARALLEL = "N/A"
  LINE_FIRST_PIXEL = 1
  LINE_LAST_PIXEL = 60171
  LINE_PROJECTION_OFFSET = -69120.0
  MAP_PROJECTION_ROTATION = 0.0
  MAP_PROJECTION_TYPE = SINUSOIDAL
  MAP_RESOLUTION = 4741.71043093333
  MAP_SCALE = 0.0125
  MAXIMUM_LATITUDE = -14.5858
  MINIMUM_LATITUDE = -27.2576
  POSITIVE_LONGITUDE_DIRECTION = EAST
  REFERENCE_LATITUDE = "N/A"
  REFERENCE_LONGITUDE = "N/A"
  SAMPLE_FIRST_PIXEL = 1
  SAMPLE_LAST_PIXEL = 6377
  SAMPLE_PROJECTION_OFFSET = 4206.0
  SECOND_STANDARD_PARALLEL = "N/A"
  WESTERNMOST_LONGITUDE = 323.079
END_OBJECT = IMAGE_MAP_PROJECTION
/* The JPEG2000 image data file associated with this label. */
OBJECT = COMPRESSED_FILE
  FILE_NAME = "HI832_0000_ND3.JP2"
  RECORD_TYPE = UNDEFINED
  FILE_RECORDS = UNK
  ENCODING_TYPE = "JP2"
  INTERCHANGE_FORMAT = BINARY
  UNCOMPRESSED_FILE_NAME = "HI832_0000_ND3.IMG"
  REQUIRED_STORAGE_BYTES = "383742352"
  ^DESCRIPTION = "JP2INFO.TXT"
END_OBJECT = COMPRESSED_FILE
END
