PDS_VERSION_ID = PDS3
/* FILE DATA ELEMENTS */
RECORD_TYPE = STREAM
/* POINTERS TO DATA OBJECTS */
^COMPRESSED_FILE = "HI838_0000_BL3.JP2"
/* IDENTIFICATION DATA ELEMENTS */
DATA_SET_ID = "MEX-M-HRSC-5-REFDR-MAPPROJECTED-V3.0"
DATA_SET_NAME = "MARS EXPRESS HRSC MAP PROJECTED REFDR V3.0"
DETECTOR_ID = MEX_HRSC_BLUE
EVENT_TYPE = "MARS-REGIONAL-MAPPING-Vo-Im-Fl"
INSTRUMENT_HOST_ID = MEX
INSTRUMENT_HOST_NAME = "MARS EXPRESS"
INSTRUMENT_ID = HRSC
INSTRUMENT_NAME = "HIGH RESOLUTION STEREO CAMERA"
MISSION_NAME = "MARS EXPRESS"
MISSION_PHASE_NAME = ME_Phase_39
PROCESSING_LEVEL_ID = 3
PRODUCT_CREATION_TIME = 2019-02-22T11:38:04.000Z
PRODUCT_ID = "HI838_0000_BL3.JP2"
RELEASE_ID = 0143
REVISION_ID = 0000
/* QUALITY DATA ELEMENTS */
DATA_QUALITY_ID = 1
DATA_QUALITY_DESC = "Data calculated based on original SPICE kernels"
/* TIME DATA ELEMENTS */
SPACECRAFT_CLOCK_START_COUNT = "1/0490922705.24937"
SPACECRAFT_CLOCK_STOP_COUNT = "1/0490922910.48897"
START_TIME = 2018-11-21T23:26:00.577Z
STOP_TIME = 2018-11-21T23:28:23.552Z
/* ORBITAL DATA ELEMENTS */
ASCENDING_NODE_LONGITUDE = 220.76
MAXIMUM_RESOLUTION = 54.9
FOOTPRINT_POINT_LATITUDE = (-19.8757,-19.8635,-19.8476,-19.8371, -19.7239,-19.5292,-19.3337,-19.0407, -18.8455,-18.5523,-18.3569,-18.1618, -17.9661,-17.77,-17.4759,-17.2803, -17.0841,-16.79,-16.5938,-16.3974, -16.103,-15.8078,-15.6115,-15.3164, -15.1196,-14.9228,-14.7265,-14.4324, -14.2355,-14.0383,-13.8394,-13.6409, -13.445,-13.2468,-13.0491,-12.8242, -12.5877,-12.3506,-11.9972,-11.6427, -11.4022,-11.1644,-10.9228,-10.6848, -10.4473,-10.0986,-9.85886,-9.62002, -9.38139,-9.38584,-9.40003,-9.41242, -9.43154,-9.43946,-9.44818,-9.68779, -10.0468,-10.2825,-10.6379,-10.9943, -11.3501,-11.5873,-11.8236,-12.0605, -12.4156,-12.6516,-12.8876,-13.2131, -13.411,-13.6083,-13.8058,-14.0036, -14.2998,-14.4978,-14.6939,-14.8893, -15.0855,-15.2819,-15.4783,-15.7732, -15.9701,-16.1662,-16.3626,-16.5591, -16.7551,-17.049,-17.343,-17.6372, -17.8335,-18.0294,-18.2257,-18.4214, -18.6171,-18.8124,-19.008,-19.2032, -19.3969,-19.5934,-19.8861,-19.8757)
FOOTPRINT_POINT_LONGITUDE = (72.0774,71.8428,71.5497,71.362,71.1921 ,71.1927,71.1927,71.1929,71.1932, 71.1932,71.1931,71.1933,71.1931,71.1927 ,71.192,71.1918,71.1913,71.1905,71.1899 ,71.1892,71.1882,71.1869,71.1861, 71.1847,71.1837,71.1827,71.1819,71.1807 ,71.1795,71.1783,71.1764,71.1747, 71.1738,71.1722,71.1707,71.169,71.167, 71.1648,71.1621,71.159,71.1557,71.1531, 71.1495,71.1469,71.1444,71.1427,71.1395 ,71.1366,71.1337,71.329,71.5648,71.787, 72.1402,72.3768,72.5386,72.5354,72.5308 ,72.529,72.5258,72.522,72.5184,72.516, 72.514,72.5116,72.5082,72.5062,72.5042, 72.5011,72.4993,72.4977,72.4961,72.4942 ,72.4916,72.4896,72.4885,72.4878, 72.4866,72.4853,72.484,72.4818,72.4802, 72.479,72.4776,72.4761,72.4749,72.4731, 72.4712,72.469,72.4675,72.4661,72.4645, 72.4632,72.4619,72.4608,72.4596,72.4585 ,72.4584,72.4565,72.4548,72.0774)
ORBIT_NUMBER = 18838
ORBITAL_ECCENTRICITY = 0.578
ORBITAL_INCLINATION = 86.97
ORBITAL_SEMIMAJOR_AXIS = 8831.84
PERIAPSIS_ALTITUDE = 332.93
PERIAPSIS_ARGUMENT_ANGLE = 333.05
PERIAPSIS_TIME = 2018-11-21T23:24:27.000Z
SPACECRAFT_ORIENTATION = (0.0,1.0,0.0)
^MEX_ORIENTATION_DESC = "MEX_ORIENTATION_DESC.TXT"
SPACECRAFT_POINTING_MODE = INERT
^MEX_POINTING_DESC = "MEX_POINTING_DESC.TXT"
RIGHT_ASCENSION = 62.09
DECLINATION = 44.485
OFFSET_ANGLE = -1e+32
SPACECRAFT_SOLAR_DISTANCE = 2.11197e+08
TARGET_NAME = MARS
/* CAMERA DATA ELEMENTS */
DETECTOR_TEMPERATURE = 18.9822
FOCAL_PLANE_TEMPERATURE = 12.6613
INST_CMPRS_NAME = "DISCRETE COSINE TRANSFORMATION (DCT)"
INST_CMPRS_RATIO = 5.65321
INST_CMPRS_QUALITY = 0
INST_CMPRS_QUANTZ_TBL_ID = 0
INSTRUMENT_TEMPERATURE = 12.6613
LENS_TEMPERATURE = 12.8652
MACROPIXEL_SIZE = 4
MISSING_FRAMES = 0
PIXEL_SUBSAMPLING_FLAG = N
SIGNAL_CHAIN_ID = 2
/* RADIOMETRIC DATA ELEMENTS */
BANDWIDTH = 76.0
CENTER_FILTER_WAVELENGTH = 444.0
RADIANCE_OFFSET = 0.491088
RADIANCE_SCALING_FACTOR = 0.00189981
REFLECTANCE_SCALING_FACTOR = 8.70649e-05
MEX:REFLECTANCE_OFFSET = 0.0225057
/* IMAGE OBJECT DEFINITIONS */
OBJECT = IMAGE
  INTERCHANGE_FORMAT = BINARY
  LINES = 12490
  LINE_SAMPLES = 1702
  SAMPLE_TYPE = UNSIGNED_INTEGER
  SAMPLE_BITS = 8
  BANDS = 1
  BAND_STORAGE_TYPE = BAND_SEQUENTIAL
  MAXIMUM = 255
  MEAN = 147.101
  MINIMUM = 1
  STANDARD_DEVIATION = 19.1834
END_OBJECT = IMAGE
/* MAP OBJECT DEFINITIONS */
OBJECT = IMAGE_MAP_PROJECTION
  ^DATA_SET_MAP_PROJECTION_CATALOG= "DSMAP.CAT"
  A_AXIS_RADIUS = 3396.0
  B_AXIS_RADIUS = 3396.0
  C_AXIS_RADIUS = 3396.0
  CENTER_LATITUDE = 0.0
  CENTER_LONGITUDE = 72.0
  COORDINATE_SYSTEM_NAME = PLANETOGRAPHIC
  COORDINATE_SYSTEM_TYPE = "BODY-FIXED ROTATING"
  EASTERNMOST_LONGITUDE = 72.5386
  FIRST_STANDARD_PARALLEL = "N/A"
  LINE_FIRST_PIXEL = 1
  LINE_LAST_PIXEL = 12490
  LINE_PROJECTION_OFFSET = -11081.375
  MAP_PROJECTION_ROTATION = 0.0
  MAP_PROJECTION_TYPE = SINUSOIDAL
  MAP_RESOLUTION = 1185.42760773333
  MAP_SCALE = 0.05
  MAXIMUM_LATITUDE = -9.38139
  MINIMUM_LATITUDE = -19.8861
  POSITIVE_LONGITUDE_DIRECTION = EAST
  REFERENCE_LATITUDE = "N/A"
  REFERENCE_LONGITUDE = "N/A"
  SAMPLE_FIRST_PIXEL = 1
  SAMPLE_LAST_PIXEL = 1702
  SAMPLE_PROJECTION_OFFSET = 1068.125
  SECOND_STANDARD_PARALLEL = "N/A"
  WESTERNMOST_LONGITUDE = 71.1337
END_OBJECT = IMAGE_MAP_PROJECTION
/* The JPEG2000 image data file associated with this label. */
OBJECT = COMPRESSED_FILE
  FILE_NAME = "HI838_0000_BL3.JP2"
  RECORD_TYPE = UNDEFINED
  FILE_RECORDS = UNK
  ENCODING_TYPE = "JP2"
  INTERCHANGE_FORMAT = BINARY
  UNCOMPRESSED_FILE_NAME = "HI838_0000_BL3.IMG"
  REQUIRED_STORAGE_BYTES = "21278404"
  ^DESCRIPTION = "JP2INFO.TXT"
END_OBJECT = COMPRESSED_FILE
END
