PDS_VERSION_ID = PDS3
/* FILE DATA ELEMENTS */
RECORD_TYPE = STREAM
/* POINTERS TO DATA OBJECTS */
^COMPRESSED_FILE = "HI841_0000_RE3.JP2"
/* IDENTIFICATION DATA ELEMENTS */
DATA_SET_ID = "MEX-M-HRSC-5-REFDR-MAPPROJECTED-V3.0"
DATA_SET_NAME = "MARS EXPRESS HRSC MAP PROJECTED REFDR V3.0"
DETECTOR_ID = MEX_HRSC_RED
EVENT_TYPE = "MARS-REGIONAL-MAPPING-Vo-Fl-Pf"
INSTRUMENT_HOST_ID = MEX
INSTRUMENT_HOST_NAME = "MARS EXPRESS"
INSTRUMENT_ID = HRSC
INSTRUMENT_NAME = "HIGH RESOLUTION STEREO CAMERA"
MISSION_NAME = "MARS EXPRESS"
MISSION_PHASE_NAME = ME_Phase_39
PROCESSING_LEVEL_ID = 3
PRODUCT_CREATION_TIME = 2019-02-22T11:38:04.000Z
PRODUCT_ID = "HI841_0000_RE3.JP2"
RELEASE_ID = 0143
REVISION_ID = 0000
/* QUALITY DATA ELEMENTS */
DATA_QUALITY_ID = 1
DATA_QUALITY_DESC = "Data calculated based on original SPICE kernels"
/* TIME DATA ELEMENTS */
SPACECRAFT_CLOCK_START_COUNT = "1/0490998041.24889"
SPACECRAFT_CLOCK_STOP_COUNT = "1/0490998246.46899"
START_TIME = 2018-11-22T20:21:17.821Z
STOP_TIME = 2018-11-22T20:23:40.241Z
/* ORBITAL DATA ELEMENTS */
ASCENDING_NODE_LONGITUDE = 220.7
MAXIMUM_RESOLUTION = 56.8
FOOTPRINT_POINT_LATITUDE = (-25.5007,-25.4877,-25.474,-25.4595, -25.4444,-25.4157,-25.2096,-24.9004, -24.6937,-24.3837,-24.1764,-23.8671, -23.5568,-23.3499,-23.1431,-22.9355, -22.6244,-22.4164,-22.2103,-22.0027, -21.6922,-21.4818,-21.1714,-20.9619, -20.6479,-20.4418,-20.2309,-20.0116, -19.6878,-19.4776,-19.2714,-19.0762, -18.7537,-18.5395,-18.3265,-18.1144, -17.9026,-17.6891,-17.4764,-17.2631, -17.05,-16.8362,-16.6211,-16.2998, -16.0854,-15.8701,-15.6556,-15.4412, -15.226,-14.836,-14.8676,-14.885, -14.9004,-14.9139,-14.9348,-15.2696, -15.4865,-15.6977,-15.9125,-16.1279, -16.3426,-16.5562,-16.7709,-16.9838, -17.3024,-17.5154,-17.727,-17.9392, -18.2568,-18.4688,-18.7865,-18.9989, -19.2106,-19.4237,-19.7403,-19.9509, -20.2651,-20.4752,-20.7895,-20.9991, -21.3093,-21.5096,-21.8218,-22.0302, -22.2409,-22.5516,-22.7595,-23.0705, -23.2782,-23.485,-23.6919,-23.8985, -24.1053,-24.3121,-24.52,-24.7269, -24.9289,-25.2421,-25.4506,-25.5007)
FOOTPRINT_POINT_LONGITUDE = (124.702,124.504,124.303,124.1,123.894, 123.636,123.638,123.642,123.644,123.647 ,123.648,123.652,123.654,123.656, 123.657,123.658,123.66,123.66,123.662, 123.663,123.665,123.663,123.665,123.664 ,123.663,123.665,123.663,123.656, 123.649,123.648,123.649,123.656,123.65, 123.646,123.643,123.64,123.638,123.634, 123.631,123.628,123.624,123.62,123.616, 123.61,123.606,123.601,123.597,123.593, 123.588,123.579,123.968,124.2,124.402, 124.589,124.891,125.027,125.028,125.028 ,125.029,125.029,125.03,125.03,125.031, 125.031,125.032,125.032,125.032,125.032 ,125.032,125.032,125.032,125.032, 125.032,125.032,125.031,125.031,125.03, 125.03,125.029,125.028,125.026,125.024, 125.023,125.021,125.021,125.019,125.017 ,125.015,125.014,125.012,125.011, 125.009,125.007,125.006,125.004,125.002 ,124.999,124.997,124.995,124.702)
ORBIT_NUMBER = 18841
ORBITAL_ECCENTRICITY = 0.578
ORBITAL_INCLINATION = 86.95
ORBITAL_SEMIMAJOR_AXIS = 8830.97
PERIAPSIS_ALTITUDE = 333.47
PERIAPSIS_ARGUMENT_ANGLE = 332.54
PERIAPSIS_TIME = 2018-11-22T20:21:20.000Z
SPACECRAFT_ORIENTATION = (0.0,1.0,0.0)
^MEX_ORIENTATION_DESC = "MEX_ORIENTATION_DESC.TXT"
SPACECRAFT_POINTING_MODE = INERT
^MEX_POINTING_DESC = "MEX_POINTING_DESC.TXT"
RIGHT_ASCENSION = 61.487
DECLINATION = 44.834
OFFSET_ANGLE = -1e+32
SPACECRAFT_SOLAR_DISTANCE = 2.11311e+08
TARGET_NAME = MARS
/* CAMERA DATA ELEMENTS */
DETECTOR_TEMPERATURE = 19.1861
FOCAL_PLANE_TEMPERATURE = 11.8457
INST_CMPRS_NAME = "DISCRETE COSINE TRANSFORMATION (DCT)"
INST_CMPRS_RATIO = 7.21542
INST_CMPRS_QUALITY = 0
INST_CMPRS_QUANTZ_TBL_ID = 0
INSTRUMENT_TEMPERATURE = 12.8652
LENS_TEMPERATURE = 12.4574
MACROPIXEL_SIZE = 4
MISSING_FRAMES = 0
PIXEL_SUBSAMPLING_FLAG = N
SIGNAL_CHAIN_ID = 2
/* RADIOMETRIC DATA ELEMENTS */
BANDWIDTH = 48.0
CENTER_FILTER_WAVELENGTH = 748.0
RADIANCE_OFFSET = 0.924452
RADIANCE_SCALING_FACTOR = 0.00590513
REFLECTANCE_SCALING_FACTOR = 0.000601727
MEX:REFLECTANCE_OFFSET = 0.0942007
/* IMAGE OBJECT DEFINITIONS */
OBJECT = IMAGE
  INTERCHANGE_FORMAT = BINARY
  LINES = 12557
  LINE_SAMPLES = 1659
  SAMPLE_TYPE = UNSIGNED_INTEGER
  SAMPLE_BITS = 8
  BANDS = 1
  BAND_STORAGE_TYPE = BAND_SEQUENTIAL
  MAXIMUM = 255
  MEAN = 104.978
  MINIMUM = 1
  STANDARD_DEVIATION = 28.3146
END_OBJECT = IMAGE
/* MAP OBJECT DEFINITIONS */
OBJECT = IMAGE_MAP_PROJECTION
  ^DATA_SET_MAP_PROJECTION_CATALOG= "DSMAP.CAT"
  A_AXIS_RADIUS = 3396.0
  B_AXIS_RADIUS = 3396.0
  C_AXIS_RADIUS = 3396.0
  CENTER_LATITUDE = 0.0
  CENTER_LONGITUDE = 124.0
  COORDINATE_SYSTEM_NAME = PLANETOGRAPHIC
  COORDINATE_SYSTEM_TYPE = "BODY-FIXED ROTATING"
  EASTERNMOST_LONGITUDE = 125.032
  FIRST_STANDARD_PARALLEL = "N/A"
  LINE_FIRST_PIXEL = 1
  LINE_LAST_PIXEL = 12557
  LINE_PROJECTION_OFFSET = -17617.875
  MAP_PROJECTION_ROTATION = 0.0
  MAP_PROJECTION_TYPE = SINUSOIDAL
  MAP_RESOLUTION = 1185.42760773333
  MAP_SCALE = 0.05
  MAXIMUM_LATITUDE = -14.836
  MINIMUM_LATITUDE = -25.5007
  POSITIVE_LONGITUDE_DIRECTION = EAST
  REFERENCE_LATITUDE = "N/A"
  REFERENCE_LONGITUDE = "N/A"
  SAMPLE_FIRST_PIXEL = 1
  SAMPLE_LAST_PIXEL = 1659
  SAMPLE_PROJECTION_OFFSET = 471.375
  SECOND_STANDARD_PARALLEL = "N/A"
  WESTERNMOST_LONGITUDE = 123.579
END_OBJECT = IMAGE_MAP_PROJECTION
/* The JPEG2000 image data file associated with this label. */
OBJECT = COMPRESSED_FILE
  FILE_NAME = "HI841_0000_RE3.JP2"
  RECORD_TYPE = UNDEFINED
  FILE_RECORDS = UNK
  ENCODING_TYPE = "JP2"
  INTERCHANGE_FORMAT = BINARY
  UNCOMPRESSED_FILE_NAME = "HI841_0000_RE3.IMG"
  REQUIRED_STORAGE_BYTES = "20851971"
  ^DESCRIPTION = "JP2INFO.TXT"
END_OBJECT = COMPRESSED_FILE
END
